Workbook

Sheet _
B15: 2026/09

Sheet Cuprins_ro
B2: Conturile internaționale ale Republicii Moldova în trimestrul II 2026 (date provizorii)
B4: I. Balanța de plăți a Republicii Moldova în trimestrul II 2026 (date provizorii)
B5: ='D1'!B5 -> Diagrama 1. Balanța comercială cu bunuri | C5: D1
B6: ='D2'!B5 -> Diagrama 2. Principalii parteneri comerciali ai Republicii Moldova, în trimestrul II 2026 (mil. EUR) | C6: D2
B7: ='D3'!B5 -> Diagrama 3. Structura pe țări a balanței comerțului exterior cu bunuri, în trimestrul II 2026 (mil. EUR) | C7: D3
B8: ='D4'!B5 -> Diagrama 4. Reexportul de bunuri, pe zone geografice (mil. EUR) | C8: D4
B9: ='D5'!B5 -> Diagrama 5. Balanța serviciilor de călătorii de afaceri, pe tipuri de cheltuieli (mil. EUR) | C9: D5
B10: ='D6'!B5 -> Diagrama 6. Balanța serviciilor de călătorii personale, pe tipuri de cheltuieli (mil. EUR) | C10: D6
B11: ='D7'!B5 -> Diagrama 7. Veniturile din investiții directe spre plată, în dinamică (mil. EUR) | C11: D7
B12: ='T1'!B3 -> Tabelul 1. Conturile curent, de capital şi financiar | C12: T1
B13: ='D8'!B5 -> Diagrama 8. Contul financiar, active și pasive (mil. EUR) | C13: D8
B14: ='D9'!B5 -> Diagrama 9. Alte investiţii, achiziția netă de active financiare (mil. EUR) | C14: D9
B15: ='D10'!B5 -> Diagrama 10. Alte investiţii, acumularea netă de pasive (mil. EUR) | C15: D10
B16: ='D11'!B5 -> Diagrama 11. Evoluția fluxurilor de active oficiale de rezervă, pe instrumente (mil. EUR) | C16: D11
B18: II. Poziția investițională internațională a Republicii Moldova la 30.06.2026 (date provizorii)
B19: ='D12'!B5 -> Diagrama 12. Componentele modificării poziţiei investiţionale internaţionale (mil. EUR) | C19: D12
B20: ='D13'!B5 -> Diagrama 13. Poziția investiţiilor directe**, capital propriu acumulat, pe principalele ţări (mil. EUR) – sectorul societăți care acceptă depozite | C20: D13
B21: ='D14'!B5 -> Diagrama 14. Poziția investiţiilor directe**, capital propriu acumulat, pe principalele ţări (mil. EUR) – Alte sectoare | C21: D14
B22: ='D15'!B5 -> Diagrama 15. Structura sectorială a activelor şi pasivelor financiare externe (%) | C22: D15
B23: ='D16'!B5 -> Diagrama 16. Structura valutară a poziției activelor financiare externe sub formă de numerar şi depozite ale societăților care acceptă depozite (%) | C23: D16
B24: ='D17'!B5 -> Diagrama 17. Structura valutară a poziției pasivelor externe sub formă de numerar şi depozite ale societăților care acceptă depozite (%) | C24: D17
B26: III. Datoria externă brută la 30.06.2026 (date provizorii)
B27: ='D18'!B5 -> Diagrama 18. Datoria externă brută, prezentare sectorială (mil. EUR) | C27: D18
B28: ='D19'!B5 -> Diagrama 19. Structura datoriei externe pe termen lung, pe tipuri de angajamente, la 30.06.2026 | C28: D19
B29: ='D20'!B5 -> Diagrama 20. Structura datoriei externe pe termen scurt, pe tipuri de angajamente, la 30.06.2026 | C29: D20
B30: ='T2'!B3 -> Tabelul 2. Datoria externă sub formă de împrumuturi, alocări de DST și investiții de portofoliu, detalii suplimentare (mil. EUR) | C30: T2
B31: ='D21'!B5 -> Diagrama 21. Structura împrumuturilor externe pe valute, la 30.06.2026 | C31: D21
B34: Note
B35: 1. În unele cazuri sunt posibile diferențe nesemnificative între totaluri și suma componentelor, ca urmare a rotunjirii datelor.
B36: 2. Indicatorii prezentați sunt calculați prin conversia datelor din USD în EUR, utilizând cursul de schimb USD/EUR bazat pe ratele de schimb oficiale, medii trimestriale (pentru fluxuri) sau la sfârșitul perioadei (pentru poziții).
B37: 3. Indicatorii privind împrumuturile pasive (inclusiv din cadrul investițiilor directe), fluxurile din BP și pozițiile din cadrul PII și DE, precum și dobânzile aferente acestora, au fost evaluați conform principiului dobânzii acumulate.

Sheet D1
B1: I. Balanța de plăți a Republicii Moldova în trimestrul II 2026 (date provizorii)
B3: Deficitul comerțului exterior cu bunuri s-a majorat în trimestrul II 2026 față de perioada similară a anului precedent, ca urmare a majorării importului în măsură mai mare decât creșterea exportului.
B5: Diagrama 1. Balanța comercială cu bunuri
B28: * date revizuite
C30: 2025 | G30: 2026
C31: I* | D31: II* | E31: III* | F31: IV* | G31: I* | H31: II
B32: Sold | C32: -1557.5095 | D32: -1531.9506 | E32: -1422.6668 | F32: -1593.4008 | G32: -1459.176 | H32: -1659.9878
B33: Export | C33: 656.5979 | D33: 559.79226 | E33: 756.09632 | F33: 865.43771 | G33: 728.52982 | H33: 676.1889
B34: Import | C34: 2214.1074 | D34: 2091.7429 | E34: 2178.7631 | F34: 2458.8385 | G34: 2187.7058 | H34: 2336.1767
B35: Sold / PIB (scala din dreapta) | C35: -41.42103 | D35: -36.418282 | E35: -27.349629 | F35: -32.741897 | G35: -37.76581 | H35: -37.907034

Sheet D2
B1: I. Balanța de plăți a Republicii Moldova în trimestrul II 2026 (date provizorii)
B3: Principalul partener comercial al Republicii Moldova, în trimestrul II 2026, atât la exportul, cât și la importul de bunuri, a rămas România.
B5: Diagrama 2. Principalii parteneri comerciali ai Republicii Moldova, în trimestrul II 2026 (mil. EUR)
B32: Sursa: Elaborat de BNM în baza datelor BNS
B33: * China continentală
C35: Export | D35: Import
B36: Bulgaria | C36: 20.650604 | D36: -49.785364
B37: Polonia | C37: 17.113893 | D37: -110.39746
B38: Italia | C38: 45.58541 | D38: -91.68309
B39: Cehia | C39: 71.127727 | D39: -83.609567
B40: China* | C40: 3.0344579 | D40: -179.86448
B41: Germania | C41: 41.549549 | D41: -162.24792
B42: Turcia | C42: 82.617038 | D42: -189.88241
B43: Ucraina | C43: 60.985743 | D43: -257.88168
B44: România | C44: 162.58445 | D44: -627.34044

Sheet D3
B1: I. Balanța de plăți a Republicii Moldova în trimestrul II 2026 (date provizorii)
B3: În trimestrul II 2026, Liban a fost țara cu cel mai mare excedent al balanței comerțului exterior cu bunuri cu Republica Moldova, iar România - cu cel mai mare deficit.
B5: Diagrama 3. Structura pe țări a balanței comerțului exterior cu bunuri, în trimestrul II 2026 (mil. EUR)
B34: Sursa: Date elaborate de BNM în baza datelor BNS, conform metodologiei balanței de plăți.
B35: * China continentală
B37: Deficit | F37: Excedent
B38: România | C38: -464.75599 | F38: Liban | G38: 7.5526226
B39: Ucraina | C39: -196.89594 | F39: Belarus | G39: 4.1499904
B40: China* | C40: -176.83003 | F40: Grecia | G40: 3.0432354
B41: Germania | C41: -120.69837 | F41: Irak | G41: 2.4738261
B42: Turcia | C42: -107.26537 | F42: Kazahstan | G42: 2.3194098
B43: Polonia | C43: -93.283564 | F43: Nigeria | G43: 1.6250321
B44: Italia | C44: -46.09768 | F44: Indonezia | G44: 1.4865024
B45: Olanda | C45: -43.87209 | F45: Kîrgîzstan | G45: 1.2727585
B46: SUA | C46: -41.831054 | F46: Arabia Saudită | G46: 1.1479805
B47: Ungaria | C47: -34.245147 | F47: Ghana | G47: 1.0655773

Sheet D4
B1: I. Balanța de plăți a Republicii Moldova în trimestrul II 2026 (date provizorii)
B3: În trimestrul II 2026, reexportul de bunuri s-a majorat ca rezultat al creșterii înregistrate cu alte țări, în timp ce reexportul cu țările UE s-a diminuat.
B5: Diagrama 4. Reexportul de bunuri, pe zone geografice (mil. EUR)
B26: Sursa: Date elaborate de BNM în baza datelor BNS, conform metodologiei balanței de plăți.
B27: * date revizuite
C29: 2025 | G29: 2026
C30: I* | D30: II* | E30: III* | F30: IV* | G30: I* | H30: II
B31: UE | C31: 31.545738 | D31: 36.788797 | E31: 36.184298 | F31: 33.49555 | G31: 29.503408 | H31: 33.843787
B32: Alte țări | C32: 46.821236 | D32: 40.509665 | E32: 40.737787 | F32: 55.936171 | G32: 40.049703 | H32: 45.407981
B33: Total | C33: 78.366974 | D33: 77.298462 | E33: 76.922085 | F33: 89.431722 | G33: 69.553112 | H33: 79.251769

Sheet D5
B1: I. Balanța de plăți a Republicii Moldova în trimestrul II 2026 (date provizorii)
B3: În trimestrul II 2026, atât exportul, cât și importul serviciilor de călătorii de afaceri s-au majorat față de trimestrul II 2025.
B5: Diagrama 5. Balanța serviciilor de călătorii de afaceri, pe tipuri de cheltuieli (mil. EUR)
B30: * date revizuite
D32: 2025 | H32: 2026
D33: I* | E33: II* | F33: III* | G33: IV* | H33: I* | I33: II
B34: Export | C34: Total | D34: 16.323035 | E34: 20.723642 | F34: 21.690741 | G34: 23.240712 | H34: 17.813767 | I34: 23.013861
C35: Cheltuielile muncitorilor sezonieri şi de frontieră | D35: 1.8661082 | E35: 1.9570146 | F35: 2.232674 | G35: 2.4631185 | H35: 1.8055198 | I35: 2.0385681
C36: Altele | D36: 14.456926 | E36: 18.766627 | F36: 19.458067 | G36: 20.777594 | H36: 16.008247 | I36: 20.975293
B37: Import | C37: Total | D37: -25.612097 | E37: -26.396928 | F37: -27.823028 | G37: -32.396567 | H37: -26.566183 | I37: -31.424859
C38: Cheltuielile muncitorilor sezonieri şi de frontieră | D38: -18.732261 | E38: -17.821042 | F38: -18.019692 | G38: -23.602731 | H38: -20.129898 | I38: -22.803152
C39: Altele | D39: -6.8798365 | E39: -8.575886 | F39: -9.8033361 | G39: -8.7938355 | H39: -6.4362851 | I39: -8.6217077

Sheet D6
B1: I. Balanța de plăți a Republicii Moldova în trimestrul II 2026 (date provizorii)
B3: În trimestrul II 2026, exportul serviciilor de călătorii personale s-a majorat, în timp ce importul s-a diminuat comparativ cu trimestrul II 2025.
B5: Diagrama 6. Balanța serviciilor de călătorii personale, pe tipuri de cheltuieli (mil. EUR)
B25: * date revizuite
D27: 2025 | H27: 2026
D28: I* | E28: II* | F28: III* | G28: IV* | H28: I* | I28: II
B29: Export | C29: Total | D29: 141.50006 | E29: 195.44516 | F29: 244.37653 | G29: 178.98382 | H29: 170.23782 | I29: 220.30314
C30: Cheltuieli de tratament | D30: 15.263506 | E30: 18.502203 | F30: 21.913192 | G30: 19.100146 | H30: 18.182839 | I30: 19.745888
C31: Cheltuieli de instruire | D31: 19.259883 | E31: 29.558147 | F31: 31.549601 | G31: 30.599921 | H31: 23.14296 | I31: 31.555979
C32: Altele | D32: 106.97667 | E32: 147.38481 | F32: 190.91374 | G32: 129.28375 | H32: 128.91202 | I32: 169.00128
B33: Import | C33: Total | D33: -118.30399 | E33: -164.7619 | F33: -200.42485 | G33: -152.68284 | H33: -137.7823 | I33: -154.54875
C34: Cheltuieli de tratament | D34: -8.5988978 | E34: -9.1011087 | F34: -10.440931 | G34: -12.889883 | H34: -11.23775 | I34: -9.0314613
C35: Cheltuieli de instruire | D35: -14.19561 | E35: -14.917031 | F35: -17.625615 | G35: -18.831629 | H35: -16.241227 | I35: -14.162408
C36: Altele | D36: -95.509486 | E36: -140.74376 | F36: -172.35831 | G36: -120.96133 | H36: -110.30333 | I36: -131.35488

Sheet D7
B1: I. Balanța de plăți a Republicii Moldova în trimestrul II 2026 (date provizorii)
B3: În trimestrul II 2026, veniturile din investiții directe ale nerezidenților, spre plată, s-au diminuat comparativ cu trimestrul II 2025, în special pe seama scăderii devidendelor.
B5: Diagrama 7. Veniturile din investiții directe spre plată, în dinamică (mil. EUR)
B29: * date revizuite
C31: 2025 | G31: 2026
C32: I* | D32: II* | E32: III* | F32: IV* | G32: I* | H32: II
B33: Venituri din investiţii directe (Dt) | C33: 121.04868 | D33: 185.46914 | E33: 191.33599 | F33: 187.20502 | G33: 123.30796 | H33: 168.21765
B34: Dividende | C34: 33.796577 | D34: 83.828503 | E34: 88.560958 | F34: 60.66426 | G34: 57.924465 | H34: 66.078724
B35: Profituri reinvestite | C35: 84.317863 | D35: 98.450013 | E35: 100.27868 | F35: 121.03743 | G35: 62.800518 | H35: 99.073979
B36: Dobânzi | C36: 2.9342403 | D36: 3.1906253 | E36: 2.4963539 | F36: 5.5033298 | G36: 2.5829737 | H36: 3.0649505

Sheet T1
B1: I. Balanța de plăți a Republicii Moldova în trimestrul II 2026 (date provizorii)
B3: Tabelul 1. Conturile curent, de capital şi financiar
C5: 2025 | G5: 2026 | I5: II 2026 / II 2025
C6: I* | D6: II* | E6: III* | F6: IV* | G6: I* | H6: II
C7: mil. EUR
B8: Contul curent (CC) | C8: -971.02324 | D8: -905.38731 | E8: -727.59341 | F8: -940.69007 | G8: -816.29574 | H8: -886.35618 | I8: {=_xlfn.IFS(H8/D8*100>200,CONCATENATE("de ",TEXT(ROUND(I12eD12,1),"0,0")," ori"),(H8/D8*100)-100>0,CONCATENATE("+",TEXT(ROUND((H8/D8*100-100),1),"0,0"),"%"),(H8/D8*100)-100<0,CONCATENATE(TEXT(ROUND((H8/D8*100-100),1),"0,0"),"%"))} -> -2,1%
B9: Contul de capital (CK) | C9: 6.1756104 | D9: 6.9393466 | E9: 16.155753 | F9: 20.247388 | G9: 7.6876053 | H9: 19.366255 | I9: {=_xlfn.IFS(H9/D9*100>200,CONCATENATE("de ",TEXT(ROUND(H9/D9,1),"0,0")," ori"),(H9/D9*100)-100>0,CONCATENATE("+",TEXT(ROUND((H9/D9*100-100),1),"0,0"),"%"),(H9/D9*100)-100<0,CONCATENATE(TEXT(ROUND((H9/D9*100-100),1),"0,0"),"%"))} -> de 2,8 ori
B10: Necesarul net de finanţare (CC+CK) | C10: -964.84763 | D10: -898.44796 | E10: -711.43765 | F10: -920.44268 | G10: -808.60814 | H10: -866.98993 | I10: {=_xlfn.IFS(H10/D10*100>200,CONCATENATE("de ",TEXT(ROUND(H10/D10,1),"0,0")," ori"),(H10/D10*100)-100>0,CONCATENATE("+",TEXT(ROUND((H10/D10*100-100),1),"0,0"),"%"),(H10/D10*100)-100<0,CONCATENATE(TEXT(ROUND((H10/D10*100-100),1),"0,0"),"%"))} -> -3,5%
B11: Necesarul net de finanţare (soldul contului financiar) | C11: -719.35231 | D11: -764.92838 | E11: -757.29775 | F11: -1049.1016 | G11: -634.68573 | H11: -896.20909 | I11: {=_xlfn.IFS(H11/D11*100>200,CONCATENATE("de ",TEXT(ROUND(H11/D11,1),"0,0")," ori"),(H11/D11*100)-100>0,CONCATENATE("+",TEXT(ROUND((H11/D11*100-100),1),"0,0"),"%"),(H11/D11*100)-100<0,CONCATENATE(TEXT(ROUND((H11/D11*100-100),1),"0,0"),"%"))} -> +17,2%
B12: Erori şi omisiuni nete | C12: 245.49532 | D12: 133.51958 | E12: -45.860098 | F12: -128.65892 | G12: 173.92241 | H12: -29.219168 | I12: {=_xlfn.IFS(H12/D12*100>200,CONCATENATE("de ",TEXT(ROUND(H12/D12,1),"0,0")," ori"),(H12/D12*100)-100>0,CONCATENATE("+",TEXT(ROUND((H12/D12*100-100),1),"0,0"),"%"),(H12/D12*100)-100<0,CONCATENATE(TEXT(ROUND((H12/D12*100-100),1),"0,0"),"%"))} -> -121,9%
B13: Necesarul net de finanţare (CC+CK) / PIB | C13: -0.25659543 | D13: -0.21358345 | E13: -0.13676819 | F13: -0.18913659 | G13: -0.20928072 | H13: -0.19798349 | I13: {=_xlfn.IFS(G13/C13*100>200,CONCATENATE("de ",TEXT(ROUND(I12eD12,1),"0,0")," ori"),(G13/C13*100)-100>0,CONCATENATE("+",TEXT(ROUND((G13/C13*100-100),1),"0,0"),"%"),(G13/C13*100)-100<0,CONCATENATE(TEXT(ROUND((G13/C13*100-100),1),"0,0"),"%"))} -> -18,4%
B14: Notă: p.p. – puncte procentuale
B15: * date revizuite

Sheet D8
B1: I. Balanța de plăți a Republicii Moldova în trimestrul II 2026 (date provizorii)
B3: Intrările nete ale contului financiar au rezultat din scăderea netă a activelor financiare ale nerezidenților și acumularea nete de pasive.
B5: Diagrama 8. Contul financiar, active și pasive (mil. EUR)
B28: Notă: pentru active și pasive: (+) creștere, (-) scădere; pentru sold: (+) ieșiri nete, (-) intrări nete de capital
B29: * date revizuite
C31: 2025 | G31: 2026
C32: I* | D32: II* | E32: III* | F32: IV* | G32: I* | H32: II
B33: Capacitatea netă (+) / necesarul net (-) de finanţare (soldul contului financiar) | C33: -719.35231 | D33: -764.92838 | E33: -757.29775 | F33: -1049.1016 | G33: -634.68573 | H33: -896.20909
B34: Achiziția netă de active financiare | C34: -505.39898 | D34: -451.59961 | E34: -468.73429 | F34: -828.05683 | G34: -247.98835 | H34: -769.80678
B35: Acumularea netă de pasive | C35: 213.95334 | D35: 313.32877 | E35: 288.56346 | F35: 221.04477 | G35: 386.69738 | H35: 126.40231

Sheet D9
B1: I. Balanța de plăți a Republicii Moldova în trimestrul II 2026 (date provizorii)
B3: Intrările nete ale activelor financiare la alte investiții au fost determinate, în special, de intrările sub formă de numerar și depozite și credite comerciale.
B5: Diagrama 9. Alte investiţii, achiziția netă de active financiare (mil. EUR)
B29: * date revizuite
C31: 2025 | G31: 2026
C32: I* | D32: II* | E32: III* | F32: IV* | G32: I* | H32: II
B33: Total | C33: -399.43015 | D33: -677.56256 | E33: -686.32494 | F33: -706.88657 | G33: -427.95719 | H33: -714.3558
B34: Alte participații la capital | C34: 0 | D34: 3.3075485 | E34: 0.29953994 | F34: 0.80646183 | G34: 0 | H34: 0.81080217
B35: Numerar şi depozite | C35: -310.5162 | D35: -578.7589 | E35: -607.49455 | F35: -677.20751 | G35: -384.5782 | H35: -683.29062
B36: Împrumuturi | C36: 1.3182035 | D36: -4.2201367 | E36: 9.2299344 | F36: 0.60844225 | G36: 0.54169247 | H36: -5.7229235
B37: Credite comerciale şi avansuri | C37: -90.232148 | D37: -97.891072 | E37: -88.359865 | F37: -31.093965 | G37: -43.92069 | H37: -26.153064

Sheet D10
B1: I. Balanța de plăți a Republicii Moldova în trimestrul II 2026 (date provizorii)
B3: Intrările nete ale pasivelor la alte investiții au fost determinate, în special, de creșterea netă a pasivelor sub formă de credite comerciale și avansuri, precum și de numerar și depozite.
B5: Diagrama 10. Alte investiţii, acumularea netă de pasive (mil. EUR)
B30: * date revizuite
C32: 2025 | G32: 2026
C33: I* | D33: II* | E33: III* | F33: IV* | G33: I* | H33: II
B34: Total | C34: 108.8156 | D34: 208.20046 | E34: 172.11629 | F34: 141.94619 | G34: 321.68132 | H34: 31.141638
B35: Numerar şi depozite | C35: 0.62520765 | D35: 2.2449993 | E35: 17.467362 | F35: 10.189949 | G35: 5.6381312 | H35: 29.319378
B36: Împrumuturi | C36: -49.483383 | D36: 193.65505 | E36: 87.328066 | F36: 169.74734 | G36: 223.5578 | H36: -106.82339
B37: Credite comerciale şi avansuri | C37: 159.55219 | D37: 12.822458 | E37: 66.95345 | F37: -39.307331 | G37: 92.285942 | H37: 109.06167
B38: Sisteme de asigurări și de pensii | C38: -0.98294146 | D38: 0.15077772 | E38: 1.0734519 | F38: 2.073375 | G38: 0.95222012 | H38: 0.17977317
B39: Alte angajamente | C39: -0.73950162 | D39: -0.68377344 | E39: -0.66101543 | F39: -0.6635853 | G39: -0.66406911 | H39: -0.66660678

Sheet D11
B1: I. Balanța de plăți a Republicii Moldova în trimestrul II 2026 (date provizorii)
B3: Activele de rezervă s-au diminuat, în trimestrul II 2026, ca rezultat al reducerii numerarului și depozitelor.
B5: Diagrama 11. Evoluția fluxurilor de active oficiale de rezervă, pe instrumente (mil. EUR)
B32: * date revizuite
C34: 2025 | G34: 2026
C35: I* | D35: II* | E35: III* | F35: IV* | G35: I* | H35: II
B36: Active de rezervă | C36: -134.33506 | D36: 209.24508 | E36: 96.591631 | F36: -58.689279 | G36: 123.49552 | H36: -63.610471
B37: DST | C37: -0.95038757 | D37: 11.496187 | E37: -10.213089 | F37: 0.5965537 | G37: -1.2095407 | H37: 10.044317
B38: Numerar şi depozite | C38: 44.140241 | D38: -304.30681 | E38: 137.16003 | F38: -137.68779 | G38: 117.09923 | H38: -205.32085
B39: Titluri de valoare | C39: -177.52492 | D39: 502.05571 | E39: -30.355313 | F39: 78.401956 | G39: 7.6058237 | H39: 131.66606

Sheet D12
B1: II. Poziția investițională internațională a Republicii Moldova la 30.06.2026 (date provizorii)
B3: La 30.06.2026, diminuarea poziției investiționale internaționale debitare a fost influențată de tranzacțiile din balanța de plăți, schimbările de preț și fluctuația cursului de schimb, în timp ce alte modificări au atenuaat această diminuare.
B5: Diagrama 12. Componentele modificării poziţiei investiţionale internaţionale (mil. EUR)
B30: * date revizuite
C32: 31.03.2025* | D32: 30.06.2025* | E32: 30.09.2025* | F32: 31.12.2025* | G32: 31.03.2026* | H32: 46203
B33: Dinamica totală | C33: -238.51573 | D33: -85.485507 | E33: -38.088624 | F33: 160.72658 | G33: 140.0621 | H33: -439.80421
B34: Fluxul din BP | C34: -719.35231 | D34: -764.92838 | E34: -757.29775 | F34: -1049.1016 | G34: -634.68573 | H34: -896.20909
B35: Schimbările de preț | C35: 78.495257 | D35: 2.6205205 | E35: 63.097046 | F35: 17.284793 | G35: 94.981636 | H35: -103.16144
B36: Fluctuația cursului de schimb | C36: 23.003074 | D36: 92.979844 | E36: -10.929759 | F36: 34.878696 | G36: 96.992376 | H36: -29.994886
B37: Alte modificări | C37: 379.33825 | D37: 583.84251 | E37: 667.04184 | F37: 1157.6647 | G37: 582.77381 | H37: 589.56122

Sheet D13
B1: II. Poziția investițională internațională a Republicii Moldova la 30.06.2026 (date provizorii)
B3: Investitorilor din Bulgaria le-a revenit cea mai mare pondere în poziția investițiilor directe (capital propriu) în sectorul bancar.
B5: Diagrama 13. Poziția investiţiilor directe**, capital propriu acumulat, pe principalele ţări (mil. EUR) – sectorul societăți care acceptă depozite
B40: * date revizuite
B41: ** poziții calculate conform valorii de bilanț, distribuţia pe ţări în baza investitorului nemijlocit
C43: 31.03.2025* | D43: 30.06.2025* | E43: 30.09.2025* | F43: 31.12.2025* | G43: 31.03.2026* | H43: 46203
B44: Irak | C44: 9.2723613 | D44: 9.1893965 | E44: 9.3054284 | F44: 9.270742 | G44: 9.0353998 | H44: 9.0946104
B45: Grecia | C45: 10.208608 | D45: 10.117266 | E45: 10.245014 | F45: 10.206826 | G45: 9.9477203 | H45: 10.012726
B46: Austria | C46: 21.076674 | D46: 20.837738 | E46: 21.051067 | F46: 20.923199 | G46: 20.428063 | H46: 20.521858
B47: Estonia | C47: 47.886372 | D47: 47.813641 | E47: 46.645736 | F47: 46.732481 | G47: 45.547645 | H47: 43.663807
B48: Germania | C48: 52.057989 | D48: 48.864135 | E48: 50.133762 | F48: 51.148187 | G48: 51.033663 | H48: 52.472943
B49: Italia | C49: 63.445545 | D49: 64.781229 | E49: 65.654586 | F49: 64.676324 | G49: 63.676779 | H49: 64.702996
B50: Ungaria | C50: 164.00876 | D50: 167.04916 | E50: 154.98902 | F50: 161.28307 | G50: 162.50468 | H50: 159.17378
B51: Marea Britanie | C51: 165.83537 | D51: 159.66433 | E51: 171.7073 | F51: 182.99808 | G51: 187.01576 | H51: 191.09184
B52: Olanda | C52: 207.55524 | D52: 196.75793 | E52: 204.98413 | F52: 217.22607 | G52: 216.53946 | H52: 222.20725
B53: Bulgaria | C53: 256.17709 | D53: 251.66062 | E53: 267.82491 | F53: 277.90912 | G53: 285.69412 | H53: 284.82074

Sheet D14
B1: II. Poziția investițională internațională a Republicii Moldova la 30.06.2026 (date provizorii)
B3: Investitorilor din Cipru le-a revenit cea mai mare pondere în poziția investițiilor directe (capital propriu) ale altor sectoare.
B5: Diagrama 14. Poziția investiţiilor directe**, capital propriu acumulat, pe principalele ţări (mil. EUR) – Alte sectoare
B40: * date revizuite
B41: ** poziții calculate conform valorii de bilanț, distribuţia pe ţări în baza investitorului nemijlocit
C43: 31.03.2025* | D43: 30.06.2025* | E43: 30.09.2025* | F43: 31.12.2025* | G43: 31.03.2026* | H43: 46203
B44: Grecia | C44: 63.300177 | D44: 58.731273 | E44: 55.22911 | F44: 62.866431 | G44: 51.736996 | H44: 56.062721
B45: SUA | C45: 57.293637 | D45: 58.007378 | E45: 63.137275 | F45: 55.24552 | G45: 52.000937 | H45: 60.112693
B46: Turcia | C46: 60.202305 | D46: 47.774755 | E46: 69.122829 | F46: 65.559199 | G46: 53.086457 | H46: 68.529472
B47: Elveția | C47: 76.68892 | D47: 81.90938 | E47: 89.239902 | F47: 70.463658 | G47: 64.84762 | H47: 70.76138
B48: Ucraina | C48: 60.623475 | D48: 67.400185 | E48: 72.05053 | F48: 71.479221 | G48: 72.694661 | H48: 75.670644
B49: Marea Britanie | C49: 89.890513 | D49: 87.718496 | E49: 92.83815 | F49: 84.166413 | G49: 91.002969 | H49: 97.732493
B50: Germania | C50: 129.71356 | D50: 133.91299 | E50: 149.31707 | F50: 133.77691 | G50: 128.51461 | H50: 137.95061
B51: Austria | C51: 161.75141 | D51: 181.0235 | E51: 196.05481 | F51: 177.57414 | G51: 174.48368 | H51: 165.98225
B52: Franța | C52: 178.10107 | D52: 181.19226 | E52: 191.38016 | F52: 186.36184 | G52: 183.72474 | H52: 187.82643
B53: Olanda | C53: 289.57108 | D53: 314.80703 | E53: 284.7013 | F53: 236.45445 | G53: 185.71136 | H53: 249.45348
B54: România | C54: 369.65384 | D54: 382.70092 | E54: 388.58204 | F54: 397.00399 | G54: 364.28682 | H54: 418.41627
B55: Cipru | C55: 680.30482 | D55: 664.70233 | E55: 667.41211 | F55: 687.77306 | G55: 703.68378 | H55: 708.54086

Sheet D15
B1: II. Poziția investițională internațională a Republicii Moldova la 30.06.2026 (date provizorii)
B3: Băncii Naționale a Moldovei îi corespundea ponderea majoritară în poziția totală a activelor externe, pe seama activelor de rezervă, iar în cadrul pasivelor externe, aceasta a revenit altor sectoare.
B5: Diagrama 15. Structura sectorială a activelor şi pasivelor financiare externe (%)
B32: * date revizuite
D34: 31.03.2025* | E34: 30.06.2025* | F34: 30.09.2025* | G34: 31.12.2025* | H34: 31.03.2026* | I34: 46203
B35: Active | C35: Banca сentrală | D35: 69.649181 | E35: 71.70258 | F35: 71.212993 | G35: 70.232688 | H35: 68.658939 | I35: 69.300618
C36: Administraţia publică | D36: 0.10593872 | E36: 0.14520124 | F36: 0.14562769 | G36: 0.15568497 | H36: 0.15106273 | I36: 0.1660755
C37: Societăţi care acceptă depozite, cu excepția băncii centrale | D37: 13.062946 | E37: 12.639878 | F37: 13.347369 | G37: 11.623995 | H37: 13.489111 | I37: 12.437611
C38: Alte sectoare | D38: 17.181934 | E38: 15.51234 | F38: 15.29401 | G38: 17.987632 | H38: 17.700887 | I38: 18.095696
B39: Pasive | C39: Alte sectoare | D39: -59.76659 | E39: -59.320688 | F39: -59.281554 | G39: -58.244487 | H39: -57.538787 | I39: -58.224926
C40: Societăţi care acceptă depozite, cu excepția băncii centrale | D40: -10.525987 | E40: -10.316846 | F40: -10.375061 | G40: -10.890072 | H40: -10.861196 | I40: -11.030051
C41: Administraţia publică | D41: -29.408633 | E41: -30.101375 | F41: -30.101983 | G41: -30.647634 | H41: -31.398041 | I41: -30.570842
C42: Banca сentrală | D42: -0.29879003 | E42: -0.26109144 | F42: -0.24140156 | G42: -0.21780672 | H42: -0.20197621 | I42: -0.17418185

Sheet D16
B1: II. Poziția investițională internațională a Republicii Moldova la 30.06.2026 (date provizorii)
B3: Activele în euro au prevalat în cadrul poziției numerarului și depozitelor societăților care acceptă depozite, fiind urmate de cele în dolari SUA.
B5: Diagrama 16. Structura valutară a poziției activelor financiare externe sub formă de numerar şi depozite ale societăților care acceptă depozite (%)
B27: * date revizuite
C29: 31.03.2025* | D29: 30.06.2025* | E29: 30.09.2025* | F29: 31.12.2025* | G29: 31.03.2026* | H29: 46203
B30: USD | C30: 33.2 | D30: 37.6 | E30: 34.1 | F30: 40.5 | G30: 25.8 | H30: 34.3
B31: EUR | C31: 64.4 | D31: 59.1 | E31: 62.3 | F31: 56.5 | G31: 71.2 | H31: 63
B32: Alte valute | C32: 2.4 | D32: 3.4 | E32: 3.6 | F32: 3.4 | G32: 2.9 | H32: 2.7

Sheet D17
B1: II. Poziția investițională internațională a Republicii Moldova la 30.06.2026 (date provizorii)
B3: Pasivele în dolari SUA au prevalat în cadrul poziției numerarului și depozitelor societăților care acceptă depozite, fiind urmate de cele în euro.
B5: Diagrama 17. Structura valutară a poziției pasivelor externe sub formă de numerar şi depozite ale societăților care acceptă depozite (%)
B29: * date revizuite
C32: 31.03.2025* | D32: 30.06.2025* | E32: 30.09.2025* | F32: 31.12.2025* | G32: 31.03.2026* | H32: 46203
B33: USD | C33: 44.374342 | D33: 45.057341 | E33: 47.29056 | F33: 44.21327 | G33: 46.491347 | H33: 44.642901
B34: EUR | C34: 42.347626 | D34: 41.604767 | E34: 40.249289 | F34: 41.749291 | G34: 40.382875 | H34: 37.366507
B35: MDL | C35: 13.228522 | D35: 13.317478 | E35: 12.443419 | F35: 13.998964 | G35: 13.11241 | H35: 17.9672
B36: Alte valute | C36: 0.049509211 | D36: 0.020413869 | E36: 0.016731663 | F36: 0.038475042 | G36: 0.013367522 | H36: 0.023392732

Sheet D18
B1: III. Datoria externă brută la 30.06.2026 (date provizorii)
B3: Pe parcursul trimestrului II 2026, poziția datoriei externe brute a Republicii Moldova s-a majorat pe seama creșterii angajamentelor înregistrate de către toate sectoarele.
B5: Diagrama 18. Datoria externă brută, prezentare sectorială (mil. EUR)
B36: * date revizuite
C38: 31.03.2025* | D38: 30.06.2025* | E38: 30.09.2025* | F38: 31.12.2025* | G38: 31.03.2026* | H38: 46203
B39: Administrația publică și BNM | C39: 4033.1205 | D39: 4093.1522 | E39: 4156.7077 | F39: 4183.7394 | G39: 4366.3784 | H39: 4339.2357
B40: Societăți care acceptă depozite | C40: 429.43799 | D40: 412.0325 | E40: 416.65982 | F40: 428.97805 | G40: 447.33042 | H40: 496.95789
B41: Alte sectoare | C41: 3838.419 | D41: 3748.2046 | E41: 3836.7546 | F41: 3669.8237 | G41: 3847.6746 | H41: 3881.7154
B42: Creditarea intragrup | C42: 1780.6215 | D42: 1674.3556 | E42: 1662.2151 | F42: 1635.6288 | G42: 1671.3198 | H42: 1705.6654
B43: Total | C43: 10081.599 | D43: 9927.7449 | E43: 10072.337 | F43: 9918.17 | G43: 10332.703 | H43: 10423.574

Sheet D19
B1: III. Datoria externă brută la 30.06.2026 (date provizorii)
B3: La 30.06.2026, angajamentele externe pe termen lung au fost constituite preponderent din alte împrumuturi (altele decât intragrup).
B5: Diagrama 19. Structura datoriei externe pe termen lung, pe tipuri de angajamente, la 30.06.2026
B29: Alte împrumuturi | C29: 0.77094307
B30: Împrumuturi intragrup | C30: 0.11266308
B31: Alte angajamente aferente datoriei | C31: 0.062128049
B32: Alocări de DST | C32: 0.043283574
B33: Credite comerciale și avansuri | C33: 0.010982224

Sheet D20
B1: III. Datoria externă brută la 30.06.2026 (date provizorii)
B3: La 30.06.2026, creditele comerciale și avansurile au menținut ponderea majoritară în poziția datoriei externe pe termen scurt (conform maturității originale).
B5: Diagrama 20. Structura datoriei externe pe termen scurt, pe tipuri de angajamente, la 30.06.2026
B29: Credite comerciale și avansuri | C29: 0.84740794
B30: Numerar şi depozite | C30: 0.092839325
B31: Alte împrumuturi | C31: 0.033133265
B32: Alte angajamente aferente datoriei | C32: 0.015045982
B33: Împrumuturi intragrup | C33: 0.011573486

Sheet T2
B1: III. Datoria externă brută la 30.06.2026 (date provizorii)
B3: Tabelul 2. Datoria externă sub formă de împrumuturi, alocări de DST și investiții de portofoliu, detalii suplimentare (mil. EUR)
C5: Poziția la 31.12.2025* | D5: Intrări | E5: Plăți efective de principal | F5: Alte schimbări | G5: Fluctuația ratei de schimb | H5: Poziția la 30.06.2026
B6: Banca centrală | C6: 29.523199 | D6: 0.05817304 | E6: -5.5178091 | F6: 0 | G6: 0.51980194 | H6: 24.583365
B7: Credite multilaterale | C7: 29.523199 | D7: 0.05817304 | E7: -5.5178091 | F7: 0 | G7: 0.51980194 | H7: 24.583365
B8: Datoria de stat directă | C8: 4107.0861 | D8: 235.10842 | E8: -110.11876 | F8: 0 | G8: 36.36458 | H8: 4268.4403
B9: Credite multilaterale și alocările de DST | C9: 3659.5228 | D9: 230.72904 | E9: -104.6364 | F9: 0 | G9: 36.808103 | H9: 3822.4235
B10: Credite bilaterale | C10: 446.66586 | D10: 4.2274986 | E10: -5.4823671 | F10: 0 | G10: -0.43161634 | H10: 444.97938
B11: Titluri de angajamente | C11: 0.89745882 | D11: 0.15187443 | E11: 0 | F11: 0 | G11: -0.01190634 | H11: 1.0374269
B12: Datoria UAT** | C12: 44.886501 | D12: 1.6311848 | E12: -3.0416586 | F12: 0 | G12: 0.02853435 | H12: 43.504562
B13: Credite multilaterale | C13: 44.886501 | D13: 1.6311848 | E13: -3.0416586 | F13: 0 | G13: 0.02853435 | H13: 43.504562
B14: Datoria corporaţiilor publice | C14: 125.23599 | D14: 54.938772 | E14: -156.93432 | F14: 0 | G14: 0.05403134 | H14: 23.294472
B15: Credite multilaterale | C15: 109.65604 | D15: 54.938772 | E15: -156.93432 | F15: 0 | G15: 0.05403134 | H15: 7.7145197
B16: De la alți creditori | C16: 15.579952 | D16: 0 | E16: 0 | F16: 0 | G16: 0 | H16: 15.579952
B17: Datoria privată negarantată de stat | C17: 2844.7586 | D17: 327.70244 | E17: -215.37704 | F17: -0.06075305 | G17: 40.084153 | H17: 2997.1074
... B20: TOTAL | C20: 7151.4904 | D20: 619.43899 | E20: -490.98959 | F20: -0.06075305 | G20: 77.051101 | H20: 7356.9301
B21: * date revizuite
B22: ** UAT – unități administrativ-teritoriale

Sheet D21
B1: III. Datoria externă brută la 30.06.2026 (date provizorii)
B3: La 30.06.2026, în poziția datoriei publice, au predominat împrumuturile în euro și DST, în timp ce în poziția datoriei private - cele în euro și USD.
B5: Diagrama 21. Structura împrumuturilor externe pe valute, la 30.06.2026
B26: EUR | C26: 0.62188528 | H26: EUR | I26: 0.59952846
B27: XDR | C27: 0.32540676 | H27: USD | I27: 0.36283494
B28: JPY | C28: 0.027369779 | H28: MDL | I28: 0.033071521
B29: CAD | C29: 0.018760084 | H29: Alte | I29: 0.0045650737
B30: Alte | C30: 0.006578096
