Workbook

Sheet Cuprins_ro
B2: Conturile internaționale ale Republicii Moldova în trimestrul II 2026 (date provizorii)
B4: I. Balanța de plăți a Republicii Moldova în trimestrul II 2026 (date provizorii)
B5: ='D1'!B$4 -> Diagrama 1. PIB, indicii volumului fizic (% față de același trimestru al anului precedent) | C5: D1
B6: ='T1'!B3 -> Tabelul 1. Indicatori macroeconomici și comercial | C6: T1
B7: ='D2'!B4 -> Diagrama 2. Balanța de plăți - componente principale (mil. EUR) | C7: D2
B8: ='T2'!B3 -> Tabelul 2. Balanţa de plăţi a Republicii Moldova, agregate principale (mil. EUR) | C8: T2
B9: ='D3'!B4 -> Diagrama 3. Contul curent – componente principale (mil. EUR) | C9: D3
B10: ='T3'!B3 -> Tabelul 3. Principalele componente ale contului curent al balanței de plăți, raportate la PIB | C10: T3
B11: =T_aux.!B3 -> Ajustări la exportul / importul de bunuri conform balanței de plăți (mil. EUR) | C11: T_aux.
B12: ='D4'!B4 -> Diagrama 4. Balanța comerțului cu bunuri în balanța de plăți, pe zone geografice (mil. EUR) | C12: D4
B13: ='D5'!B4 -> Diagrama 5. Principalii parteneri comerciali (mil. EUR) | C13: D5
B14: ='D6'!B4 -> Diagrama 6. Exportul și importul de bunuri pe categorii și zone geografice | C14: D6
B15: ='T4'!B3 -> Tabelul 4. Contribuția principalelor categorii de bunuri la modificarea totală (p.p.) | C15: T4
B16: ='D7'!B4 -> Diagrama 7. Import de produse energetice și electricitate (prețuri FOB), (mil. EUR) | C16: D7
B17: =D_aux.!B4 -> Comerțul exterior cu bunuri pe categorii tehnologice | C17: D_aux.
B18: ='D8'!B4 -> Diagrama 8. Balanța serviciilor | C18: D8
B19: ='T5'!B3 -> Tabelul 5. Contribuția principalelor categorii de servicii la modificărea totală (p.p.) | C19: T5
B20: ='D9'!B4 -> Diagrama 9. Exportul și importul de servicii pe principalele tipuri, în trimestrul II 2026 (mil. EUR) | C20: D9
B21: ='T6'!B3 -> Tabelul 6. Servicii de informatică, pe principalele tipuri (mil. EUR) | C21: T6
B22: ='D10'!B4 -> Diagrama 10. Evoluția veniturilor primare | C22: D10
B23: ='D11'!B4 -> Diagrama 11. Evoluția veniturilor secundare, componente de bază | C23: D11
B24: ='D12'!B4 -> Diagrama 12. Remiterile personale, pe componente și zone geografice | C24: D12
B25: ='D13'!B4 -> Diagrama 13. Evoluția contului de capital (mil EUR) | C25: D13
B26: ='D14'!B4 -> Diagrama 14. Contul financiar, active și pasive financiare pe categorii funcționale în trimestrul II 2026 (mil. EUR) | C26: D14
B27: ='T7'!B3 -> Tabelul 7. Fluxuri financiare nete | C27: T7
B28: ='T8'!B3 -> Tabelul 8. Investiții directe, intrări și ieșiri de capital (mil. EUR) | C28: T8
B29: ='D15'!B4 -> Diagrama 15. Împrumuturi externe (pasive, fără cele intragrup), valorificări și rambursări, în trimestrul II 2026 (mil. EUR) | C29: D15
B30: ='D16'!B4 -> Diagrama 16. Principalii creditori ai administrației publice, în trimestrul II 2026 | C30: D16
B32: II. Poziția investițională internațională a Republicii Moldova la 30.06.2026 (date provizorii)
B33: ='T9'!B3 -> Tabelul 9. Indicatorii principali aferenţi poziţiei investiţionale internaţionale | C33: T9
B34: ='T10'!B3 -> Tabelul 10. Poziţia investiţională internaţională (mil. EUR) | C34: T10
B35: ='D17'!B4 -> Diagrama 17. Poziția investițională internațională netă, pe sectoare instituționale (% la PIB) | C35: D17
B36: ='D18'!B4 -> Diagrama 18. Structura activelor şi pasivelor financiare externe, pe categorii funcționale (%) | C36: D18
B37: ='D19'!B4 -> Diagrama 19. Indicatorii suficienței activelor oficiale de rezervă | C37: D19
B38: ='D20'!B4 -> Diagrama 20. Poziția investiţiilor directe**, capital propriu, pe zone geografice (mil. EUR) | C38: D20
B39: ='D21'!B4 -> Diagrama 21. Investiţiile directe, angajamente, capital propriu acumulat la 30.06.2026, pe activităţi economice (conform CAEM-2) | C39: D21
B40: ='D22'!B4 -> Diagrama 22. Structura activelor şi pasivelor financiare externe, pe scadenţe (%) | C40: D22
B42: III. Datoria externă brută la 30.06.2026 (date provizorii)
B43: ='T11'!B3 -> Tabelul 11. Datoria externă brută | C43: T11
B44: ='D23'!B4 -> Diagrama 23. Structura datoriei externe brute conform scadenței reziduale (mil. EUR) | C44: D23
...

Sheet D1
B1: I. Balanța de plăți a Republicii Moldova în trimestrul II 2026 (date provizorii)
B4: Diagrama 1. PIB, indicii volumului fizic (% față de același trimestru al anului precedent)
B27: Surse: Autoritățile naționale de statistică
B28: * date revizuite
C30: 2025 | G30: 2026
C31: I | D31: II | E31: III | F31: IV | G31: I* | H31: II
B32: UKR | C32: 100.8 | D32: 100.9 | E32: 102.4 | F32: 102.8 | G32: 99.4 | H32: 100.4
B33: ROU | C33: 100.3 | D33: 100.3 | E33: 101.7 | F33: 100.2 | G33: 98.8 | H33: 99.6
B34: UE | C34: 100.6 | D34: 100.2 | E34: 100.4 | F34: 100.2 | G34: 99.9 | H34: 100.7
B35: MDA | C35: 98.853148 | D35: 101.15412 | E35: 105.23121 | F35: 103.55851 | G35: 100.35589 | H35: 100.9
B36: 100 | C36: 100 | D36: 100 | E36: 100 | F36: 100 | G36: 100 | H36: 100

Sheet T1
B1: I. Balanța de plăți a Republicii Moldova în trimestrul II 2026 (date provizorii)
B3: Tabelul 1. Indicatori macroeconomici și comercial
C5: UM | D5: 2025 | H5: 2026
D6: I* | E6: II* | F6: III* | G6: IV* | H6: I* | I6: II
B7: PIB, preţuri curente | C7: mil. MDL | D7: 73 014 | E7: 82 348 | F7: 102 100 | G7: 96 058 | H7: 77 452 | I7: 88 328
B8: PIB, preţuri curente | C8: mil. EUR | D8: 3 760 | E8: 4 207 | F8: 5 202 | G8: 4 867 | H8: 3 864 | I8: 4 379
B9: Indicele PIB în termeni reali | C9: % | D9: 98.9 | E9: 101.2 | F9: 105.2 | G9: 103.6 | H9: 100.4 | I9: 100.9
B10: Rata de schimb medie pe perioadă | C10: MDL / EUR | D10: 19.4176 | E10: 19.5762 | F10: 19.628 | G10: 19.7385 | H10: 20.0458 | I10: 20.1703
B11: Export de bunuri, indicii volumului fizic | C11: % | D11: 81.2 | E11: 82.9 | F11: 113.5 | G11: 116.1 | H11: 112.9 | I11: 114.4
B12: Export de bunuri, indicii valorii unitare | C12: % | D12: 108.5 | E12: 110.9 | F12: 107.8 | G12: 106.5 | H12: 97.6 | I12: 100.6
B13: Import de bunuri, indicii volumului fizic | C13: % | D13: 116.8 | E13: 114.9 | F13: 113.6 | G13: 118.3 | H13: 107.4 | I13: 103.7
B14: Import de bunuri, indicii valorii unitare | C14: % | D14: 101.3 | E14: 103.5 | F14: 104.6 | G14: 106.1 | H14: 94.4 | I14: 107.9
B15: Raportul de schimb în comerțul exterior cu bunuri | C15: % | D15: 107.1 | E15: 107.1 | F15: 103.1 | G15: 100.4 | H15: 103.4 | I15: 93.2
B16: * date revizuite

Sheet D2
B1: I. Balanța de plăți a Republicii Moldova în trimestrul II 2026 (date provizorii)
B4: Diagrama 2. Balanța de plăți - componente principale (mil. EUR)
B22: * date revizuite
C24: 2025 | G24: 2026
C25: I* | D25: II* | E25: III* | F25: IV* | G25: I* | H25: II
B26: Cont curent | C26: -971.02324 | D26: -905.38731 | E26: -727.59341 | F26: -940.69007 | G26: -816.29574 | H26: -886.35618
B27: Contul de capital | C27: 6.1756104 | D27: 6.9393466 | E27: 16.155753 | F27: 20.247388 | G27: 7.6876053 | H27: 19.366255
B28: Contul financiar | C28: -719.35231 | D28: -764.92838 | E28: -757.29775 | F28: -1049.1016 | G28: -634.68573 | H28: -896.20909

Sheet T2
B1: I. Balanța de plăți a Republicii Moldova în trimestrul II 2026 (date provizorii)
B3: Tabelul 2. Balanţa de plăţi a Republicii Moldova, agregate principale (mil. EUR)
C5: 2025 | G5: 2026
C6: I* | D6: II* | E6: III* | F6: IV* | G6: I* | H6: II
B7: CONTUL CURENT (CC) | C7: -971.02324 | D7: -905.38731 | E7: -727.59341 | F7: -940.69007 | G7: -816.29574 | H7: -886.35618
B8: Bunuri | C8: -1557.5095 | D8: -1531.9506 | E8: -1422.6668 | F8: -1593.4008 | G8: -1459.176 | H8: -1659.9878
B9: Servicii | C9: 187.5278 | D9: 211.83787 | E9: 244.74835 | F9: 267.44491 | G9: 260.78464 | H9: 312.83994
B10: Venituri primare | C10: 47.563273 | D10: -25.359112 | E10: -34.076075 | F10: 23.649953 | G10: 60.57362 | H10: 42.66682
B11: Venituri secundare | C11: 351.3952 | D11: 440.08458 | E11: 484.40111 | F11: 361.6159 | G11: 321.52202 | H11: 418.12482
B12: CONTUL DE CAPITAL (CK) | C12: 6.1756104 | D12: 6.9393466 | E12: 16.155753 | F12: 20.247388 | G12: 7.6876053 | H12: 19.366255
B13: Necesarul net de finanţare (CC şi CK) | C13: -964.84763 | D13: -898.44796 | E13: -711.43765 | F13: -920.44268 | G13: -808.60814 | H13: -866.98993
B14: CONTUL FINANCIAR | C14: -719.35231 | D14: -764.92838 | E14: -757.29775 | F14: -1049.1016 | G14: -634.68573 | H14: -896.20909
B15: Investiţii directe, net | C15: -106.40611 | D15: -87.136269 | E15: -10.189138 | F15: -135.0627 | G15: -42.591635 | H15: -62.155552
B16: Investiţii de portofoliu, net | C16: 29.634611 | D16: -1.2741734 | E16: 14.740984 | F16: -6.5168573 | G16: 34.048907 | H16: -24.945629
B17: Alte investiţii, net | C17: -508.24575 | D17: -885.76302 | E17: -858.44123 | F17: -848.83276 | G17: -749.63852 | H17: -745.49744
B18: Alte participații la capital | C18: 0 | D18: 3.3075485 | E18: 0.29953994 | F18: 0.80646183 | G18: 0 | H18: 0.81080217
... B25: Erori şi omisiuni nete | C25: 245.49532 | D25: 133.51958 | E25: -45.860098 | F25: -128.65892 | G25: 173.92241 | H25: -29.219168
B26: * date revizuite

Sheet D3
B1: I. Balanța de plăți a Republicii Moldova în trimestrul II 2026 (date provizorii)
B4: Diagrama 3. Contul curent – componente principale (mil. EUR)
B23: * date revizuite
C25: 2025 | G25: 2026
C26: I* | D26: II* | E26: III* | F26: IV* | G26: I* | H26: II
B27: Cont curent | C27: -971.02324 | D27: -905.38731 | E27: -727.59341 | F27: -940.69007 | G27: -816.29574 | H27: -886.35618
B28: Export / intrări | C28: 1933.4783 | D28: 2026.5499 | E28: 2354.4934 | F28: 2377.3648 | G28: 2075.7442 | H28: 2271.4496
B29: Bunuri | C29: 656.5979 | D29: 559.79226 | E29: 756.09632 | F29: 865.43771 | G29: 728.52982 | H29: 676.1889
B30: Servicii | C30: 585.47764 | D30: 698.22478 | E30: 774.61501 | F30: 761.37294 | G30: 681.84188 | H30: 790.655
B31: Venituri primare | C31: 232.58445 | D31: 218.9685 | E31: 220.43968 | F31: 276.33482 | G31: 243.25695 | H31: 272.25631
B32: Venituri secundare | C32: 458.81828 | D32: 549.56439 | E32: 603.34239 | F32: 474.21933 | G32: 422.11559 | H32: 532.34941
B33: Import / ieșiri | C33: -2904.5015 | D33: -2931.9372 | E33: -3082.0868 | F33: -3318.0549 | G33: -2892.04 | H33: -3157.8058
B34: Bunuri | C34: -2214.1074 | D34: -2091.7429 | E34: -2178.7631 | F34: -2458.8385 | G34: -2187.7058 | H34: -2336.1767
B35: Servicii | C35: -397.94984 | D35: -486.38692 | E35: -529.86666 | F35: -493.92803 | G35: -421.05724 | H35: -477.81507
B36: Venituri primare | C36: -185.02118 | D36: -244.32761 | E36: -254.51576 | F36: -252.68487 | G36: -182.68333 | H36: -229.58949
B37: Venituri secundare | C37: -107.42308 | D37: -109.47981 | E37: -118.94128 | F37: -112.60343 | G37: -100.59357 | H37: -114.2246

Sheet T3
B1: I. Balanța de plăți a Republicii Moldova în trimestrul II 2026 (date provizorii)
B3: Tabelul 3. Principalele componente ale contului curent al balanței de plăți, raportate la PIB
C5: 2025 | G5: 2026 | I5: 2026 II / 2025 II
C6: I* | D6: II* | E6: III* | F6: IV* | G6: I* | H6: II
C7: % | I7: p.p.
B8: Contul curent | C8: -25.8 | D8: -21.5 | E8: -14 | F8: -19.3 | G8: -21.1 | H8: -20.2 | I8: =H8-D8 -> 1.3
B9: Balanța comercială | C9: -36.4 | D9: -31.4 | E9: -22.6 | F9: -27.2 | G9: -31 | H9: -30.8 | I9: =H9-D9 -> 0.6
B10: Export de bunuri și servicii | C10: 33 | D10: 29.9 | E10: 29.4 | F10: 33.4 | G10: 36.5 | H10: 33.5 | I10: =H10-D10 -> 3.6
B11: Import de bunuri și servicii | C11: 69.5 | D11: 61.3 | E11: 52.1 | F11: 60.7 | G11: 67.5 | H11: 64.3 | I11: =H11-D11 -> 3
B12: Balanța veniturilor primare | C12: 1.3 | D12: -0.6 | E12: -0.7 | F12: 0.5 | G12: 1.6 | H12: 1 | I12: =H12-D12 -> 1.6
B13: Intrări de venituri primare, dintre care: | C13: 6.2 | D13: 5.2 | E13: 4.2 | F13: 5.7 | G13: 6.3 | H13: 6.2 | I13: =H13-D13 -> 1
B14: Remunerarea salariaților | C14: 4.9 | D14: 4.1 | E14: 3.4 | F14: 4.7 | G14: 5.1 | H14: 5.1 | I14: =H14-D14 -> 1
B15: Ieșiri de venituri primare, dinte care: | C15: 4.9 | D15: 5.8 | E15: 4.9 | F15: 5.2 | G15: 4.7 | H15: 5.2 | I15: =H15-D15 -> -0.6
B16: Venituri din investiții | C16: 4.4 | D16: 5.3 | E16: 4.4 | F16: 4.6 | G16: 4.2 | H16: 4.7 | I16: =H16-D16 -> -0.6
B17: Balanța veniturilor secundare | C17: 9.3 | D17: 10.5 | E17: 9.3 | F17: 7.4 | G17: 8.3 | H17: 9.5 | I17: =H17-D17 -> -1
B18: Intrări de venituri secundare, dintre care: | C18: 12.2 | D18: 13.1 | E18: 11.6 | F18: 9.7 | G18: 10.9 | H18: 12.2 | I18: =H18-D18 -> -0.9
B19: Transferuri personale | C19: 6.1 | D19: 5.8 | E19: 4.8 | F19: 4.4 | G19: 5.4 | H19: 5.3 | I19: =H19-D19 -> -0.5
... B23: Necesarul net de finanţare (soldul conturilor curent şi de capital)** | C23: -25.7 | D23: -21.4 | E23: -13.7 | F23: -18.9 | G23: -20.9 | H23: -19.8 | I23: =H23-D23 -> 1.6
B24: * date revizuite
B25: ** soldul conturilor curent și de capital

Sheet T_aux.
B1: I. Balanța de plăți a Republicii Moldova în trimestrul II 2026 (date provizorii)
B3: Ajustări la exportul / importul de bunuri conform balanței de plăți (mil. EUR)
C5: 2025 | G5: 2026
C6: I* | D6: II* | E6: III* | F6: IV* | G6: I* | H6: II
B7: Export de bunuri FOB (BP) - MBP6 | C7: 656.5979 | D7: 559.79226 | E7: 756.09632 | F7: 865.43771 | G7: 728.52982 | H7: 676.1889
B8: Export conform IMTS | C8: 771.85341 | D8: 696.54718 | E8: 876.63166 | F8: 993.10401 | G8: 848.67215 | H8: 801.94422
B9: Bunuri pentru prelucrare | C9: -128.50256 | D9: -151.3235 | E9: -138.06469 | F9: -145.03279 | G9: -136.23084 | H9: -145.36299
B10: Ajustări operate de BNM, din care: | C10: 13.247055 | D10: 14.568584 | E10: 17.529352 | F10: 17.366479 | G10: 16.08851 | H10: 19.607672
B11: Procurări în porturi | C11: 10.34892 | D11: 12.076386 | E11: 14.222751 | F11: 13.541764 | G11: 12.924565 | H11: 16.334189
B12: Export persoane fizice | C12: 2.9482283 | D12: 2.6782795 | E12: 3.3693964 | F12: 3.8163595 | G12: 3.2378297 | H12: 3.088511
B13: Export net de mărfuri negociate peste hotare | C13: -0.04198422 | D13: -0.18015696 | E13: -0.06053287 | F13: 0.00835563 | G13: -0.0738841 | H13: 0.18497251
B14: Alte ajustări (procurări în magazinele duty-free și altele) | C14: -0.00810959 | D14: -0.00592461 | E14: -0.00226229 | F14: 0 | G14: 0 | H14: 0
B15: Import de bunuri FOB (BP) - MBP6 | C15: 2214.1074 | D15: 2091.7429 | E15: 2178.7631 | F15: 2458.8385 | G15: 2187.7058 | H15: 2336.1767
B16: Import (CIF) conform IMTS | C16: 2424.764 | D16: 2265.1263 | E16: 2334.8623 | F16: 2639.5509 | G16: 2454.9658 | H16: 2531.9372
B17: din care aur nemonetar (FOB) | C17: 0.03147179 | D17: 0.00011626 | E17: 8.759e-05 | F17: 0.32529179 | G17: 0.04562938 | H17: 0.00186405
B18: Bunuri pentru prelucrare | C18: -90.457517 | D18: -101.28464 | E18: -86.938368 | F18: -89.395457 | G18: -92.971896 | H18: -102.50913
... B26: Alte ajustări | C26: -2.8201608 | D26: -3.2731952 | E26: -2.8517265 | F26: -3.0046866 | G26: -3.0835265 | H26: -3.2974353
B27: * date revizuite

Sheet D4
B1: I. Balanța de plăți a Republicii Moldova în trimestrul II 2026 (date provizorii)
B4: Diagrama 4. Balanța comerțului cu bunuri în balanța de plăți, pe zone geografice (mil. EUR)
B22: * date revizuite
C24: 2025 | G24: 2026
C25: I* | D25: II* | E25: III* | F25: IV* | G25: I* | H25: II
B26: Total | C26: -1557.5095 | D26: -1531.9506 | E26: -1422.6668 | F26: -1593.4008 | G26: -1459.176 | H26: -1659.9878
B27: UE | C27: -1060.4071 | D27: -965.91495 | E27: -788.59751 | F27: -1059.2581 | G27: -1006.2434 | H27: -1021.5847
B28: Alte țări | C28: -497.10243 | D28: -566.03569 | E28: -634.06928 | F28: -534.14272 | G28: -452.93264 | H28: -638.40304

Sheet D5
B1: I. Balanța de plăți a Republicii Moldova în trimestrul II 2026 (date provizorii)
B4: Diagrama 5. Principalii parteneri comerciali (mil. EUR)
E5: Nr. crt. | F5: Țara partener | G5: Export | H5: Import
E6: 1 | F6: România | G6: 162.58445 | H6: 627.34044
E7: 2 | F7: Ucraina | G7: 60.985743 | H7: 257.88168
E8: 3 | F8: Turcia | G8: 82.617038 | H8: 189.88241
E9: 4 | F9: Germania | G9: 41.549549 | H9: 162.24792
E10: 5 | F10: China | G10: 3.0344579 | H10: 179.86448

Sheet D6
B1: I. Balanța de plăți a Republicii Moldova în trimestrul II 2026 (date provizorii)
B4: Diagrama 6. Exportul și importul de bunuri pe categorii și zone geografice
B52: * date revizuite
C54: Export | D54: % în total | E54: Import | F54: % în total
B55: Produse agroalimentare | C55: 351.48631 | D55: 0.51980491 | E55: 392.51714 | F55: 0.16801689 | G55: 1
B56: Produse minerale | C56: 42.624095 | D56: 0.06303578 | E56: 460.61409 | F56: 0.19716578 | G56: 1
B57: Produse ale industriei chimice | C57: 21.527636 | D57: 0.03183672 | E57: 228.56387 | F57: 0.097836723 | G57: 1
B58: Materiale plastice | C58: 13.229044 | D58: 0.019564125 | E58: 111.60375 | F58: 0.047771965 | G58: 1
B59: Materiale textile | C59: 10.553415 | D59: 0.0156072 | E59: 74.110564 | F59: 0.031723014 | G59: 1 | H59: 1
B60: Metale comune | C60: 47.233608 | D60: 0.069852682 | E60: 133.11182 | F60: 0.056978489 | G60: 1 | H60: 1
B61: Maşini şi aparate, echipamente | C61: 98.26627 | D61: 0.1453237 | E61: 408.11519 | F61: 0.17469363 | G61: 1 | H61: 1
B62: Vehicule, aparate de zbor | C62: 5.3519243 | D62: 0.0079148361 | E62: 279.77175 | F62: 0.11975625 | G62: 1 | H62: 1
B63: Altele | C63: 85.916595 | D63: 0.12706005 | E63: 247.76849 | F63: 0.10605726 | G63: 1 | H63: 1
B64: TOTAL | C64: 676.1889 | D64: 1 | E64: 2336.1767 | F64: 1 | G64: 1
B66: Export pe zone
C67: 2025 | G67: 2026
C68: I* | D68: II* | E68: III* | F68: IV* | G68: I* | H68: II
B69: UE | C69: 371.01716 | D69: 330.0807 | E69: 536.82709 | F69: 538.21138 | G69: 410.82879 | H69: 415.29807
B70: Alte țări | C70: 285.58074 | D70: 229.71156 | E70: 219.26923 | F70: 327.22633 | G70: 317.70103 | H70: 260.89084
B71: TOTAL | C71: 656.5979 | D71: 559.79226 | E71: 756.09632 | F71: 865.43771 | G71: 728.52982 | H71: 676.1889
B73: Import pe zone
C74: 2025 | G74: 2026
C75: I* | D75: II* | E75: III* | F75: IV* | G75: I* | H75: II
B76: UE | C76: 1431.4242 | D76: 1295.9956 | E76: 1325.4246 | F76: 1597.4695 | G76: 1417.0722 | H76: 1436.8828
B77: Alte țări | C77: 782.68318 | D77: 795.74726 | E77: 853.3385 | F77: 861.36905 | G77: 770.63367 | H77: 899.29388
B78: TOTAL | C78: 2214.1074 | D78: 2091.7429 | E78: 2178.7631 | F78: 2458.8385 | G78: 2187.7058 | H78: 2336.1767
B80: Produse agroalimentare
B81: Animale vii | C81: 8.2169576 | D81: 0.023377746
B82: Produse vegetale | C82: 214.99627 | D82: 0.61167749
B83: Grăsimi și uleiuri | C83: 32.452191 | D83: 0.092328462
B84: Produse alimentare | C84: 95.820899 | D84: 0.2726163
B85: Total | C85: 351.48631 | D85: 1

Sheet T4
B1: I. Balanța de plăți a Republicii Moldova în trimestrul II 2026 (date provizorii)
B3: Tabelul 4. Contribuția principalelor categorii de bunuri la modificarea totală (p.p.)
C5: Export | E5: Import
C6: Tr. II | E6: Tr. II
C7: 2025* | D7: 2026 | E7: 2025* | F7: 2026
B8: Produse agroalimentare | C8: -9.6 | D8: 16.3 | E8: 1.7 | F8: 2.2
B9: Produse minerale | C9: -3 | D9: 0.7 | E9: 3.3 | F9: 5.8
B10: Produse ale industriei chimice | C10: -0.7 | D10: 0.6 | E10: -0.1 | F10: 1.3
B11: Materiale plastice şi articole din material plastic | C11: -0.1 | D11: 0.3 | E11: 0.1 | F11: 0.4
B12: Materiale textile şi articole din acestea | C12: -0.3 | D12: 0.2 | E12: -0.1 | F12: 0.1
B13: Metale comune şi articole din metale comune | C13: 0.7 | D13: 3.1 | E13: 0.8 | F13: 0.1
B14: Maşini şi aparate, echipamente electrice şi părţi ale acestora | C14: -1.8 | D14: -1 | E14: 2.4 | F14: 1.3
B15: Vehicule, aparate de zbor | C15: -0.1 | D15: 0.2 | E15: 0.5 | F15: -0.1
B16: Altele | C16: 0.4 | D16: 0.4 | E16: -0.1 | F16: 0.7
B17: Total | C17: -14.5 | D17: 20.8 | E17: 8.3 | F17: 11.7
B18: * date revizuite

Sheet D7
B1: I. Balanța de plăți a Republicii Moldova în trimestrul II 2026 (date provizorii)
B4: Diagrama 7. Import de produse energetice și electricitate (prețuri FOB), (mil. EUR)
B23: Sursa: Calculat de BNM în baza IMTS a BNS
B24: * date revizuite
C26: 2025 | G26: 2026
C27: I* | D27: II* | E27: III* | F27: IV* | G27: I* | H27: II
B28: Gaz natural | C28: 174.86732 | D28: 49.382709 | E28: 30.399025 | F28: 123.69232 | G28: 176.8248 | H28: 64.652256
B29: Energie electrică | C29: 103.67793 | D29: 80.030698 | E29: 104.04306 | F29: 128.79569 | G29: 113.38384 | H29: 82.873611
B30: Combustibil diesel | C30: 111.41239 | D30: 116.77652 | E30: 133.62905 | F30: 137.54187 | G30: 105.55837 | H30: 180.56175
B31: Benzine auto | C31: 56.357871 | D31: 39.057875 | E31: 53.840165 | F31: 57.657787 | G31: 45.89346 | H31: 67.2762
B32: Cărbune | C32: 3.4533942 | D32: 4.0505117 | E32: 3.7913198 | F32: 3.7888666 | G32: 3.2890882 | H32: 6.0823879
B33: Pacură | C33: 0.028540448 | D33: 0.035298577 | E33: 0.094141125 | F33: 1.5808423 | G33: 0.14523247 | H33: 0.034412379
B34: Altele | C34: 27.113425 | D34: 28.927184 | E34: 36.792063 | F34: 29.855582 | G34: 29.106295 | H34: 41.466916
B35: Total | C35: 476.91088 | D35: 318.26079 | E35: 362.58882 | F35: 482.91296 | G35: 474.20109 | H35: 442.94753

Sheet D_aux.
B1: I. Balanța de plăți a Republicii Moldova în trimestrul II 2026 (date provizorii)
B4: Comerțul exterior cu bunuri pe categorii tehnologice
B43: * date revizuite
D45: Export | E45: % în total | F45: Import | G45: % în total
B46: Bunuri primare | D46: 233.87574 | E46: =D46/$D$53 -> 0.34587338 | F46: 376.20626 | G46: =F46/$F$53 -> 0.16103502
B47: Bunuri bazate pe resurse: produse agricole | D47: 126.07968 | E47: =D47/$D$53 -> 0.18645629 | F47: 249.87853 | G47: =F47/$F$53 -> 0.10696046
B48: Bunuri bazate pe resurse: altele | D48: 75.708721 | E48: =D48/$D$53 -> 0.11196386 | F48: 296.99812 | G48: =F48/$F$53 -> 0.12712999
B49: Bunuri de tehnologie redusă | D49: 90.09244 | E49: =D49/$D$53 -> 0.13323561 | F49: 326.02283 | G49: =F49/$F$53 -> 0.13955401
B50: Bunuri de tehnologie medie | D50: 117.41045 | E50: =D50/$D$53 -> 0.17363557 | F50: 762.50056 | G50: =F50/$F$53 -> 0.32638823
B51: Bunuri de tehnologie înaltă | D51: 24.242059 | E51: =D51/$D$53 -> 0.035851016 | F51: 252.90203 | G51: =F51/$F$53 -> 0.10825467
B52: Altele | D52: 8.7798211 | E52: =D52/$D$53 -> 0.012984273 | F52: 71.668318 | G52: =F52/$F$53 -> 0.030677611
B53: TOTAL | D53: 676.1889 | E53: =D53/$D$53 -> 1 | F53: 2336.1767 | G53: =F53/$F$53 -> 1
D56: 2025 | H56: 2026
D57: I* | E57: II* | F57: III* | G57: IV* | H57: I* | I57: II
B58: Export | C58: Total | D58: 656.5979 | E58: 559.79226 | F58: 756.09632 | G58: 865.43771 | H58: 728.52982 | I58: 676.1889
C59: Bunuri primare | D59: 252.42245 | E59: 165.95461 | F59: 334.01599 | G59: 365.25875 | H59: 329.51829 | I59: 233.87574 | J59: 1
C60: Bunuri bazate pe resurse: produse agricole | D60: 113.74193 | E60: 98.234756 | F60: 115.6574 | G60: 181.36131 | H60: 118.80027 | I60: 126.07968 | J60: 1
C61: Bunuri bazate pe resurse: altele | D61: 58.365235 | E61: 48.91683 | F61: 54.742097 | G61: 69.717678 | H61: 60.083441 | I61: 75.708721 | J61: 1
C62: Bunuri de tehnologie redusă | D62: 77.854575 | E62: 83.081367 | F62: 87.016796 | G62: 80.169705 | H62: 80.121231 | I62: 90.09244 | J62: 1
C63: Bunuri de tehnologie medie | D63: 111.85421 | E63: 125.59998 | F63: 123.79949 | G63: 122.39114 | H63: 102.41431 | I63: 117.41045 | J63: 1
C64: Bunuri de tehnologie înaltă | D64: 23.432228 | E64: 22.585688 | F64: 24.327476 | G64: 27.63536 | H64: 21.88103 | I64: 24.242059 | J64: 1
C65: Altele | D65: 18.927262 | E65: 15.419033 | F65: 16.537072 | G65: 18.90376 | H65: 15.711249 | I65: 8.7798211 | J65: 1
B66: Import | C66: Total | D66: -2214.1074 | E66: -2091.7429 | F66: -2178.7631 | G66: -2458.8385 | H66: -2187.7058 | I66: -2336.1767
C67: Bunuri primare | D67: -497.71293 | E67: -320.28885 | F67: -282.57858 | G67: -418.77955 | H67: -510.20262 | I67: -376.20626
C68: Bunuri bazate pe resurse: produse agricole | D68: -223.42111 | E68: -232.93043 | F68: -257.6516 | G68: -265.04756 | H68: -222.30807 | I68: -249.87853
C69: Bunuri bazate pe resurse: altele | D69: -191.962 | E69: -200.46045 | F69: -243.25629 | G69: -228.27477 | H69: -165.35521 | I69: -296.99812
C70: Bunuri de tehnologie redusă | D70: -315.28302 | E70: -317.69551 | F70: -345.01613 | G70: -349.56745 | H70: -292.87203 | I70: -326.02283
C71: Bunuri de tehnologie medie | D71: -694.66384 | E71: -735.3155 | F71: -750.6972 | G71: -836.18301 | H71: -686.57604 | I71: -762.50056
C72: Bunuri de tehnologie înaltă | D72: -206.80298 | E72: -219.13296 | F72: -212.84742 | G72: -256.07428 | H72: -224.73443 | I72: -252.90203
C73: Altele | D73: -84.261531 | E73: -65.919202 | F73: -86.715894 | G73: -104.91192 | H73: -85.657447 | I73: -71.668318

Sheet D8
B1: I. Balanța de plăți a Republicii Moldova în trimestrul II 2026 (date provizorii)
B4: Diagrama 8. Balanța serviciilor
B23: * date revizuite
C25: 2025 | G25: 2026
C26: I* | D26: II* | E26: III* | F26: IV* | G26: I* | H26: II
B27: Sold | C27: 187.5278 | D27: 211.83787 | E27: 244.74835 | F27: 267.44491 | G27: 260.78464 | H27: 312.83994
B28: Export | C28: 585.47764 | D28: 698.22478 | E28: 774.61501 | F28: 761.37294 | G28: 681.84188 | H28: 790.655
B29: Import | C29: 397.94984 | D29: 486.38692 | E29: 529.86666 | F29: 493.92803 | G29: 421.05724 | H29: 477.81507
B30: Sold / PIB (scala din dreapta) | C30: 0.049871892 | D30: 0.050359136 | E30: 0.04705091 | F30: 0.05495575 | G30: 0.067495237 | H30: 0.071439288

Sheet T5
B1: I. Balanța de plăți a Republicii Moldova în trimestrul II 2026 (date provizorii)
B3: Tabelul 5. Contribuția principalelor categorii de servicii la modificărea totală (p.p.)
C5: Export | E5: Import | G5: Sold
C6: Tr. II | E6: Tr. II | G6: Tr. II
C7: 2025* | D7: 2026 | E7: 2025* | F7: 2026 | G7: 2025* | H7: 2026
B8: Servicii de prelucrare a materiei prime aflate în proprietatea terților | C8: -0.9 | D8: -0.7 | E8: 0.1 | F8: 0 | G8: -2.6 | H8: -2.3
B9: Transport | C9: 0.7 | D9: 2.6 | E9: 4.9 | F9: -0.5 | G9: -6.8 | H9: 9.5
B10: Călătorii | C10: 4.2 | D10: 3.9 | E10: 11.9 | F10: -1.1 | G10: -9.5 | H10: 15.3
B11: Construcții | C11: 1.1 | D11: -0.7 | E11: 0 | F11: 0.4 | G11: 3.1 | H11: -3.3
B12: Taxe pentru utilizarea proprietăţii intelectuale (n.a.p) | C12: 0 | D12: 0 | E12: 0.4 | F12: -0.4 | G12: -0.8 | H12: 0.9
B13: Servicii de informatică | C13: 4 | D13: 1.9 | E13: 1 | F13: 1 | G13: 9.4 | H13: 4.2
B14: Servicii profesionale şi de consultanţă managerială | C14: 0.1 | D14: 1.1 | E14: 0.3 | F14: 0.3 | G14: -0.2 | H14: 2.9
B15: Servicii tehnice, comerciale și alte servicii pentru afaceri | C15: -0.6 | D15: 4.7 | E15: 0.1 | F15: -1.5 | G15: -1.7 | H15: 18.9
B16: Bunuri și servicii ale administrației publice | C16: 0.3 | D16: 0.5 | E16: -0.2 | F16: 0.4 | G16: 1.1 | H16: 0.7
B17: Altele | C17: 0.7 | D17: -0.1 | E17: 1.2 | F17: -0.4 | G17: -0.1 | H17: 0.9
B18: Total | C18: 9.6 | D18: 13.2 | E18: 19.7 | F18: -1.8 | G18: -8.1 | H18: 47.7
B19: * date revizuite

Sheet D9
B1: I. Balanța de plăți a Republicii Moldova în trimestrul II 2026 (date provizorii)
B4: Diagrama 9. Exportul și importul de servicii pe principalele tipuri, în trimestrul II 2026 (mil. EUR)
C32: Export | D32: Import
B33: Servicii | C33: 790.655 | D33: 477.81507 | E33: 1
B34: Servicii de prelucrare a materiei prime | C34: 56.401303 | D34: 2.0709847 | E34: 1
B35: Transport | C35: 147.87568 | D35: 171.64404 | E35: 1
B36: Călătorii | C36: 243.317 | D36: 185.97361 | E36: 1
B37: Construcţii | C37: 6.5333782 | D37: 4.0756863 | E37: 1
B38: Servicii de informatică | C38: 190.20917 | D38: 31.089353 | E38: 1
B39: Bunuri şi servicii ale administrației publice (n.a.p.) | C39: 15.090547 | D39: 9.5980452 | E39: 1
B40: Servicii profesionale şi de consultanţă | C40: 35.069139 | D40: 18.75254 | E40: 1
B41: Servicii tehnice, comerciale şi alte servicii | C41: 72.485085 | D41: 22.75468 | E41: 1
B42: Altele | C42: 23.673703 | D42: 31.856125 | E42: 1
B44: Călătorii
C45: Export | D45: Import
B46: Personale | C46: 220.30314 | D46: 154.54875
B47: De afaceri | C47: 23.013861 | D47: 31.424859
B49: Transport
C50: Export | D50: Import
B51: Maritim | C51: 4.0491222 | D51: 30.966257
B52: Aerian | C52: 60.43005 | D52: 64.847768
B53: Auto | C53: 73.985043 | D53: 68.998103
B54: Altele | C54: 9.4114617 | D54: 6.8319117
B56: Informatică
C57: Export
B58: Aplicațiile program | C58: 48.020282
B59: Alte servicii de informatică | C59: 142.18888

Sheet T6
B1: I. Balanța de plăți a Republicii Moldova în trimestrul II 2026 (date provizorii)
B3: Tabelul 6. Servicii de informatică, pe principalele tipuri (mil. EUR)
C5: 2025 | G5: 2026 | I5: 2026 II / 2025 II
C6: I* | D6: II* | E6: III* | F6: IV* | G6: I* | H6: II
B7: Balanța, dintre care: | C7: 150.02139 | D7: 150.19502 | E7: 160.14094 | F7: 173.66718 | G7: 157.02518 | H7: 159.11981 | I7: {=_xlfn.IFS(H7/D7>=2,CONCATENATE("+de ",FIXED(H7/D7,1)," ori"),H7/D7>=1,CONCATENATE("+",FIXED((H7/D7-1)*100,1),"%"),H7/D7<0.5,CONCATENATE("-de ",FIXED(H7/D7,1)," ori"),H7/D7<1,CONCATENATE(FIXED((H7/D7*100-100),1),"%"))} -> +5,9%
B8: Servicii legate de aplicațiile de program | C8: 46.760706 | D8: 48.615171 | E8: 50.067753 | F8: 55.520469 | G8: 42.329042 | H8: 40.555787 | I8: {=_xlfn.IFS(H8/D8>=2,CONCATENATE("+de ",FIXED(H8/D8,1)," ori"),H8/D8>=1,CONCATENATE("+",FIXED((H8/D8-1)*100,1),"%"),H8/D8<0.5,CONCATENATE("-de ",FIXED(H8/D8,1)," ori"),H8/D8<1,CONCATENATE(FIXED((H8/D8*100-100),1),"%"))} -> -16,6%
B9: Alte servicii de informatică** | C9: 103.26069 | D9: 101.57985 | E9: 110.07319 | F9: 118.14671 | G9: 114.69614 | H9: 118.56403 | I9: {=_xlfn.IFS(H9/D9>=2,CONCATENATE("+de ",FIXED(H9/D9,1)," ori"),H9/D9>=1,CONCATENATE("+",FIXED((H9/D9-1)*100,1),"%"),H9/D9<0.5,CONCATENATE("-de ",FIXED(H9/D9,1)," ori"),H9/D9<1,CONCATENATE(FIXED((H9/D9*100-100),1),"%"))} -> +16,7%
B10: Export dintre care: | C10: 175.91084 | D10: 176.61156 | E10: 184.37955 | F10: 204.46991 | G10: 184.07867 | H10: 190.20917 | I10: {=_xlfn.IFS(H10/D10>=2,CONCATENATE("+de ",FIXED(H10/D10,1)," ori"),H10/D10>=1,CONCATENATE("+",FIXED((H10/D10-1)*100,1),"%"),H10/D10<0.5,CONCATENATE("-de ",FIXED(H10/D10,1)," ori"),H10/D10<1,CONCATENATE(FIXED((H10/D10*100-100),1),"%"))} -> +7,7%
B11: Servicii legate de aplicațiile de program | C11: 52.789979 | D11: 53.460472 | E11: 54.483637 | F11: 61.966609 | G11: 48.842139 | H11: 48.020282 | I11: {=_xlfn.IFS(H11/D11>=2,CONCATENATE("+de ",FIXED(H11/D11,1)," ori"),H11/D11>=1,CONCATENATE("+",FIXED((H11/D11-1)*100,1),"%"),H11/D11<0.5,CONCATENATE("-de ",FIXED(H11/D11,1)," ori"),H11/D11<1,CONCATENATE(FIXED((H11/D11*100-100),1),"%"))} -> -10,2%
B12: Alte servicii de informatică** | C12: 123.12086 | D12: 123.15109 | E12: 129.89591 | F12: 142.5033 | G12: 135.23653 | H12: 142.18888 | I12: {=_xlfn.IFS(H12/D12>=2,CONCATENATE("+de ",FIXED(H12/D12,1)," ori"),H12/D12>=1,CONCATENATE("+",FIXED((H12/D12-1)*100,1),"%"),H12/D12<0.5,CONCATENATE("-de ",FIXED(H12/D12,1)," ori"),H12/D12<1,CONCATENATE(FIXED((H12/D12*100-100),1),"%"))} -> +15,5%
B13: Import, dintre care: | C13: 25.889447 | D13: 26.416545 | E13: 24.23861 | F13: 30.802729 | G13: 27.053486 | H13: 31.089353 | I13: {=_xlfn.IFS(H13/D13>=2,CONCATENATE("+de ",FIXED(H13/D13,1)," ori"),H13/D13>=1,CONCATENATE("+",FIXED((H13/D13-1)*100,1),"%"),H13/D13<0.5,CONCATENATE("-de ",FIXED(H13/D13,1)," ori"),H13/D13<1,CONCATENATE(FIXED((H13/D13*100-100),1),"%"))} -> +17,7%
B14: Servicii legate de aplicațiile de program | C14: 6.0292731 | D14: 4.8453014 | E14: 4.4158846 | F14: 6.4461397 | G14: 6.5130971 | H14: 7.4644947 | I14: {=_xlfn.IFS(H14/D14>=2,CONCATENATE("+de ",FIXED(H14/D14,1)," ori"),H14/D14>=1,CONCATENATE("+",FIXED((H14/D14-1)*100,1),"%"),H14/D14<0.5,CONCATENATE("-de ",FIXED(H14/D14,1)," ori"),H14/D14<1,CONCATENATE(FIXED((H14/D14*100-100),1),"%"))} -> +54,1%
B15: Alte servicii de informatică** | C15: 19.860174 | D15: 21.571243 | E15: 19.822725 | F15: 24.35659 | G15: 20.540389 | H15: 23.624858 | I15: {=_xlfn.IFS(H15/D15>=2,CONCATENATE("+de ",FIXED(H15/D15,1)," ori"),H15/D15>=1,CONCATENATE("+",FIXED((H15/D15-1)*100,1),"%"),H15/D15<0.5,CONCATENATE("-de ",FIXED(H15/D15,1)," ori"),H15/D15<1,CONCATENATE(FIXED((H15/D15*100-100),1),"%"))} -> +9,5%
B16: * date revizuite
B17: ** Servicii de instalare și mentenanță software / hardware nepersonalizate, prelucrarea datelor, web hosting etc.

Sheet D10
B1: I. Balanța de plăți a Republicii Moldova în trimestrul II 2026 (date provizorii)
B4: Diagrama 10. Evoluția veniturilor primare
B48: * date revizuite
C50: 2025 | G50: 2026
C51: I* | D51: II* | E51: III* | F51: IV* | G51: I* | H51: II
B52: Sold / PIB (scala din dreapta) | C52: 0.012649167 | D52: -0.0060284925 | E52: -0.0065508525 | F52: 0.0048596958 | G52: 0.015677422 | H52: 0.0097432805
B53: Remunerarea salariaților, net | C53: 161.4895 | D53: 151.57603 | E53: 150.40676 | F53: 202.21266 | G53: 175.78317 | H53: 199.15506
B54: Venituri din investiţii, net | C54: -115.59584 | D54: -178.6758 | E54: -186.33163 | F54: -180.25488 | G54: -117.8704 | H54: -159.95003
B55: Alte venituri primare, net | C55: 1.6696118 | D55: 1.7406574 | E55: 1.8487934 | F55: 1.6921732 | G55: 2.6608518 | H55: 3.4617984
B56: Sold | C56: 47.563273 | D56: -25.359112 | E56: -34.076075 | F56: 23.649953 | G56: 60.57362 | H56: 42.66682
A58: Credit | B58: Remunerarea salariaților | C58: 222.33073 | D58: 1
B59: Venituri din investiții | C59: 46.240606 | D59: 1
B60: Alte venituri primare | C60: 3.6849792 | D60: 1
A61: Debit | B61: Remunerarea salariaților | C61: 23.175672 | D61: 1
B62: Venituri din investiții | C62: 206.19064 | D62: 1
B63: Alte venituri primare | C63: 0.22318085 | D63: 1
B66: … din active de rezervă | C66: 3.3691902
B67: … din alte investiţii | C67: 32.623155
B70: Venituri din investiţii directe | C70: 168.21765
B71: Venituri din alte investiţii | C71: 37.538727

Sheet D11
B1: I. Balanța de plăți a Republicii Moldova în trimestrul II 2026 (date provizorii)
B4: Diagrama 11. Evoluția veniturilor secundare, componente de bază
B51: * date revizuite
B52: ** Transferuri curente între gospodăriile populației rezidente și nerezidente
C54: 2025 | G54: 2026
C55: I* | D55: II* | E55: III* | F55: IV* | G55: I* | H55: II
B56: Sold | C56: 351.3952 | D56: 440.08458 | E56: 484.40111 | F56: 361.6159 | G56: 321.52202 | H56: 418.12482
B57: Cooperarea internațională curentă, net | C57: 116.0522 | D57: 145.41319 | E57: 154.13088 | F57: 88.099824 | G57: 66.231329 | H57: 89.325241
B58: Transferuri personale, net | C58: 145.27696 | D58: 157.38943 | E58: 157.88924 | F58: 124.09279 | G58: 135.13622 | H58: 149.98895
B59: Alte venituri secundare, net | C59: 90.066043 | D59: 137.28195 | E59: 172.38098 | F59: 149.42329 | G59: 120.15447 | H59: 178.81062
B60: Sold / PIB (%, scala din dreapta) | C60: 0.093451442 | D60: 0.10461906 | E60: 0.093122232 | F60: 0.074306418 | G60: 0.083215043 | H60: 0.09548186
C63: Intrări | D63: Ieșiri
B64: Impozite curente pe venit, patrimoniu, etc. | C64: 0.0092416307 | D64: 0 | E64: 1
B65: Contribuţii sociale | C65: 0.0021318314 | D65: 0.012042957 | E65: 1
B66: Cooperarea internaţională curentă | C66: 0.1734854 | D66: 0.026523296 | E66: 1
B67: Transferuri diverse ale administrației publice | C67: 0.0088339699 | D67: 0.0080430941 | E67: 1
B68: Transferuri personale | C68: 0.43946451 | D68: 0.73504063 | E68: 1
B69: Alte transferuri curente** | C69: 0.36684266 | D69: 0.21835002 | E69: 1

Sheet D12
B1: I. Balanța de plăți a Republicii Moldova în trimestrul II 2026 (date provizorii)
B4: Diagrama 12. Remiterile personale, pe componente și zone geografice
B25: Remiteri personale pe zone geografice
B47: * date revizuite
C49: 2025 | G49: 2026
C50: I* | D50: II* | E50: III* | F50: IV* | G50: I* | H50: II
B51: Transferuri personale | C51: 228.08837 | D51: 242.65949 | E51: 249.92253 | F51: 212.71746 | G51: 209.42638 | H51: 233.94867
B52: Remunerarea salariaților | C52: 156.10217 | D52: 148.50868 | E52: 150.1641 | F52: 196.68943 | G52: 167.74915 | H52: 190.02626
B53: Transferuri de capital între gospodăriile populației | C53: 16.360606 | D53: 19.703098 | E53: 21.771467 | F53: 23.705949 | G53: 16.892327 | H53: 26.384055
B54: Transferuri personale | C54: -82.811408 | D54: -85.270057 | E54: -92.033283 | F54: -88.624661 | G54: -74.290156 | H54: -83.95972
B55: Remunerarea salariaților | C55: -18.905821 | D55: -19.825601 | E55: -22.60055 | F55: -24.951815 | G55: -18.311581 | H55: -20.722651
B56: Transferuri de capital între gospodăriile populației | C56: -14.338524 | D56: -16.593115 | E56: -15.529791 | F56: -20.858163 | G56: -13.16551 | H56: -18.122334
B57: Credit, total | C57: 400.55115 | D57: 410.87127 | E57: 421.85809 | F57: 433.11283 | G57: 394.06785 | H57: 450.35899
B58: Debit, total | C58: -116.05575 | D58: -121.68877 | E58: -130.16362 | F58: -134.43464 | G58: -105.76725 | H58: -122.8047
B59: Remiteri personale (intrări) la PIB (%) | C59: 0.10652417 | D59: 0.097674333 | E59: 0.081098838 | F59: 0.088997919 | G59: 0.10199106 | H59: 0.10284277
C61: Cr | D61: Dt
B62: UE | C62: 0.73655459 | D62: 0.81005679
B63: Alte țări | C63: 0.40844649 | D63: 0.31533279
C65: 2025 | G65: 2026
C66: I* | D66: II* | E66: III* | F66: IV* | G66: I* | H66: II
B67: Total | C67: 400.55115 | D67: 410.87127 | E67: 421.85809 | F67: 433.11283 | G67: 394.06785 | H67: 450.35899
B68: UE | C68: 245.33713 | D68: 262.82576 | E68: 270.07676 | F68: 279.88379 | G68: 251.15946 | H68: 289.70626
B69: Alte țări | C69: 155.21402 | D69: 148.04551 | E69: 151.78133 | F69: 153.22905 | G69: 142.90839 | H69: 160.65273
B70: Total | C70: 116.05575 | D70: 121.68877 | E70: 130.16362 | F70: 134.43464 | G70: 105.76725 | H70: 122.8047
B71: UE | C71: 82.128071 | D71: 83.454948 | E71: 90.245722 | F71: 90.439439 | G71: 74.62437 | H71: 88.394976
B72: Alte țări | C72: 33.927683 | D72: 38.233824 | E72: 39.917902 | F72: 43.9952 | G72: 31.142877 | H72: 34.409729

Sheet D13
B1: I. Balanța de plăți a Republicii Moldova în trimestrul II 2026 (date provizorii)
B4: Diagrama 13. Evoluția contului de capital (mil EUR)
B29: * date revizuite
C31: 2025 | G31: 2026
C32: I* | D32: II* | E32: III* | F32: IV* | G32: I* | H32: II
B33: Sold CK | C33: 6.1756104 | D33: 6.9393466 | E33: 16.155753 | F33: 20.247388 | G33: 7.6876053 | H33: 19.366255
B34: % din PIB (scala din dreapta) | C34: 0.16423665 | D34: 0.16496555 | E34: 0.3105814 | F34: 0.41605219 | G34: 0.19896753 | H34: 0.44224259
D38: intrări | E38: ieșiri
B39: Administraţia publică | C39: 2025-I* | D39: 4.3437982
C40: 2025-II* | D40: 4.5618083
C41: 2025-III* | D41: 10.783093
C42: 2025-IV* | D42: 16.289549
C43: 2026-I* | D43: 5.8029916
C44: 2026-II | D44: 11.104534
B45: Societăţi financiare și nefinanciare, GP şi IFSLSGP | C45: 2025-I* | D45: 16.360606 | E45: 14.338524
C46: 2025-II* | D46: 19.703098 | E46: 16.593115
C47: 2025-III* | D47: 22.186194 | E47: 15.529791
C48: 2025-IV* | D48: 24.910509 | E48: 20.858163
C49: 2026-I* | D49: 16.892327 | E49: 13.16551
C50: 2026-II | D50: 26.384055 | E50: 18.122334

Sheet D14
B1: I. Balanța de plăți a Republicii Moldova în trimestrul II 2026 (date provizorii)
B4: Diagrama 14. Contul financiar, active și pasive financiare pe categorii funcționale în trimestrul II 2026 (mil. EUR)
C34: Achiziția netă de active financiare | D34: Acumularea netă de pasive
B35: Total | C35: -769.80678 | D35: 126.40231
B36: Investiţii directe | C36: 33.09731 | D36: 95.252862
B37: Investiții de portofoliu | C37: -24.937814 | D37: 0.00781457
B38: Alte fluxuri financiare | C38: 0.81080217 | D38: -0.69579921
B39: Numerar şi depozite | C39: -683.29062 | D39: 29.319378
B40: Împrumuturi | C40: -5.7229235 | D40: -106.82339
B41: Sisteme de asigurări și pensii | D41: 0.17977317
B42: Credite comerciale şi avansuri | C42: -26.153064 | D42: 109.06167
B43: Active de rezervă | C43: -63.610471

Sheet T7
B1: I. Balanța de plăți a Republicii Moldova în trimestrul II 2026 (date provizorii)
B3: Tabelul 7. Fluxuri financiare nete
C5: 2025 | G5: 2026 | I5: 2025 | M5: 2026
C6: I* | D6: II* | E6: III* | F6: IV* | G6: I* | H6: II | I6: I* | J6: II* | K6: III* | L6: IV* | M6: I* | N6: II
C7: mil. EUR | I7: raportat la PIB
B8: Contul financiar | C8: -719.35231 | D8: -764.92838 | E8: -757.29775 | F8: -1049.1016 | G8: -634.68573 | H8: -896.20909 | I8: -0.19130743 | J8: -0.18184252 | K8: -0.14558443 | L8: -0.21557399 | M8: -0.16426682 | N8: -0.2046559
B9: Investiții directe | C9: -106.40611 | D9: -87.136269 | E9: -10.189138 | F9: -135.0627 | G9: -42.591635 | H9: -62.155552 | I9: -0.028298066 | J9: -0.020714461 | K9: -0.0019587801 | L9: -0.027753275 | M9: -0.011023397 | N9: -0.014193675
B10: Investiţii de portofoliu | C10: 29.634611 | D10: -1.2741734 | E10: 14.740984 | F10: -6.5168573 | G10: 34.048907 | H10: -24.945629 | I10: 0.0078811468 | J10: -0.00030290275 | K10: 0.002833836 | L10: -0.0013391123 | M10: 0.0088124019 | N10: -0.0056965168
B11: Alte investiții, dintre care: | C11: -508.24575 | D11: -885.76302 | E11: -858.44123 | F11: -848.83276 | G11: -749.63852 | H11: -745.49744 | I11: -0.1351649 | J11: -0.21056793 | K11: -0.16502845 | L11: -0.17442187 | M11: -0.19401844 | N11: -0.17023979
B12: Alte participaţii la capital | C12: 0 | D12: 3.3075485 | E12: 0.29953994 | F12: 0.80646183 | G12: 0 | H12: 0.81080217 | I12: 0 | J12: 0.00078628663 | K12: 5.7584154e-05 | L12: 0.0001657153 | M12: 0 | N12: 0.00018515261
B13: Numerar și depozite | C13: -311.14141 | D13: -581.0039 | E13: -624.96191 | F13: -687.39746 | G13: -390.21633 | H13: -712.61 | I13: -0.082746189 | J13: -0.13811909 | K13: -0.12014392 | L13: -0.14124944 | M13: -0.10099423 | N13: -0.1627297
B14: Împrumuturi | C14: 50.801586 | D14: -197.87519 | E14: -78.098132 | F14: -169.1389 | G14: -223.01611 | H14: 101.10047 | I14: 0.013510377 | J14: -0.047039859 | K14: -0.01501374 | L14: -0.0347554 | M14: -0.057720137 | N14: 0.023087031
B15: Sisteme de asigurări, de pensii și scheme de garanții standardizate | C15: 0.98294146 | D15: -0.15077772 | E15: -1.0734519 | F15: -2.073375 | G15: -0.95222012 | H15: -0.17977317 | I15: 0.00026140738 | J15: -3.5843619e-05 | K15: -0.00020636253 | L15: -0.00042604617 | M15: -0.0002464498 | N15: -4.1052518e-05
B16: Credite comerciale și avansuri | C16: -249.78434 | D16: -110.71353 | E16: -155.31331 | F16: 8.2133652 | G16: -136.20663 | H16: -135.21474 | I16: -0.066428645 | J16: -0.026319363 | K16: -0.02985774 | L16: 0.0016877182 | M16: -0.035252456 | N16: -0.030877274
B17: Alte creanțe / angajamente | C17: 0.73950162 | D17: 0.68377344 | E17: 0.66101543 | F17: 0.6635853 | G17: 0.66406911 | H17: 0.66660678 | I17: 0.00019666601 | J17: 0.00016254997 | K17: 0.00012707492 | L17: 0.00013635641 | M17: 0.00017187171 | N17: 0.00015222453
B18: Modificarea activelor de rezervă | C18: -134.33506 | D18: 209.24508 | E18: 96.591631 | F18: -58.689279 | G18: 123.49552 | H18: -63.610471 | I18: -0.035725603 | J18: 0.049742767 | K18: 0.018568967 | L18: -0.01205973 | M18: 0.031962616 | N18: -0.014525916
B19: Notă: (-) – intrări nete de capital, (+) – ieșiri nete de capital
B20: * date revizuite

Sheet T8
B1: I. Balanța de plăți a Republicii Moldova în trimestrul II 2026 (date provizorii)
B3: Tabelul 8. Investiții directe, intrări și ieșiri de capital (mil. EUR)
C5: 2025 | K5: 2026
C6: I* | E6: II* | G6: III* | I6: IV* | K6: I* | M6: II
C7: intrări | D7: ieșiri | E7: intrări | F7: ieșiri | G7: intrări | H7: ieșiri | I7: intrări | J7: ieșiri | K7: intrări | L7: ieșiri | M7: intrări | N7: ieșiri
B8: Investiții directe | C8: 203.97112 | D8: 97.565006 | E8: 218.14912 | F8: 131.01285 | G8: 202.46777 | H8: 192.27863 | I8: 301.81437 | J8: 166.75166 | K8: 130.87972 | L8: 88.28809 | M8: 164.38957 | N8: 102.23402
B9: Active | C9: 64.633028 | D9: 63.610682 | E9: 65.891031 | F9: 83.567803 | G9: 34.692757 | H9: 140.3793 | I9: 120.88045 | J9: 62.165101 | K9: 24.427939 | L9: 46.717105 | M9: 9.9644163 | N9: 43.061726
B10: Pasive | C10: 139.33809 | D10: 33.954324 | E10: 152.25809 | F10: 47.445046 | G10: 167.77502 | H10: 51.899332 | I10: 180.93392 | J10: 104.58656 | K10: 106.45179 | L10: 41.570985 | M10: 154.42516 | N10: 59.172297
B11: Participaţii la capital și acțiuni ale fondurilor de investiții, exceptând reinvestirea profiturilor | C11: 14.365568 | D11: 4.8916415 | E11: 12.150018 | F11: 1.1914859 | G11: 29.605805 | H11: 2.9715056 | I11: 20.431026 | J11: 70.890522 | K11: 7.7967208 | L11: 14.871558 | M11: 5.2607196 | N11: 34.247057
B12: Reinvestirea profiturilor (+) / pierderi (-) | C12: 84.317863 | D12: 0 | E12: 98.450013 | F12: 0 | G12: 100.27868 | H12: 0 | I12: 121.03743 | J12: 0 | K12: 62.800518 | L12: 0 | M12: 99.073979 | N12: 0
B13: Instrumente de natura datoriei | C13: 40.654658 | D13: 29.062682 | E13: 41.658056 | F13: 46.25356 | G13: 37.890533 | H13: 48.927827 | I13: 39.465464 | J13: 33.696041 | K13: 35.854547 | L13: 26.699426 | M13: 50.09046 | N13: 24.925239
B14: Notă: Achiziția activelor financiare se reflectă pe debit la ieșiri, iar retragerea activelor financiare - pe credit la intrări. Acumularea pasivelor se reflectă pe credit la intrări, iar stingerea pasivelor - pe debit la ieșiri.
B15: * date revizuite

Sheet D15
B1: I. Balanța de plăți a Republicii Moldova în trimestrul II 2026 (date provizorii)
B4: Diagrama 15. Împrumuturi externe (pasive, fără cele intragrup), valorificări și rambursări, în trimestrul II 2026 (mil. EUR)
C28: valorificări | D28: rambursări | H28: valorificări | I28: rambursări
B29: Administraţia publică | C29: 35.386533 | D29: 68.166106 | G29: termen scurt | H29: 0.56444258 | I29: 1.1642525
B30: Societăţi care acceptă depozite, cu excepția BC | C30: 31.093512 | D30: 11.657672 | G30: termen lung | H30: 191.11031 | I30: 297.33389
B31: Societăţi nefinanciare, GP şi IFSLSGP | C31: 17.058146 | D31: 169.70873
B32: Alte societăţi financiare | C32: 108.10353 | D32: 45.47803
B33: Banca centrală | C33: 0.033039 | D33: 3.4876023
B34: Împrumuturi | C34: 191.67476 | D34: 298.49814

Sheet D16
B1: I. Balanța de plăți a Republicii Moldova în trimestrul II 2026 (date provizorii)
B4: Diagrama 16. Principalii creditori ai administrației publice, în trimestrul II 2026
B30: AID | C30: 0.37595125
B31: BIRD | C31: 0.246847
B32: BERD | C32: 0.14801633
B33: Comisia Europeană | C33: 0.11596171
B34: Guvernul Franței | C34: 0.042017821
B35: BEI | C35: 0.034669066
B36: Alți creditori | C36: 0.036536821

Sheet T9
B1: II. Poziția investițională internațională a Republicii Moldova la 30.06.2026 (date provizorii)
B3: Tabelul 9. Indicatorii principali aferenţi poziţiei investiţionale internaţionale
C5: 31.03.2025* | D5: 30.06.2025* | E5: 30.09.2025* | F5: 31.12.2025* | G5: 31.03.2026* | H5: 46203 | I5: 30.06.2026 / 31.12.2025
C6: mil. EUR
B7: Poziția investițională internațională netă (PII) | C7: -6324.2712 | D7: -6409.7567 | E7: -6447.8453 | F7: -6287.1187 | G7: -6147.0566 | H7: -6586.8608 | I7: {=_xlfn.IFS(H7/F7>=2,CONCATENATE("+de ",FIXED(H7/F7,1)," ori"),H7/F7>=1,CONCATENATE("+",FIXED((H7/F7-1)*100,1),"%"),H7/F7<0.5,CONCATENATE("-de ",FIXED(H7/F7,1)," ori"),H7/F7<1,CONCATENATE(FIXED((H7/F7*100-100),1),"%"))} -> +4,8%
B8: Active | C8: 7251.8658 | D8: 7071.2041 | E8: 7251.0473 | F8: 7267.6508 | G8: 7670.5889 | H8: 7526.759 | I8: {=_xlfn.IFS(H8/F8>=2,CONCATENATE("+de ",FIXED(H8/F8,1)," ori"),H8/F8>=1,CONCATENATE("+",FIXED((H8/F8-1)*100,1),"%"),H8/F8<0.5,CONCATENATE("-de ",FIXED(H8/F8,1)," ori"),H8/F8<1,CONCATENATE(FIXED((H8/F8*100-100),1),"%"))} -> +3,6%
B9: Pasive | C9: 13576.137 | D9: 13480.961 | E9: 13698.893 | F9: 13554.77 | G9: 13817.646 | H9: 14113.62 | I9: {=_xlfn.IFS(H9/F9>=2,CONCATENATE("+de ",FIXED(H9/F9,1)," ori"),H9/F9>=1,CONCATENATE("+",FIXED((H9/F9-1)*100,1),"%"),H9/F9<0.5,CONCATENATE("-de ",FIXED(H9/F9,1)," ori"),H9/F9<1,CONCATENATE(FIXED((H9/F9*100-100),1),"%"))} -> +4,1%
B10: Activele oficiale de rezervă | C10: 5050.8652 | D10: 5070.2358 | E10: 5163.6878 | F10: 5104.2665 | G10: 5266.5449 | H10: 5216.0905 | I10: {=_xlfn.IFS(H10/F10>=2,CONCATENATE("+de ",FIXED(H10/F10,1)," ori"),H10/F10>=1,CONCATENATE("+",FIXED((H10/F10-1)*100,1),"%"),H10/F10<0.5,CONCATENATE("-de ",FIXED(H10/F10,1)," ori"),H10/F10<1,CONCATENATE(FIXED((H10/F10*100-100),1),"%"))} -> +2,2%
B11: Investiţiile directe, pasive | C11: 5253.8016 | D11: 5207.3181 | E11: 5267.4417 | F11: 5246.1881 | G11: 5131.512 | H11: 5370.5965 | I11: {=_xlfn.IFS(H11/F11>=2,CONCATENATE("+de ",FIXED(H11/F11,1)," ori"),H11/F11>=1,CONCATENATE("+",FIXED((H11/F11-1)*100,1),"%"),H11/F11<0.5,CONCATENATE("-de ",FIXED(H11/F11,1)," ori"),H11/F11<1,CONCATENATE(FIXED((H11/F11*100-100),1),"%"))} -> +2,4%
B12: Împrumuturi (fără cele intragrup), pasive | C12: 5667.4347 | D12: 5703.9528 | E12: 5781.4033 | F12: 5935.9706 | G12: 6199.7673 | H12: 6107.5249 | I12: {=_xlfn.IFS(H12/F12>=2,CONCATENATE("+de ",FIXED(H12/F12,1)," ori"),H12/F12>=1,CONCATENATE("+",FIXED((H12/F12-1)*100,1),"%"),H12/F12<0.5,CONCATENATE("-de ",FIXED(H12/F12,1)," ori"),H12/F12<1,CONCATENATE(FIXED((H12/F12*100-100),1),"%"))} -> +2,9%
C13: % | I13: p.p.
B14: PII / PIB | C14: -37.1 | D14: -37.1 | E14: -36.3 | F14: -34.9 | G14: -33.9 | H14: -36 | I14: =H14-F14 -> -1.1
B15: Activele externe / pasivele externe | C15: 53.4 | D15: 52.5 | E15: 52.9 | F15: 53.6 | G15: 55.5 | H15: 53.3 | I15: =H15-F15 -> -0.3
B16: Ponderea ISD în stocul pasivelor externe | C16: 38.7 | D16: 38.6 | E16: 38.5 | F16: 38.7 | G16: 37.1 | H16: 38.1 | I16: =H16-F16 -> -0.6
B17: Ponderea împrumuturilor (fără împrumuturile intragrup) în stocul pasivelor externe | C17: 41.7 | D17: 42.3 | E17: 42.2 | F17: 43.8 | G17: 44.9 | H17: 43.3 | I17: =H17-F17 -> -0.5
B18: * date revizuite

Sheet T10
B1: II. Poziția investițională internațională a Republicii Moldova la 30.06.2026 (date provizorii)
B3: Tabelul 10. Poziţia investiţională internaţională (mil. EUR)
C5: Poziția la 31.12.2025* | D5: Modificări care reflectă: | I5: Poziția la 30.06.2026
D6: dinamica totală | E6: fluxul din BP | F6: schimbări de preţ | G6: fluctuaţia ratei de schimb** | H6: alte schimbări
B7: Poziţia investiţională internaţională (netă) | C7: -6287.1187 | D7: -299.74211 | E7: -1530.8948 | F7: -8.1798088 | G7: 66.997489 | H7: 1172.335 | I7: -6586.8608
B8: Active | C8: 7267.6508 | D8: 259.10818 | E8: -1017.7951 | F8: -17.633453 | G8: 122.32643 | H8: 1172.2103 | I8: 7526.759
B9: Investiţii directe | C9: 601.87472 | D9: 75.670138 | E9: 55.386476 | F9: 0 | G9: 20.283662 | H9: 0 | I9: 677.54486
B10: Investiţii de portofoliu | C10: 119.94679 | D10: 13.466642 | E10: 9.2463446 | F10: 0.00203843 | G10: 4.218259 | H10: 0 | I10: 133.41343
B11: Alte investiţii | C11: 1441.5628 | D11: 58.147453 | E11: -1142.313 | F11: 0 | G11: 28.250119 | H11: 1172.2103 | I11: 1499.7102
B12: Active de rezervă*** | C12: 5104.2665 | D12: 111.82394 | E12: 59.885045 | F12: -17.635491 | G12: 69.574388 | H12: 0 | I12: 5216.0905
B13: Pasive | C13: 13554.77 | D13: 558.85029 | E13: 513.09969 | F13: -9.4536443 | G13: 55.328939 | H13: -0.12470013 | I13: 14113.62
B14: Investiții directe | C14: 5246.1881 | D14: 124.40846 | E14: 160.13366 | F14: -6.7261641 | G14: -28.9995 | H14: 0.00045695 | I14: 5370.5965
B15: Investiţii de portofoliu | C15: 22.757323 | D15: -2.0792573 | E15: 0.14306669 | F15: -2.7274801 | G15: 0.50515615 | H15: 0 | I15: 20.678065
B16: Alte investiţii | C16: 8285.8242 | D16: 436.52109 | E16: 352.82296 | F16: 0 | G16: 83.823283 | H16: -0.12515709 | I16: 8722.3452
B17: Notă: Pentru evaluarea pozițiilor se utilizează cross‑cursurile oficiale de schimb ale valutelor originale faţă de dolarul SUA, la sfârşit de perioadă.
B18: * date revizuite
B19: ** fluctuația ratei reflectă fluctuația EUR (valuta conversiei) față de USD (valuta de compilare) și indirect fluctuația valutelor originale ale instrumentelor financiare față de USD.
B20: *** fluxuri evaluate la rata de schimb zilnică

Sheet D17
B1: II. Poziția investițională internațională a Republicii Moldova la 30.06.2026 (date provizorii)
B4: Diagrama 17. Poziția investițională internațională netă, pe sectoare instituționale (% la PIB)
B23: * date revizuite
C25: 31.03.2025* | D25: 30.06.2025* | E25: 30.09.2025* | F25: 31.12.2025* | G25: 31.03.2026* | H25: 30.06.2026
B26: Banca сentrală | C26: 29.395596 | D26: 29.105304 | E26: 28.90495 | F26: 28.138193 | G26: 28.881139 | H26: 28.351586
B27: Administraţia publică | C27: -23.379364 | D27: -23.397877 | E27: -23.172321 | F27: -22.971368 | G27: -23.854516 | H27: -23.494663
B28: Societăţi care acceptă depozite | C28: -2.8262672 | D28: -2.8730493 | E28: -2.5545959 | F28: -3.5005706 | G28: -2.5694899 | H28: -3.3891317
B29: Alte sectoare | C29: -40.294666 | D29: -39.88632 | E29: -39.503954 | F29: -36.526798 | G29: -36.346425 | H29: -37.439586
B30: PII netă | C30: -37.104701 | D30: -37.052152 | E30: -36.325634 | F30: -34.860356 | G30: -33.889348 | H30: -35.971794

Sheet D18
B1: II. Poziția investițională internațională a Republicii Moldova la 30.06.2026 (date provizorii)
B4: Diagrama 18. Structura activelor şi pasivelor financiare externe, pe categorii funcționale (%)
B29: * date revizuite
B31: Active | D31: 31.03.2025* | E31: 30.06.2025* | F31: 30.09.2025* | G31: 31.12.2025* | H31: 31.03.2026* | I31: 30.06.2026
C32: Investiţii directe | D32: 8 | E32: 7.8 | F32: 9.1 | G32: 8.3 | H32: 8.3 | I32: 9
C33: Investiţii de portofoliu | D33: 1.6 | E33: 1.5 | F33: 1.7 | G33: 1.7 | H33: 2.1 | I33: 1.8
C34: Alte investiţii | D34: 20.7 | E34: 18.9 | F34: 18 | G34: 19.8 | H34: 21 | I34: 19.9
C35: Active de rezervă | D35: 69.6 | E35: 71.7 | F35: 71.2 | G35: 70.2 | H35: 68.7 | I35: 69.3
B36: Pasive | C36: Alte investiţii | D36: -61.1 | E36: -61.2 | F36: -61.4 | G36: -61.1 | H36: -62.7 | I36: -61.8
C37: Investiţii directe | D37: -38.7 | E37: -38.6 | F37: -38.5 | G37: -38.7 | H37: -37.1 | I37: -38.1
C38: Investiţii de portofoliu | D38: -0.2 | E38: -0.1 | F38: -0.1 | G38: -0.2 | H38: -0.1 | I38: -0.1

Sheet D19
B1: II. Poziția investițională internațională a Republicii Moldova la 30.06.2026 (date provizorii)
B4: Diagrama 19. Indicatorii suficienței activelor oficiale de rezervă
B29: Notă: Criteriile se bazează pe recomandările FMI din "Assessing Reserve Adequacy - Specific Proposals", aprilie 2015
B30: http://www.imf.org/external/np/pp/eng/2014/121914.pdf
B31: * date revizuite
C33: 31.03.2025* | D33: 30.06.2025* | E33: 30.09.2025* | F33: 31.12.2025* | G33: 31.03.2026* | H33: 30.06.2026
B34: Active de rezervă | C34: 5050.8652 | D34: 5070.2358 | E34: 5163.6878 | F34: 5104.2665 | G34: 5266.5449 | H34: 5216.0905
B35: 3 luni de import efectiv de bunuri şi servicii | C35: 2544.5379 | D35: 2604.6315 | E35: 2642.6215 | F35: 2712.8959 | G35: 2712.0723 | H35: 2771.0378
B36: 100% din datoria externă pe termen scurt | C36: 3711.4223 | D36: 3734.3096 | E36: 3695.3337 | F36: 3424.1017 | G36: 3740.7985 | H36: 3473.4473
B37: 20% din M2 | C37: 1319.0036 | D37: 1352.9961 | E37: 1388.3277 | F37: 1463.6054 | G37: 1444.8469 | H37: 1505.4599
B38: 100% din (30%DTS + 15%AA + 5%M2 + 5%eX) | C38: 2614.3468 | D38: 2631.1636 | E38: 2648.6904 | F38: 2619.8221 | G38: 2758.2654 | H38: 2690.7865
B39: 100-150% din (30%DTS + 15%AA + 5%M2 + 5%eX) | C39: =C38*1.5 -> 3921.5202 | D39: =D38*1.5 -> 3946.7454 | E39: =E38*1.5 -> 3973.0356 | F39: =F38*1.5 -> 3929.7331 | G39: =G38*1.5 -> 4137.3982 | H39: =H38*1.5 -> 4036.1797

Sheet D20
B1: II. Poziția investițională internațională a Republicii Moldova la 30.06.2026 (date provizorii)
B4: Diagrama 20. Poziția investiţiilor directe**, capital propriu, pe zone geografice (mil. EUR)
B29: * date revizuite
B30: ** poziții calculate conform valorii de bilanț, distribuţia pe ţări în baza investitorului nemijlocit
C32: 31.03.2025* | D32: 30.06.2025* | E32: 30.09.2025* | F32: 31.12.2025* | G32: 31.03.2026* | H32: 30.06.2026
B33: Total | C33: 3473.1802 | D33: 3532.9624 | E33: 3605.2265 | F33: 3610.5592 | G33: 3460.1922 | H33: 3664.9311
B34: UE | C34: 2972.5338 | D34: 3024.4869 | E34: 3039.5345 | F34: 3026.9534 | G34: 2924.6822 | H34: 3084.932
B35: Alte ţări | C35: 500.6464 | D35: 508.47557 | E35: 565.69199 | F35: 583.60588 | G35: 535.50999 | H35: 579.99907

Sheet D21
B1: II. Poziția investițională internațională a Republicii Moldova la 30.06.2026 (date provizorii)
B4: Diagrama 21. Investiţiile directe, angajamente, capital propriu acumulat la 30.06.2026, pe activităţi economice (conform CAEM-2)
B36: Altele | C36: 0.0042771054
B37: Activități financiare și asigurări | C37: 0.34160159
B38: Comerț cu ridicata și cu amănuntul; repararea autovehiculelor | C38: 0.2382483
B39: Industria prelucrătoare | C39: 0.15950396
B40: Informații și comunicații | C40: 0.07362117
B41: Tranzacții imobiliare | C41: 0.068726433
B42: Transport și depozitare | C42: 0.035970114
B43: Producția și furnizarea de energie electrică și termică, gaze, apă caldă și aer condiționat | C43: 0.034116172
B44: Activități profesionale, științifice și tehnice | C44: 0.015884272
B45: Sănătate și asistență socială | C45: 0.015665277
B46: Agricultura, silvicultura și pescuit | C46: 0.012385609

Sheet D22
B1: II. Poziția investițională internațională a Republicii Moldova la 30.06.2026 (date provizorii)
B4: Diagrama 22. Structura activelor şi pasivelor financiare externe, pe scadenţe (%)
B32: * date revizuite
D35: 31.03.2025* | E35: 30.06.2025* | F35: 30.09.2025* | G35: 31.12.2025* | H35: 31.03.2026* | I35: 30.06.2026
B36: Active | C36: pe termen scurt | D36: 40.958902 | E36: 39.158165 | F36: 41.108986 | G36: 39.430501 | H36: 38.804088 | I36: 34.382369
C37: pe termen lung | D37: 59.041098 | E37: 60.841835 | F37: 58.891014 | G37: 60.569499 | H37: 61.195912 | I37: 65.617631
B38: Pasive | C38: pe termen lung | D38: -80.840005 | E38: -81.254433 | F38: -80.815584 | G38: -82.82219 | H38: -82.225056 | I38: -81.490548
C39: pe termen scurt | D39: -19.159995 | E39: -18.745567 | F39: -19.184416 | G39: -17.17781 | H39: -17.774944 | I39: -18.509452

Sheet T11
B1: III. Datoria externă brută la 30.06.2026 (date provizorii)
B3: Tabelul 11. Datoria externă brută
C5: 31.03.2025* | D5: 30.06.2025* | E5: 30.09.2025* | F5: 31.12.2025* | G5: 31.03.2026* | H5: 46203 | I5: 30.06.2026 / 31.12.2025
C6: mil. EUR
B7: Datoria externă brută | C7: 10081.599 | D7: 9927.7449 | E7: 10072.337 | F7: 9918.17 | G7: 10332.703 | H7: 10423.574 | I7: {=_xlfn.IFS(H7/F7>=2,CONCATENATE("+de ",FIXED(H7/F7,1)," ori"),H7/F7>=1,CONCATENATE("+",FIXED((H7/F7-1)*100,1),"%"),H7/F7<0.5,CONCATENATE("-de ",FIXED(H7/F7,1)," ori"),H7/F7<1,CONCATENATE(FIXED((H7/F7*100-100),1),"%"))} -> +5,1%
B8: Datoria externă publică | C8: 4058.1682 | D8: 4115.2151 | E8: 4179.0834 | F8: 4308.9754 | G8: 4544.3595 | H8: 4362.5302 | I8: {=_xlfn.IFS(H8/F8>=2,CONCATENATE("+de ",FIXED(H8/F8,1)," ori"),H8/F8>=1,CONCATENATE("+",FIXED((H8/F8-1)*100,1),"%"),H8/F8<0.5,CONCATENATE("-de ",FIXED(H8/F8,1)," ori"),H8/F8<1,CONCATENATE(FIXED((H8/F8*100-100),1),"%"))} -> +1,2%
B9: Datoria externă privată | C9: 6023.4307 | D9: 5812.5298 | E9: 5893.2539 | F9: 5609.1946 | G9: 5788.3438 | H9: 6061.0442 | I9: {=_xlfn.IFS(H9/F9>=2,CONCATENATE("+de ",FIXED(H9/F9,1)," ori"),H9/F9>=1,CONCATENATE("+",FIXED((H9/F9-1)*100,1),"%"),H9/F9<0.5,CONCATENATE("-de ",FIXED(H9/F9,1)," ori"),H9/F9<1,CONCATENATE(FIXED((H9/F9*100-100),1),"%"))} -> +8,1%
B10: Pe termen scurt** | C10: 2601.1872 | D10: 2527.0825 | E10: 2628.0525 | F10: 2328.4126 | G10: 2456.0787 | H10: 2612.3536 | I10: {=_xlfn.IFS(H10/F10>=2,CONCATENATE("+de ",FIXED(H10/F10,1)," ori"),H10/F10>=1,CONCATENATE("+",FIXED((H10/F10-1)*100,1),"%"),H10/F10<0.5,CONCATENATE("-de ",FIXED(H10/F10,1)," ori"),H10/F10<1,CONCATENATE(FIXED((H10/F10*100-100),1),"%"))} -> +12,2%
B11: Pe termen lung | C11: 7480.4118 | D11: 7400.6624 | E11: 7444.2847 | F11: 7589.7574 | G11: 7876.6246 | H11: 7811.2208 | I11: {=_xlfn.IFS(H11/F11>=2,CONCATENATE("+de ",FIXED(H11/F11,1)," ori"),H11/F11>=1,CONCATENATE("+",FIXED((H11/F11-1)*100,1),"%"),H11/F11<0.5,CONCATENATE("-de ",FIXED(H11/F11,1)," ori"),H11/F11<1,CONCATENATE(FIXED((H11/F11*100-100),1),"%"))} -> +2,9%
C12: % | I12: p.p.
B13: DE publică în DE brută | C13: 40.3 | D13: 41.5 | E13: 41.5 | F13: 43.4 | G13: 44 | H13: 41.9 | I13: =H13-F13 -> -1.5
B14: DE privată în DE brută | C14: 59.7 | D14: 58.5 | E14: 58.5 | F14: 56.6 | G14: 56 | H14: 58.1 | I14: =H14-F14 -> 1.5
B15: DE pe termen lung în DE brută | C15: 74.2 | D15: 74.5 | E15: 73.9 | F15: 76.5 | G15: 76.2 | H15: 74.9 | I15: =H15-F15 -> -1.6
B16: DE pe termen scurt în DE brută | C16: 25.8 | D16: 25.5 | E16: 26.1 | F16: 23.5 | G16: 23.8 | H16: 25.1 | I16: =H16-F16 -> 1.6
C17: % din PIB | I17: p.p.
B18: Datoria externă brută | C18: 59.1 | D18: 57.4 | E18: 56.7 | F18: 55 | G18: 57 | H18: 56.9 | I18: =H18-F18 -> 1.9
B19: Datoria externă publică | C19: 23.8 | D19: 23.8 | E19: 23.5 | F19: 23.9 | G19: 25.1 | H19: 23.8 | I19: =H19-F19 -> -0.1
B20: Datoria externă privată | C20: 35.3 | D20: 33.6 | E20: 33.2 | F20: 31.1 | G20: 31.9 | H20: 33.1 | I20: =H20-F20 -> 2
