Workbook

Sheet Cuprins
B3: ANEXE:
B5: ='bp1'!B2 -> Anexa 1. Balanţa de plăţi a Republicii Moldova pentru anul 2025 - trimestrul II 2026, prezentare standard
B6: ='bp2'!B2 -> Anexa 2. Balanţa de plăţi a Republicii Moldova pentru trimestrul II 2025 - trimestrul II 2026, prezentare desfășurată
B7: ='bp3'!B2 -> Anexa 3. Sinteza balanţei de plăţi a Republicii Moldova pentru anul 2025 - trimestrul II 2026, prezentare analitică
B8: ='c4'!B2 -> Anexa 4. Exportul de bunuri pe grupuri de ţări, conform balanței de plăți, pentru anul 2025 - trimestrul II 2026
B9: ='c5'!B2 -> Anexa 5. Importul de bunuri pe grupuri de ţări, conform balanței de plăți, pentru anul 2025 - trimestrul II 2026
B10: ='c6'!B2 -> Anexa 6. Exportul de bunuri pe principalele categorii de mărfuri, conform balanței de plăți, pentru anul 2025 - trimestrul II 2026
B11: ='c7'!B2 -> Anexa 7. Importul de bunuri pe principalele categorii de mărfuri, conform balanței de plăți, pentru anul 2025 - trimestrul II 2026
B12: ='c8'!B2 -> Anexa 8. Reexportul de bunuri, conform statisticii comerțului internațional cu bunuri (IMTS) fără bunurile pentru/după prelucrare, pe grupuri de ţări, pentru anul 2025 - trimestrul II 2026
B13: ='c9'!B2 -> Anexa 9. Reexportul de bunuri, conform statisticii comerțului internațional cu bunuri (IMTS) fără bunurile pentru/după prelucrare, pe categorii de mărfuri, pentru anul 2025 - trimestrul II 2026
B14: ='c10'!B2 -> Anexa 10. Comerțul cu servicii conform clasificatorului EBOPS pentru perioada trimestrul II 2025 - tr. II 2026
B15: ='pii11'!B2 -> Anexa 11. Poziţia investiţională internaţională a Republicii Moldova, pentru perioada 31.03.2025 - 30.06.2026, sinteza generală
B16: ='pii12'!B2 -> Anexa 12. Poziţia investiţională internaţională a Republicii Moldova la 31.03.2026, cu detalii suplimentare
B17: ='pii13'!B2 -> Anexa 13. Poziţia investiţională internaţională a Republicii Moldova la 30.06.2026, cu detalii suplimentare
B18: ='pii14'!B2 -> Anexa 14. Poziţia investiţională internaţională a Republicii Moldova pentru perioada 31.03.2025 - 30.06.2026, prezentare analitică, sectorială
B19: ='pii15'!B2 -> Anexa 15. Poziţia investiţională internaţională a Republicii Moldova pentru perioada 31.03.2025 - 30.06.2026, prezentare analitică, pe instrumente
B20: ='pii16'!B2 -> Anexa 16. Poziţia investiţională internaţională a Republicii Moldova pentru perioada 31.03.2025 - 30.06.2026, prezentare analitică, pe scadențe
B21: ='pii17'!B2 -> Anexa 17. Poziția investițiilor directe, conform principiului direcțional, pentru perioada 31.03.2025 - 30.06.2026
B22: ='de18'!B2 -> Anexa 18. Datoria externă a Republicii Moldova pentru perioada 31.03.2025 - 30.06.2026, prezentare sectorială
B23: ='de19'!B2 -> Anexa 19. Datoria externă publică şi privată pentru perioada 31.03.2025 - 30.06.2026
B25: Note:
B26: 1. În unele cazuri sunt posibile diferențe nesemnificative între totaluri și suma componentelor, ca urmare a rotunjirii datelor.
B27: 2. Indicatorii prezentați sunt calculați prin conversia datelor din USD în EUR, utilizând cursul de schimb USD/EUR bazat pe ratele de schimb oficiale, medii trimestriale (pentru fluxuri) sau la sfârșitul perioadei (pentru poziții).
B28: 3. Indicatorii privind împrumuturile pasive (inclusiv din cadrul investițiilor directe), fluxurile din BP și pozițiile din cadrul PII și DE, precum și dobânzile aferente acestora, au fost evaluați conform principiului dobânzii acumulate

Sheet bp1
B2: Anexa 1. Balanţa de plăţi a Republicii Moldova pentru anul 2025 - trimestrul II 2026, prezentare standard
I3: milioane EUR
D4: 2025 | H4: 2026
D5: Tr. I* | E5: Tr. II* | F5: Tr. III* | G5: Tr. IV* | H5: Tr. I* | I5: Tr. II
B6: 1 | C6: Contul curent | D6: -971.02324 | E6: -905.38731 | F6: -727.59341 | G6: -940.69007 | H6: -816.29574 | I6: -886.35618
B7: 1(c) | C7: Credit | D7: 1933.4783 | E7: 2026.5499 | F7: 2354.4934 | G7: 2377.3648 | H7: 2075.7442 | I7: 2271.4496
B8: 1(d) | C8: Debit | D8: 2904.5015 | E8: 2931.9372 | F8: 3082.0868 | G8: 3318.0549 | H8: 2892.04 | I8: 3157.8058
B9: 1.A | C9: Bunuri şi servicii | D9: -1369.9817 | E9: -1320.1128 | F9: -1177.9184 | G9: -1325.9559 | H9: -1198.3914 | I9: -1347.1478
B10: 1.A(c) | C10: Credit | D10: 1242.0755 | E10: 1258.017 | F10: 1530.7113 | G10: 1626.8106 | H10: 1410.3717 | I10: 1466.8439
B11: 1.A(d) | C11: Debit | D11: 2612.0573 | E11: 2578.1298 | F11: 2708.6298 | G11: 2952.7666 | H11: 2608.7631 | I11: 2813.9917
B12: 1.A.a | C12: Bunuri | D12: -1557.5095 | E12: -1531.9506 | F12: -1422.6668 | G12: -1593.4008 | H12: -1459.176 | I12: -1659.9878
B13: 1.A.a(c) | C13: Credit | D13: 656.5979 | E13: 559.79226 | F13: 756.09632 | G13: 865.43771 | H13: 728.52982 | I13: 676.1889
B14: 1.A.a(d) | C14: Debit | D14: 2214.1074 | E14: 2091.7429 | F14: 2178.7631 | G14: 2458.8385 | H14: 2187.7058 | I14: 2336.1767
B15: 1.A.a.1 | C15: Mărfuri generale în baza balanţei de plăţi | D15: -1557.4361 | E15: -1531.7704 | F15: -1422.6062 | G15: -1593.0839 | H15: -1459.0565 | I15: -1660.1709
B16: 1.A.a.1(c) | C16: Credit | D16: 656.63989 | E16: 559.97242 | F16: 756.15685 | G16: 865.42935 | H16: 728.60371 | I16: 676.00393
B17: 1.A.a.1(d) | C17: Debit | D17: 2214.0759 | E17: 2091.7428 | F17: 2178.763 | G17: 2458.5132 | H17: 2187.6602 | I17: 2336.1748
... B1135: si.2(d) | C1135: Remiteri personale: Debit | D1135: 116.05575 | E1135: 121.68877 | F1135: 130.16362 | G1135: 134.43464 | H1135: 105.76725 | I1135: 122.8047
B1136: * date revizuite | C1136: * date revizuite

Sheet bp2
B2: Anexa 2. Balanţa de plăţi a Republicii Moldova pentru trimestrul II 2025 - trimestrul II 2026, prezentare desfășurată
U3: milioane EUR
D4: Tr. I 2025* | G4: Tr. II 2025* | J4: Tr. III 2025* | M4: Tr. IV 2025* | P4: Tr. I 2026* | S4: Tr. II 2026
D5: credit | E5: debit | F5: net | G5: credit | H5: debit | I5: net | J5: credit | K5: debit | L5: net | M5: credit | N5: debit | O5: net | P5: credit | Q5: debit | R5: net | S5: credit | T5: debit | U5: net
B6: 1 | C6: Contul curent | D6: 1933.4783 | E6: 2904.5015 | F6: -971.02324 | G6: 2026.5499 | H6: 2931.9372 | I6: -905.38731 | J6: 2354.4934 | K6: 3082.0868 | L6: -727.59341 | M6: 2377.3648 | N6: 3318.0549 | O6: -940.69007 | P6: 2075.7442 | Q6: 2892.04 | R6: -816.29574 | S6: 2271.4496 | T6: 3157.8058 | U6: -886.35618
B7: 1.A | C7: Bunuri şi servicii | D7: 1242.0755 | E7: 2612.0573 | F7: -1369.9817 | G7: 1258.017 | H7: 2578.1298 | I7: -1320.1128 | J7: 1530.7113 | K7: 2708.6298 | L7: -1177.9184 | M7: 1626.8106 | N7: 2952.7666 | O7: -1325.9559 | P7: 1410.3717 | Q7: 2608.7631 | R7: -1198.3914 | S7: 1466.8439 | T7: 2813.9917 | U7: -1347.1478
B8: 1.A.a | C8: Bunuri | D8: 656.5979 | E8: 2214.1074 | F8: -1557.5095 | G8: 559.79226 | H8: 2091.7429 | I8: -1531.9506 | J8: 756.09632 | K8: 2178.7631 | L8: -1422.6668 | M8: 865.43771 | N8: 2458.8385 | O8: -1593.4008 | P8: 728.52982 | Q8: 2187.7058 | R8: -1459.176 | S8: 676.1889 | T8: 2336.1767 | U8: -1659.9878
B9: 1.A.a.1 | C9: Mărfuri generale în baza balanţei de plăţi | D9: 656.63989 | E9: 2214.0759 | F9: -1557.4361 | G9: 559.97242 | H9: 2091.7428 | I9: -1531.7704 | J9: 756.15685 | K9: 2178.763 | L9: -1422.6062 | M9: 865.42935 | N9: 2458.5132 | O9: -1593.0839 | P9: 728.60371 | Q9: 2187.6602 | R9: -1459.0565 | S9: 676.00393 | T9: 2336.1748 | U9: -1660.1709
B10: 1.A.a.1.1 | C10: Din care: Reexport | D10: 78.366974 | F10: 78.366974 | G10: 77.298462 | I10: 77.298462 | J10: 76.922085 | L10: 76.922085 | M10: 89.431722 | O10: 89.431722 | P10: 69.553112 | R10: 69.553112 | S10: 79.251769 | U10: 79.251769
B11: 1.A.a.2 | C11: Exporturi nete de mărfuri negociate peste hotare | D11: -0.04198422 | F11: -0.04198422 | G11: -0.18015696 | I11: -0.18015696 | J11: -0.06053287 | L11: -0.06053287 | M11: 0.00835563 | O11: 0.00835563 | P11: -0.0738841 | R11: -0.0738841 | S11: 0.18497251 | U11: 0.18497251
B12: 1.A.a.2.1 | C12: Procurări de mărfuri negociate peste hotare (exporturi negative) | D12: -0.87744619 | F12: -0.87744619 | G12: -0.28324866 | I12: -0.28324866 | J12: -0.21840143 | L12: -0.21840143 | M12: -0.34059229 | O12: -0.34059229 | P12: -0.4961358 | R12: -0.4961358 | S12: -0.09783068 | U12: -0.09783068
B13: 1.A.a.2.2 | C13: Vânzări de mărfuri negociate peste hotare | D13: 0.83546197 | F13: 0.83546197 | G13: 0.1030917 | I13: 0.1030917 | J13: 0.15786856 | L13: 0.15786856 | M13: 0.34894792 | O13: 0.34894792 | P13: 0.4222517 | R13: 0.4222517 | S13: 0.28280318 | U13: 0.28280318
B14: 1.A.a.3 | C14: Aur nemonetar | D14: 0 | E14: 0.03147179 | F14: -0.03147179 | G14: 0 | H14: 0.00011626 | I14: -0.00011626 | J14: 0 | K14: 8.759e-05 | L14: -8.759e-05 | M14: 0 | N14: 0.32529179 | O14: -0.32529179 | P14: 0 | Q14: 0.04562938 | R14: -0.04562938 | S14: 0 | T14: 0.00186405 | U14: -0.00186405
B15: 1.A.b | C15: Servicii | D15: 585.47764 | E15: 397.94984 | F15: 187.5278 | G15: 698.22478 | H15: 486.38692 | I15: 211.83787 | J15: 774.61501 | K15: 529.86666 | L15: 244.74835 | M15: 761.37294 | N15: 493.92803 | O15: 267.44491 | P15: 681.84188 | Q15: 421.05724 | R15: 260.78464 | S15: 790.655 | T15: 477.81507 | U15: 312.83994
B16: 1.A.b.1 | C16: Servicii de prelucrare a materiei prime aflate în proprietatea terților | D16: 48.899261 | E16: 1.8298514 | F16: 47.06941 | G16: 61.422606 | H16: 2.1644456 | I16: 59.25816 | J16: 54.42584 | K16: 1.4500145 | L16: 52.975825 | M16: 59.35914 | N16: 1.6657989 | O16: 57.693341 | P16: 56.238661 | Q16: 1.4873482 | R16: 54.751313 | S16: 56.401303 | T16: 2.0709847 | U16: 54.330318
B17: 1.A.b.1.1 | C17: Bunuri prelucrate în economia raportoare – bunuri expediate după prelucrare (Ct), bunuri primite pentru prelucrare (Dt) | D17: 128.1558 | E17: 88.72966 | F17: 39.426141 | G17: 150.05195 | H17: 99.239754 | I17: 50.812193 | J17: 136.89289 | K17: 85.558189 | L17: 51.334703 | M17: 144.06773 | N17: 87.821434 | O17: 56.246297 | P17: 136.01325 | Q17: 91.563731 | R17: 44.44952 | S17: 144.07274 | T17: 100.54926 | U17: 43.523486
B18: 1.A.b.1.2 | C18: Bunuri prelucrate în străinătate – bunuri expediate pentru prelucrare (Ct), bunuri primite după prelucrare (Dt) | D18: 0.34675781 | E18: 1.7278577 | F18: -1.3810999 | G18: 1.2715554 | H18: 2.044887 | I18: -0.77333163 | J18: 1.1718003 | K18: 1.3801782 | L18: -0.20837796 | M18: 0.96505559 | N18: 1.5740227 | O18: -0.6089671 | P18: 0.21759194 | Q18: 1.4081645 | R18: -1.1905726 | S18: 1.2902417 | T18: 1.9598704 | U18: -0.66962877
B19: 1.A.b.2 | C19: Servicii de întreţinere şi de reparaţii (n.a.p.) | D19: 2.002146 | E19: 2.7750432 | F19: -0.77289729 | G19: 1.8733591 | H19: 4.5287315 | I19: -2.6553724 | J19: 2.2799984 | K19: 4.9394314 | L19: -2.6594331 | M19: 1.886297 | N19: 1.8161079 | O19: 0.07018906 | P19: 2.8044259 | Q19: 2.9209031 | R19: -0.11647721 | S19: 2.0548523 | T19: 2.7808463 | U19: -0.72599398
B20: 1.A.b.3 | C20: Transport | D20: 101.0504 | E20: 148.1492 | F20: -47.098798 | G20: 130.07051 | H20: 173.8771 | I20: -43.806593 | J20: 153.63507 | K20: 178.8039 | L20: -25.168834 | M20: 155.99155 | N20: 166.89746 | O20: -10.90591 | P20: 133.40568 | Q20: 147.45599 | R20: -14.050311 | S20: 147.87568 | T20: 171.64404 | U20: -23.768363
B21: 1.A.b.3.0 | C21: Pentru toate mijloacele de transport | D21: 0 | E21: 0 | F21: 0 | G21: 0 | H21: 0 | I21: 0 | J21: 0 | K21: 0 | L21: 0 | M21: 0 | N21: 0 | O21: 0 | P21: 0 | Q21: 0 | R21: 0 | S21: 0 | T21: 0 | U21: 0
B22: 1.A.b.3.0.1 | C22: Pasageri | D22: 28.219016 | E22: 27.279421 | F22: 0.93959529 | G22: 39.795931 | H22: 54.438854 | I22: -14.642923 | J22: 47.653997 | K22: 52.762852 | L22: -5.1088544 | M22: 40.395998 | N22: 19.4304 | O22: 20.965598 | P22: 38.476638 | Q22: 21.093759 | R22: 17.382879 | S22: 37.777855 | T22: 43.137714 | U22: -5.3598595
B23: 1.A.b.3.0.1.1 | C23: Din care: De plătit de către lucrătorii transfrontalieri, sezonieri şi alţi lucrători pe termen scurt | D23: 0 | E23: 0 | F23: 0 | G23: 0 | H23: 0 | I23: 0 | J23: 0 | K23: 0 | L23: 0 | M23: 0 | N23: 0 | O23: 0 | P23: 0 | Q23: 0 | R23: 0 | S23: 0 | T23: 0 | U23: 0
B24: 1.A.b.3.0.2 | C24: Mărfuri | D24: 46.480079 | E24: 90.299895 | F24: -43.819816 | G24: 54.97332 | H24: 82.314018 | I24: -27.340697 | J24: 63.224156 | K24: 82.899455 | L24: -19.6753 | M24: 67.039612 | N24: 100.06674 | O24: -33.027128 | P24: 54.689661 | Q24: 90.479723 | R24: -35.790062 | S24: 64.297981 | T24: 90.045686 | U24: -25.747705
B25: 1.A.b.3.0.3 | C25: Altele | D25: 26.351309 | E25: 30.569887 | F25: -4.2185778 | G25: 35.301261 | H25: 37.124233 | I25: -1.8229722 | J25: 42.756915 | K25: 43.141595 | L25: -0.38468012 | M25: 48.555942 | N25: 47.400322 | O25: 1.1556201 | P25: 40.239378 | Q25: 35.882506 | R25: 4.3568713 | S25: 45.799841 | T25: 38.460639 | U25: 7.3392013
... B129: 1.C.1 | C129: Administraţia publică | D129: 84.428638 | E129: 2.6656241 | F129: 81.763014 | G129: 120.41329 | H129: 3.4335476 | I129: 116.97974 | J129: 101.75506 | K129: 3.9333821 | L129: 97.821677 | M129: 40.189902 | N129: 2.7410455 | O129: 37.448857 | P129: 43.302681 | Q129: 5.0298781 | R129: 38.272803 | S129: 80.741934 | T129: 4.9771017 | U129: 75.764832
B130: 1.C.1.1 | C130: Impozite curente pe venit, patrimoniu, etc. | D130: 2.0164772 | F130: 2.0164772 | G130: 1.6770926 | I130: 1.6770926 | J130: 1.5958527 | L130: 1.5958527 | M130: 1.8299968 | O130: 1.8299968 | P130: 4.7867972 | R130: 4.7867972 | S130: 4.9197767 | U130: 4.9197767
B131: 1.C.1.1.1 | C131: Din care: De plătit de către lucrătorii transfrontalieri, sezonieri şi alţi lucrători pe termen scurt | D131: 0.37811643 | F131: 0.37811643 | G131: 0.39651203 | I131: 0.39651203 | J131: 0.45201099 | L131: 0.45201099 | M131: 0.49903629 | O131: 0.49903629 | P131: 0.36623162 | R131: 0.36623162 | S131: 0.41445302 | U131: 0.41445302
B132: 1.C.1.2 | C132: Contribuţii sociale | D132: 0.74842635 | F132: 0.74842635 | G132: 0.90955042 | I132: 0.90955042 | J132: 0.86599455 | L132: 0.86599455 | M132: 1.0898298 | O132: 1.0898298 | P132: 1.1906509 | R132: 1.1906509 | S132: 1.1348792 | U132: 1.1348792
B133: 1.C.1.2.1 | C133: Din care: De plătit de către lucrătorii transfrontalieri, sezonieri şi alţi lucrători pe termen scurt | D133: 0 | E133: #VALUE! | F133: 0 | G133: 0 | I133: 0 | J133: 0 | L133: 0 | M133: 0 | O133: 0 | P133: 0 | R133: 0 | S133: 0 | U133: 0
B134: 1.C.1.3 | C134: Prestații sociale | E134: 1.0372355 | F134: -1.0372355 | H134: 1.1395809 | I134: -1.1395809 | K134: 1.172441 | L134: -1.172441 | N134: 1.2801386 | O134: -1.2801386 | Q134: 1.2394386 | R134: -1.2394386 | T134: 1.375602 | U134: -1.375602
B135: 1.C.1.4 | C135: Cooperarea internaţională curentă | D135: 73.834139 | E135: 1.5047134 | F135: 72.329425 | G135: 112.06416 | H135: 2.1792464 | I135: 109.88491 | J135: 92.900174 | K135: 2.6496834 | L135: 90.25049 | M135: 30.826425 | N135: 1.349217 | O135: 29.477208 | P135: 33.239875 | Q135: 3.2429885 | R135: 29.996887 | S135: 69.984519 | T135: 2.6827805 | U135: 67.301738
B136: 1.C.1.5 | C136: Transferuri curente diverse ale administrației publice | D136: 7.8295962 | E136: 0.12367527 | F136: 7.7059209 | G136: 5.7624927 | H136: 0.11472037 | I136: 5.6477723 | J136: 6.3930382 | K136: 0.11125769 | L136: 6.2817805 | M136: 6.4436507 | N136: 0.11168995 | O136: 6.3319608 | P136: 4.0853575 | Q136: 0.54745102 | R136: 3.5379065 | S136: 4.7027587 | T136: 0.91871918 | U136: 3.7840395
B137: 1.C.1.5.1 | C137: Din care: Transferuri curente către instituţii fără scop lucrativ în serviciul gospodăriilor populației (IFSLSGP) | D137: 0 | E137: 0 | F137: 0 | G137: 0 | H137: 0 | I137: 0 | J137: 0 | K137: 0 | L137: 0 | M137: 0 | N137: 0 | O137: 0 | P137: 0 | Q137: 0 | R137: 0 | S137: 0 | T137: 0 | U137: 0
B138: 1.C.2 | C138: Societăți financiare, societăți nefinanciare, gospodăriile populației şi IFSLSGP | D138: 374.38964 | E138: 104.75746 | F138: 269.63218 | G138: 429.15109 | H138: 106.04626 | I138: 323.10483 | J138: 501.58733 | K138: 115.0079 | L138: 386.57943 | M138: 434.02943 | N138: 109.86238 | O138: 324.16705 | P138: 378.81291 | Q138: 95.563695 | R138: 283.24922 | S138: 451.60748 | T138: 109.2475 | U138: 342.35998
B139: 1.C.2.1 | C139: Transferuri personale (transferuri curente între gospodăriile populației rezidente şi nerezidente) | D139: 228.08837 | E139: 82.811408 | F139: 145.27696 | G139: 242.65949 | H139: 85.270057 | I139: 157.38943 | J139: 249.92253 | K139: 92.033283 | L139: 157.88924 | M139: 212.71746 | N139: 88.624661 | O139: 124.09279 | P139: 209.42638 | Q139: 74.290156 | R139: 135.13622 | S139: 233.94867 | T139: 83.95972 | U139: 149.98895
B140: 1.C.2.1.1 | C140: Din care: Transferurile angajaților | D140: 0 | E140: 0 | F140: 0 | G140: 0 | H140: 0 | I140: 0 | J140: 0 | K140: 0 | L140: 0 | M140: 0 | N140: 0 | O140: 0 | P140: 0 | Q140: 0 | R140: 0 | S140: 0 | T140: 0 | U140: 0
B141: 1.C.2.2 | C141: Alte transferuri curente | D141: 146.30127 | E141: 21.946048 | F141: 124.35522 | G141: 186.49161 | H141: 20.776206 | I141: 165.7154 | J141: 251.6648 | K141: 22.974614 | L141: 228.69019 | M141: 221.31197 | N141: 21.237721 | O141: 200.07425 | P141: 169.38654 | Q141: 21.273539 | R141: 148.113 | S141: 217.65881 | T141: 25.287775 | U141: 192.37103
B142: 1.C.2.2.1 | C142: Impozite curente pe venit, patrimoniu, etc. | E142: 6.7735996 | F142: -6.7735996 | H142: 6.1419524 | I142: -6.1419524 | K142: 6.7439279 | L142: -6.7439279 | N142: 8.4025206 | O142: -8.4025206 | Q142: 7.7087405 | R142: -7.7087405 | T142: 9.657009 | U142: -9.657009
B143: 1.C.2.2.2 | C143: Contribuții sociale | D143: 0 | E143: 0.05575094 | F143: -0.05575094 | G143: 0 | H143: 0.08072627 | I143: -0.08072627 | J143: 0 | K143: 0.03179349 | L143: -0.03179349 | M143: 0 | N143: 0.05248108 | O143: -0.05248108 | P143: 0 | Q143: 0.0198138 | R143: -0.0198138 | S143: 0 | T143: 0.00651427 | U143: -0.00651427
B144: 1.C.2.2.3 | C144: Prestațiii sociale | D144: 4.7842035 | E144: 0.01739525 | F144: 4.7668083 | G144: 4.9452398 | H144: 0.06445202 | I144: 4.8807877 | J144: 6.8346371 | K144: 0.00828416 | L144: 6.826353 | M144: 8.2565283 | N144: 0.02429115 | O144: 8.2322371 | P144: 6.1176089 | Q144: 0.0217566 | R144: 6.0958523 | S144: 6.2832521 | T144: 0.0158847 | U144: 6.2673674
...

Sheet bp3
B2: Anexa 3. Sinteza balanţei de plăţi a Republicii Moldova pentru anul 2025 - trimestrul II 2026, prezentare analitică
I3: milioane EUR
D4: 2025 | H4: 2026
D5: Tr. I* | E5: Tr. II* | F5: Tr. III* | G5: Tr. IV* | H5: Tr. I* | I5: Tr. II
B6: 1 | C6: Contul curent (fără rezerve și articole aferente) | D6: -971.02324 | E6: -905.38731 | F6: -727.59341 | G6: -940.69007 | H6: -816.29574 | I6: -886.35618
B7: 1(c) | C7: Credit | D7: 1933.4783 | E7: 2026.5499 | F7: 2354.4934 | G7: 2377.3648 | H7: 2075.7442 | I7: 2271.4496
B8: 1(d) | C8: Debit | D8: 2904.5015 | E8: 2931.9372 | F8: 3082.0868 | G8: 3318.0549 | H8: 2892.04 | I8: 3157.8058
B9: 1.A | C9: Bunuri şi servicii | D9: -1369.9817 | E9: -1320.1128 | F9: -1177.9184 | G9: -1325.9559 | H9: -1198.3914 | I9: -1347.1478
B10: 1.A(c) | C10: Credit | D10: 1242.0755 | E10: 1258.017 | F10: 1530.7113 | G10: 1626.8106 | H10: 1410.3717 | I10: 1466.8439
B11: 1.A(d) | C11: Debit | D11: 2612.0573 | E11: 2578.1298 | F11: 2708.6298 | G11: 2952.7666 | H11: 2608.7631 | I11: 2813.9917
B12: 1.A.a | C12: Bunuri | D12: -1557.5095 | E12: -1531.9506 | F12: -1422.6668 | G12: -1593.4008 | H12: -1459.176 | I12: -1659.9878
B13: 1.A.a(c) | C13: Credit | D13: 656.5979 | E13: 559.79226 | F13: 756.09632 | G13: 865.43771 | H13: 728.52982 | I13: 676.1889
B14: 1.A.a(d) | C14: Debit | D14: 2214.1074 | E14: 2091.7429 | F14: 2178.7631 | G14: 2458.8385 | H14: 2187.7058 | I14: 2336.1767
B15: 1.A.a.1 | C15: Mărfuri generale în baza balanţei de plăţi | D15: -1557.4361 | E15: -1531.7704 | F15: -1422.6062 | G15: -1593.0839 | H15: -1459.0565 | I15: -1660.1709
B16: 1.A.a.1(c) | C16: Credit | D16: 656.63989 | E16: 559.97242 | F16: 756.15685 | G16: 865.42935 | H16: 728.60371 | I16: 676.00393
B17: 1.A.a.1(d) | C17: Debit | D17: 2214.0759 | E17: 2091.7428 | F17: 2178.763 | G17: 2458.5132 | H17: 2187.6602 | I17: 2336.1748
... B845: 5.3.2 | C845: Alte investiții - împrumuturi interguvernamentale | D845: 0 | E845: 0 | F845: 0 | G845: 0 | H845: 0 | I845: 0
C846: Articole informative | D846: 0 | E846: 0 | F846: 0 | G846: 0 | H846: 0 | I846: 0
B847: fe | C847: Finanţarea excepţională | D847: 0 | E847: 0 | F847: 0 | G847: 0 | H847: 0 | I847: 0
B848: fe.1 | C848: Venituri secundare | D848: 0 | E848: 0 | F848: 0 | G848: 0 | H848: 0 | I848: 0
B849: fe.1.1 | C849: Alte granturi interguvernamentale | D849: 0 | E849: 0 | F849: 0 | G849: 0 | H849: 0 | I849: 0
B850: fe.1.2 | C850: Granturi primite din conturile de subvenţii ale FMI | D850: 0 | E850: 0 | F850: 0 | G850: 0 | H850: 0 | I850: 0
B851: fe.2 | C851: Transferuri de capital | D851: 0 | E851: 0 | F851: 0 | G851: 0 | H851: 0 | I851: 0
B852: fe.2.1 | C852: Iertarea datoriei | D852: 0 | E852: 0 | F852: 0 | G852: 0 | H852: 0 | I852: 0
B853: fe.2.2 | C853: Granturi primite din conturile de subvenţii ale FMI | D853: 0 | E853: 0 | F853: 0 | G853: 0 | H853: 0 | I853: 0
B854: fe.2.3 | C854: Alte granturi investiţionale | D854: 0 | E854: 0 | F854: 0 | G854: 0 | H854: 0 | I854: 0
B855: fe.3 | C855: Investiţii directe | D855: 0 | E855: 0 | F855: 0 | G855: 0 | H855: 0 | I855: 0
B856: fe.3.1 | C856: Investiţii în titluri de participare determinate de reducerea datoriei | D856: 0 | E856: 0 | F856: 0 | G856: 0 | H856: 0 | I856: 0
B857: fe.3.2 | C857: Instrumente de natura datoriei | D857: 0 | E857: 0 | F857: 0 | G857: 0 | H857: 0 | I857: 0
B858: fe.3.2.1 | C858: Reeşalonarea angajamentelor exigibile în perioada curentă | D858: 0 | E858: 0 | F858: 0 | G858: 0 | H858: 0 | I858: 0
... B1122: si.2(d) | C1122: Remiteri personale: Debit | D1122: 116.05575 | E1122: 121.68877 | F1122: 130.16362 | G1122: 134.43464 | H1122: 105.76725 | I1122: 122.8047
B1123: * date revizuite | C1123: * date revizuite

Sheet c4
B2: Anexa 4. Exportul de bunuri pe grupuri de ţări, conform balanței de plăți, pentru anul 2025 - trimestrul II 2026
C4: 2025 | G4: 2026 | I4: Ponderea Tr. II 2026 | J4: Tr. II 2026 / Tr. II 2025 | K4: Gradul de influenţă** (p.p.)
C5: Tr. I* | D5: Tr. II* | E5: Tr. III* | F5: Tr. IV* | G5: Tr.I* | H5: Tr.II
C6: milioane EUR
B7: Uniunea Europeană, dintre care: | C7: 371.01716 | D7: 330.0807 | E7: 536.82709 | F7: 538.21138 | G7: 410.82879 | H7: 415.29807 | I7: =H7/$H$61 -> 0.61417463 | J7: {=_xlfn.IFS(H7/D7>=2,CONCATENATE("+de ",FIXED(H7/D7,1)," ori"),H7/D7>=1,CONCATENATE("+",FIXED((H7/D7-1)*100,1),"%"),H7/D7<0.5,CONCATENATE("-de ",FIXED(D7/H7,1)," ori"),H7/D7<1,CONCATENATE(FIXED((H7/D7*100-100),1),"%"))} -> +25,8% | K7: =(H7-D7)/$D$61*100 -> 15.223035
B8: România | C8: 156.26778 | D8: 133.65195 | E8: 226.26364 | F8: 218.19501 | G8: 172.41483 | H8: 162.58445 | I8: =H8/$H$61 -> 0.24044235 | J8: {=_xlfn.IFS(H8/D8>=2,CONCATENATE("+de ",FIXED(H8/D8,1)," ori"),H8/D8>=1,CONCATENATE("+",FIXED((H8/D8-1)*100,1),"%"),H8/D8<0.5,CONCATENATE("-de ",FIXED(D8/H8,1)," ori"),H8/D8<1,CONCATENATE(FIXED((H8/D8*100-100),1),"%"))} -> +21,6% | K8: =(H8-D8)/$D$61*100 -> 5.168435
B9: Cehia | C9: 60.632458 | D9: 71.39001 | E9: 65.192612 | F9: 69.543668 | G9: 65.280055 | H9: 71.127727 | I9: =H9/$H$61 -> 0.10518914 | J9: {=_xlfn.IFS(H9/D9>=2,CONCATENATE("+de ",FIXED(H9/D9,1)," ori"),H9/D9>=1,CONCATENATE("+",FIXED((H9/D9-1)*100,1),"%"),H9/D9<0.5,CONCATENATE("-de ",FIXED(D9/H9,1)," ori"),H9/D9<1,CONCATENATE(FIXED((H9/D9*100-100),1),"%"))} -> -0,4% | K9: =(H9-D9)/$D$61*100 -> -0.046853622
B10: Italia | C10: 37.657442 | D10: 19.060915 | E10: 50.661625 | F10: 49.721413 | G10: 43.409392 | H10: 45.58541 | I10: =H10/$H$61 -> 0.0674152 | J10: {=_xlfn.IFS(H10/D10>=2,CONCATENATE("+de ",FIXED(H10/D10,1)," ori"),H10/D10>=1,CONCATENATE("+",FIXED((H10/D10-1)*100,1),"%"),H10/D10<0.5,CONCATENATE("-de ",FIXED(D10/H10,1)," ori"),H10/D10<1,CONCATENATE(FIXED((H10/D10*100-100),1),"%"))} -> +de 2,4 ori | K10: =(H10-D10)/$D$61*100 -> 4.7382747
B11: Germania | C11: 21.58141 | D11: 22.293954 | E11: 28.361997 | F11: 41.955061 | G11: 39.716594 | H11: 41.549549 | I11: =H11/$H$61 -> 0.06144666 | J11: {=_xlfn.IFS(H11/D11>=2,CONCATENATE("+de ",FIXED(H11/D11,1)," ori"),H11/D11>=1,CONCATENATE("+",FIXED((H11/D11-1)*100,1),"%"),H11/D11<0.5,CONCATENATE("-de ",FIXED(D11/H11,1)," ori"),H11/D11<1,CONCATENATE(FIXED((H11/D11*100-100),1),"%"))} -> +86,4% | K11: =(H11-D11)/$D$61*100 -> 3.4397752
B12: Bulgaria | C12: 17.117207 | D12: 10.728508 | E12: 42.50707 | F12: 30.349978 | G12: 16.402339 | H12: 20.650604 | I12: =H12/$H$61 -> 0.030539697 | J12: {=_xlfn.IFS(H12/D12>=2,CONCATENATE("+de ",FIXED(H12/D12,1)," ori"),H12/D12>=1,CONCATENATE("+",FIXED((H12/D12-1)*100,1),"%"),H12/D12<0.5,CONCATENATE("-de ",FIXED(D12/H12,1)," ori"),H12/D12<1,CONCATENATE(FIXED((H12/D12*100-100),1),"%"))} -> +92,5% | K12: =(H12-D12)/$D$61*100 -> 1.7724605
B13: Polonia | C13: 17.688676 | D13: 17.389291 | E13: 21.934806 | F13: 36.410649 | G13: 19.641508 | H13: 17.113893 | I13: =H13/$H$61 -> 0.025309337 | J13: {=_xlfn.IFS(H13/D13>=2,CONCATENATE("+de ",FIXED(H13/D13,1)," ori"),H13/D13>=1,CONCATENATE("+",FIXED((H13/D13-1)*100,1),"%"),H13/D13<0.5,CONCATENATE("-de ",FIXED(D13/H13,1)," ori"),H13/D13<1,CONCATENATE(FIXED((H13/D13*100-100),1),"%"))} -> -1,6% | K13: =(H13-D13)/$D$61*100 -> -0.049196559
B14: Grecia | C14: 15.063102 | D14: 15.246632 | E14: 30.004973 | F14: 11.548846 | G14: 14.397892 | H14: 15.804488 | I14: =H14/$H$61 -> 0.023372889 | J14: {=_xlfn.IFS(H14/D14>=2,CONCATENATE("+de ",FIXED(H14/D14,1)," ori"),H14/D14>=1,CONCATENATE("+",FIXED((H14/D14-1)*100,1),"%"),H14/D14<0.5,CONCATENATE("-de ",FIXED(D14/H14,1)," ori"),H14/D14<1,CONCATENATE(FIXED((H14/D14*100-100),1),"%"))} -> +3,7% | K14: =(H14-D14)/$D$61*100 -> 0.099654152
B15: Ungaria | C15: 3.4724059 | D15: 4.8599126 | E15: 8.6287031 | F15: 10.041093 | G15: 6.4209077 | H15: 8.3250945 | I15: =H15/$H$61 -> 0.012311788 | J15: {=_xlfn.IFS(H15/D15>=2,CONCATENATE("+de ",FIXED(H15/D15,1)," ori"),H15/D15>=1,CONCATENATE("+",FIXED((H15/D15-1)*100,1),"%"),H15/D15<0.5,CONCATENATE("-de ",FIXED(D15/H15,1)," ori"),H15/D15<1,CONCATENATE(FIXED((H15/D15*100-100),1),"%"))} -> +71,3% | K15: =(H15-D15)/$D$61*100 -> 0.61901211
B16: Franţa | C16: 5.1734718 | D16: 5.0390607 | E16: 4.2385172 | F16: 18.20719 | G16: 7.1144426 | H16: 7.5211809 | I16: =H16/$H$61 -> 0.011122899 | J16: {=_xlfn.IFS(H16/D16>=2,CONCATENATE("+de ",FIXED(H16/D16,1)," ori"),H16/D16>=1,CONCATENATE("+",FIXED((H16/D16-1)*100,1),"%"),H16/D16<0.5,CONCATENATE("-de ",FIXED(D16/H16,1)," ori"),H16/D16<1,CONCATENATE(FIXED((H16/D16*100-100),1),"%"))} -> +49,3% | K16: =(H16-D16)/$D$61*100 -> 0.44340023
B17: Olanda | C17: 16.596083 | D17: 9.7407351 | E17: 9.2857969 | F17: 11.980222 | G17: 6.4476537 | H17: 7.1931633 | I17: =H17/$H$61 -> 0.010637801 | J17: {=_xlfn.IFS(H17/D17>=2,CONCATENATE("+de ",FIXED(H17/D17,1)," ori"),H17/D17>=1,CONCATENATE("+",FIXED((H17/D17-1)*100,1),"%"),H17/D17<0.5,CONCATENATE("-de ",FIXED(D17/H17,1)," ori"),H17/D17<1,CONCATENATE(FIXED((H17/D17*100-100),1),"%"))} -> -26,2% | K17: =(H17-D17)/$D$61*100 -> -0.45509236
B18: Lituania | C18: 2.3490746 | D18: 3.3819875 | E18: 5.0872318 | F18: 4.1463717 | G18: 2.2804489 | H18: 2.9796311 | I18: =H18/$H$61 -> 0.004406507 | J18: {=_xlfn.IFS(H18/D18>=2,CONCATENATE("+de ",FIXED(H18/D18,1)," ori"),H18/D18>=1,CONCATENATE("+",FIXED((H18/D18-1)*100,1),"%"),H18/D18<0.5,CONCATENATE("-de ",FIXED(D18/H18,1)," ori"),H18/D18<1,CONCATENATE(FIXED((H18/D18*100-100),1),"%"))} -> -11,9% | K18: =(H18-D18)/$D$61*100 -> -0.07187601
... B21: Spania | C21: 2.9716799 | D21: 1.9727971 | E21: 12.079476 | F21: 11.027438 | G21: 1.9912717 | H21: 2.0210382 | I21: =H21/$H$61 -> 0.0029888662 | J21: {=_xlfn.IFS(H21/D21>=2,CONCATENATE("+de ",FIXED(H21/D21,1)," ori"),H21/D21>=1,CONCATENATE("+",FIXED((H21/D21-1)*100,1),"%"),H21/D21<0.5,CONCATENATE("-de ",FIXED(D21/H21,1)," ori"),H21/D21<1,CONCATENATE(FIXED((H21/D21*100-100),1),"%"))} -> +2,4% | K21: =(H21-D21)/$D$61*100 -> 0.0086176826
A22: Letonia | B22: Belgia | C22: 1.0354877 | D22: 1.7238024 | E22: 1.8140773 | F22: 1.9624869 | G22: 2.4513497 | H22: 1.9656584 | I22: =H22/$H$61 -> 0.0029069663 | J22: {=_xlfn.IFS(H22/D22>=2,CONCATENATE("+de ",FIXED(H22/D22,1)," ori"),H22/D22>=1,CONCATENATE("+",FIXED((H22/D22-1)*100,1),"%"),H22/D22<0.5,CONCATENATE("-de ",FIXED(D22/H22,1)," ori"),H22/D22<1,CONCATENATE(FIXED((H22/D22*100-100),1),"%"))} -> +14,0% | K22: =(H22-D22)/$D$61*100 -> 0.043204597
B23: Estonia | C23: 0.56038594 | D23: 0.97288983 | E23: 1.5192888 | F23: 0.75125957 | G23: 1.6937933 | H23: 1.5683903 | I23: =H23/$H$61 -> 0.0023194558 | J23: {=_xlfn.IFS(H23/D23>=2,CONCATENATE("+de ",FIXED(H23/D23,1)," ori"),H23/D23>=1,CONCATENATE("+",FIXED((H23/D23-1)*100,1),"%"),H23/D23<0.5,CONCATENATE("-de ",FIXED(D23/H23,1)," ori"),H23/D23<1,CONCATENATE(FIXED((H23/D23*100-100),1),"%"))} -> +61,2% | K23: =(H23-D23)/$D$61*100 -> 0.10637883
B24: Croaţia | C24: 1.3279446 | D24: 1.7039857 | E24: 4.0131925 | F24: 2.1992902 | G24: 1.5346129 | H24: 1.4657421 | I24: =H24/$H$61 -> 0.0021676519 | J24: {=_xlfn.IFS(H24/D24>=2,CONCATENATE("+de ",FIXED(H24/D24,1)," ori"),H24/D24>=1,CONCATENATE("+",FIXED((H24/D24-1)*100,1),"%"),H24/D24<0.5,CONCATENATE("-de ",FIXED(D24/H24,1)," ori"),H24/D24<1,CONCATENATE(FIXED((H24/D24*100-100),1),"%"))} -> -14,0% | K24: =(H24-D24)/$D$61*100 -> -0.042559286
B25: Slovacia | C25: 3.7567564 | D25: 2.2566916 | E25: 2.6651087 | F25: 2.6686298 | G25: 1.8599883 | H25: 1.2130923 | I25: =H25/$H$61 -> 0.0017940139 | J25: {=_xlfn.IFS(H25/D25>=2,CONCATENATE("+de ",FIXED(H25/D25,1)," ori"),H25/D25>=1,CONCATENATE("+",FIXED((H25/D25-1)*100,1),"%"),H25/D25<0.5,CONCATENATE("-de ",FIXED(D25/H25,1)," ori"),H25/D25<1,CONCATENATE(FIXED((H25/D25*100-100),1),"%"))} -> -46,2% | K25: =(H25-D25)/$D$61*100 -> -0.18642617
B26: Cipru | C26: 1.5145426 | D26: 0.11027064 | E26: 10.967414 | F26: 1.5638615 | G26: 1.6281447 | H26: 0.22390892 | I26: =H26/$H$61 -> 0.00033113368 | J26: {=_xlfn.IFS(H26/D26>=2,CONCATENATE("+de ",FIXED(H26/D26,1)," ori"),H26/D26>=1,CONCATENATE("+",FIXED((H26/D26-1)*100,1),"%"),H26/D26<0.5,CONCATENATE("-de ",FIXED(D26/H26,1)," ori"),H26/D26<1,CONCATENATE(FIXED((H26/D26*100-100),1),"%"))} -> +de 2,0 ori | K26: =(H26-D26)/$D$61*100 -> 0.020300081
B27: Portugalia | C27: 0.11969287 | D27: 0.18632692 | E27: 0.08581212 | F27: 6.9008254 | G27: 0.17687102 | H27: 0.19770396 | I27: =H27/$H$61 -> 0.00029237978 | J27: {=_xlfn.IFS(H27/D27>=2,CONCATENATE("+de ",FIXED(H27/D27,1)," ori"),H27/D27>=1,CONCATENATE("+",FIXED((H27/D27-1)*100,1),"%"),H27/D27<0.5,CONCATENATE("-de ",FIXED(D27/H27,1)," ori"),H27/D27<1,CONCATENATE(FIXED((H27/D27*100-100),1),"%"))} -> +6,1% | K27: =(H27-D27)/$D$61*100 -> 0.0020323682
B28: Alte ţări, dintre care: | C28: 285.58074 | D28: 229.71156 | E28: 219.26923 | F28: 327.22633 | G28: 317.70103 | H28: 260.89084 | I28: =H28/$H$61 -> 0.38582537 | J28: {=_xlfn.IFS(H28/D28>=2,CONCATENATE("+de ",FIXED(H28/D28,1)," ori"),H28/D28>=1,CONCATENATE("+",FIXED((H28/D28-1)*100,1),"%"),H28/D28<0.5,CONCATENATE("-de ",FIXED(D28/H28,1)," ori"),H28/D28<1,CONCATENATE(FIXED((H28/D28*100-100),1),"%"))} -> +13,6% | K28: =(H28-D28)/$D$61*100 -> 5.5697933
B29: Turcia | C29: 103.90953 | D29: 60.977899 | E29: 27.700106 | F29: 116.5837 | G29: 132.10154 | H29: 82.617038 | I29: =H29/$H$61 -> 0.12218041 | J29: {=_xlfn.IFS(H29/D29>=2,CONCATENATE("+de ",FIXED(H29/D29,1)," ori"),H29/D29>=1,CONCATENATE("+",FIXED((H29/D29-1)*100,1),"%"),H29/D29<0.5,CONCATENATE("-de ",FIXED(D29/H29,1)," ori"),H29/D29<1,CONCATENATE(FIXED((H29/D29*100-100),1),"%"))} -> +35,5% | K29: =(H29-D29)/$D$61*100 -> 3.8655659
B30: Ucraina | C30: 71.022329 | D30: 61.550426 | E30: 67.840392 | F30: 89.011579 | G30: 72.227026 | H30: 60.985743 | I30: =H30/$H$61 -> 0.090190393 | J30: {=_xlfn.IFS(H30/D30>=2,CONCATENATE("+de ",FIXED(H30/D30,1)," ori"),H30/D30>=1,CONCATENATE("+",FIXED((H30/D30-1)*100,1),"%"),H30/D30<0.5,CONCATENATE("-de ",FIXED(D30/H30,1)," ori"),H30/D30<1,CONCATENATE(FIXED((H30/D30*100-100),1),"%"))} -> -0,9% | K30: =(H30-D30)/$D$61*100 -> -0.10087376
B31: Rusia | C31: 21.436361 | D31: 25.479549 | E31: 23.907212 | F31: 24.397373 | G31: 20.795185 | H31: 27.387061 | I31: =H31/$H$61 -> 0.040502085 | J31: {=_xlfn.IFS(H31/D31>=2,CONCATENATE("+de ",FIXED(H31/D31,1)," ori"),H31/D31>=1,CONCATENATE("+",FIXED((H31/D31-1)*100,1),"%"),H31/D31<0.5,CONCATENATE("-de ",FIXED(D31/H31,1)," ori"),H31/D31<1,CONCATENATE(FIXED((H31/D31*100-100),1),"%"))} -> +7,5% | K31: =(H31-D31)/$D$61*100 -> 0.34075358
B32: Belarus | C32: 18.894975 | D32: 16.653793 | E32: 14.559849 | F32: 17.144575 | G32: 21.372541 | H32: 15.893657 | I32: =H32/$H$61 -> 0.023504759 | J32: {=_xlfn.IFS(H32/D32>=2,CONCATENATE("+de ",FIXED(H32/D32,1)," ori"),H32/D32>=1,CONCATENATE("+",FIXED((H32/D32-1)*100,1),"%"),H32/D32<0.5,CONCATENATE("-de ",FIXED(D32/H32,1)," ori"),H32/D32<1,CONCATENATE(FIXED((H32/D32*100-100),1),"%"))} -> -4,6% | K32: =(H32-D32)/$D$61*100 -> -0.13578881
B33: SUA | C33: 15.400735 | D33: 11.952564 | E33: 6.8550368 | F33: 5.6965877 | G33: 4.5950413 | H33: 9.785964 | I33: =H33/$H$61 -> 0.014472234 | J33: {=_xlfn.IFS(H33/D33>=2,CONCATENATE("+de ",FIXED(H33/D33,1)," ori"),H33/D33>=1,CONCATENATE("+",FIXED((H33/D33-1)*100,1),"%"),H33/D33<0.5,CONCATENATE("-de ",FIXED(D33/H33,1)," ori"),H33/D33<1,CONCATENATE(FIXED((H33/D33*100-100),1),"%"))} -> -18,1% | K33: =(H33-D33)/$D$61*100 -> -0.38703637
B34: Liban | C34: 3.9535323 | D34: 5.5923928 | E34: 12.924119 | F34: 6.8912361 | G34: 12.454902 | H34: 7.7741029 | I34: =H34/$H$61 -> 0.011496939 | J34: {=_xlfn.IFS(H34/D34>=2,CONCATENATE("+de ",FIXED(H34/D34,1)," ori"),H34/D34>=1,CONCATENATE("+",FIXED((H34/D34-1)*100,1),"%"),H34/D34<0.5,CONCATENATE("-de ",FIXED(D34/H34,1)," ori"),H34/D34<1,CONCATENATE(FIXED((H34/D34*100-100),1),"%"))} -> +39,0% | K34: =(H34-D34)/$D$61*100 -> 0.38973566
... B53: Ghana | C53: 0.45931673 | D53: 0.41467856 | E53: 0.72608226 | F53: 0.80375894 | G53: 0.38762218 | H53: 1.0843388 | I53: =H53/$H$61 -> 0.0016036033 | J53: {=_xlfn.IFS(H53/D53>=2,CONCATENATE("+de ",FIXED(H53/D53,1)," ori"),H53/D53>=1,CONCATENATE("+",FIXED((H53/D53-1)*100,1),"%"),H53/D53<0.5,CONCATENATE("-de ",FIXED(D53/H53,1)," ori"),H53/D53<1,CONCATENATE(FIXED((H53/D53*100-100),1),"%"))} -> +de 2,6 ori | K53: =(H53-D53)/$D$61*100 -> 0.11962656
B54: Uganda | C54: 0.00069637 | D54: 0 | E54: 0.06729731 | F54: 0.05801153 | G54: 0.03454793 | H54: 1.0481367 | I54: =H54/$H$61 -> 0.0015500649 | K54: =(H54-D54)/$D$61*100 -> 0.18723672
B55: Hong-Kong | C55: 0.70959261 | D55: 0.46711726 | E55: 1.1629329 | F55: 0.62258235 | G55: 0.25749201 | H55: 0.95192077 | I55: =H55/$H$61 -> 0.0014077734 | J55: {=_xlfn.IFS(H55/D55>=2,CONCATENATE("+de ",FIXED(H55/D55,1)," ori"),H55/D55>=1,CONCATENATE("+",FIXED((H55/D55-1)*100,1),"%"),H55/D55<0.5,CONCATENATE("-de ",FIXED(D55/H55,1)," ori"),H55/D55<1,CONCATENATE(FIXED((H55/D55*100-100),1),"%"))} -> +de 2,0 ori | K55: =(H55-D55)/$D$61*100 -> 0.086604183
B56: Armenia | C56: 1.2707465 | D56: 0.47385664 | E56: 0.91145746 | F56: 1.0000919 | G56: 0.9657561 | H56: 0.94695583 | I56: =H56/$H$61 -> 0.0014004309 | J56: {=_xlfn.IFS(H56/D56>=2,CONCATENATE("+de ",FIXED(H56/D56,1)," ori"),H56/D56>=1,CONCATENATE("+",FIXED((H56/D56-1)*100,1),"%"),H56/D56<0.5,CONCATENATE("-de ",FIXED(D56/H56,1)," ori"),H56/D56<1,CONCATENATE(FIXED((H56/D56*100-100),1),"%"))} -> +99,8% | K56: =(H56-D56)/$D$61*100 -> 0.08451335
B57: Bosnia şi Hețegovina | C57: 0.61837549 | D57: 0.84550623 | E57: 1.538899 | F57: 1.2092176 | G57: 0.92500684 | H57: 0.87736863 | I57: =H57/$H$61 -> 0.00129752 | J57: {=_xlfn.IFS(H57/D57>=2,CONCATENATE("+de ",FIXED(H57/D57,1)," ori"),H57/D57>=1,CONCATENATE("+",FIXED((H57/D57-1)*100,1),"%"),H57/D57<0.5,CONCATENATE("-de ",FIXED(D57/H57,1)," ori"),H57/D57<1,CONCATENATE(FIXED((H57/D57*100-100),1),"%"))} -> +3,8% | K57: =(H57-D57)/$D$61*100 -> 0.0056918258
B58: Japonia | C58: 0.71064105 | D58: 0.92149348 | E58: 0.66740965 | F58: 0.75686555 | G58: 0.43888806 | H58: 0.87648709 | I58: =H58/$H$61 -> 0.0012962163 | J58: {=_xlfn.IFS(H58/D58>=2,CONCATENATE("+de ",FIXED(H58/D58,1)," ori"),H58/D58>=1,CONCATENATE("+",FIXED((H58/D58-1)*100,1),"%"),H58/D58<0.5,CONCATENATE("-de ",FIXED(D58/H58,1)," ori"),H58/D58<1,CONCATENATE(FIXED((H58/D58*100-100),1),"%"))} -> -4,9% | K58: =(H58-D58)/$D$61*100 -> -0.0080398379
B59: Macedonia de Nord | C59: 0.5821751 | D59: 0.50821989 | E59: 0.69451853 | F59: 1.3522008 | G59: 1.0216361 | H59: 0.83400469 | I59: =H59/$H$61 -> 0.0012333901 | J59: {=_xlfn.IFS(H59/D59>=2,CONCATENATE("+de ",FIXED(H59/D59,1)," ori"),H59/D59>=1,CONCATENATE("+",FIXED((H59/D59-1)*100,1),"%"),H59/D59<0.5,CONCATENATE("-de ",FIXED(D59/H59,1)," ori"),H59/D59<1,CONCATENATE(FIXED((H59/D59*100-100),1),"%"))} -> +64,1% | K59: =(H59-D59)/$D$61*100 -> 0.058197446
B60: Vietnam | C60: 1.0509247 | D60: 0.22415981 | E60: 0.61188308 | F60: 0.36503855 | G60: 0.60513828 | H60: 0.64892543 | I60: =H60/$H$61 -> 0.00095968069 | J60: {=_xlfn.IFS(H60/D60>=2,CONCATENATE("+de ",FIXED(H60/D60,1)," ori"),H60/D60>=1,CONCATENATE("+",FIXED((H60/D60-1)*100,1),"%"),H60/D60<0.5,CONCATENATE("-de ",FIXED(D60/H60,1)," ori"),H60/D60<1,CONCATENATE(FIXED((H60/D60*100-100),1),"%"))} -> +de 2,9 ori | K60: =(H60-D60)/$D$61*100 -> 0.075879152
B61: Total | C61: 656.5979 | D61: 559.79226 | E61: 756.09632 | F61: 865.43771 | G61: 728.52982 | H61: 676.1889 | I61: =H61/$H$61 -> 1 | J61: {=_xlfn.IFS(H61/D61>=2,CONCATENATE("+de ",FIXED(H61/D61,1)," ori"),H61/D61>=1,CONCATENATE("+",FIXED((H61/D61-1)*100,1),"%"),H61/D61<0.5,CONCATENATE("-de ",FIXED(D61/H61,1)," ori"),H61/D61<1,CONCATENATE(FIXED((H61/D61*100-100),1),"%"))} -> +20,8% | K61: =(H61-D61)/$D$61*100 -> 20.792829
B62: * date revizuite
...

Sheet c5
B2: Anexa 5. Importul de bunuri pe grupuri de ţări, conform balanței de plăți, pentru anul 2025 - trimestrul II 2026
C4: 2025 | G4: 2026 | I4: Ponderea Tr. II 2026 | J4: Tr. II 2026 / Tr. II 2025 | K4: Gradul de influenţă** (p.p.)
C5: Tr. I* | D5: Tr. II* | E5: Tr. III* | F5: Tr. IV* | G5: Tr. I* | H5: Tr. II
C6: milioane EUR
B7: Uniunea Europeană, dintre care: | C7: 1431.4242 | D7: 1295.9956 | E7: 1325.4246 | F7: 1597.4695 | G7: 1417.0722 | H7: 1436.8828 | I7: =H7/$H$68 -> 0.61505742 | J7: {=_xlfn.IFS(H7/D7>=2,CONCATENATE("+de ",FIXED(H7/D7,1)," ori"),H7/D7>=1,CONCATENATE("+",FIXED((H7/D7-1)*100,1),"%"),H7/D7<0.5,CONCATENATE("-de ",FIXED(D7/H7,1)," ori"),H7/D7<1,CONCATENATE(FIXED((H7/D7*100-100),1),"%"))} -> +10,9% | K7: =(H7-D7)/$D$68*100 -> 6.7353946
B8: România | C8: 633.47062 | D8: 509.9011 | E8: 522.13341 | F8: 554.01871 | G8: 602.18391 | H8: 627.34044 | I8: =H8/$H$68 -> 0.26853296 | J8: {=_xlfn.IFS(H8/D8>=2,CONCATENATE("+de ",FIXED(H8/D8,1)," ori"),H8/D8>=1,CONCATENATE("+",FIXED((H8/D8-1)*100,1),"%"),H8/D8<0.5,CONCATENATE("-de ",FIXED(D8/H8,1)," ori"),H8/D8<1,CONCATENATE(FIXED((H8/D8*100-100),1),"%"))} -> +23,0% | K8: =(H8-D8)/$D$68*100 -> 5.6144254
B9: Germania | C9: 139.72786 | D9: 145.89543 | E9: 157.18685 | F9: 184.10602 | G9: 145.2409 | H9: 162.24792 | I9: =H9/$H$68 -> 0.069450193 | J9: {=_xlfn.IFS(H9/D9>=2,CONCATENATE("+de ",FIXED(H9/D9,1)," ori"),H9/D9>=1,CONCATENATE("+",FIXED((H9/D9-1)*100,1),"%"),H9/D9<0.5,CONCATENATE("-de ",FIXED(D9/H9,1)," ori"),H9/D9<1,CONCATENATE(FIXED((H9/D9*100-100),1),"%"))} -> +11,2% | K9: =(H9-D9)/$D$68*100 -> 0.78176388
B10: Polonia | C10: 100.36389 | D10: 111.27353 | E10: 114.09833 | F10: 125.204 | G10: 97.353041 | H10: 110.39746 | I10: =H10/$H$68 -> 0.047255612 | J10: {=_xlfn.IFS(H10/D10>=2,CONCATENATE("+de ",FIXED(H10/D10,1)," ori"),H10/D10>=1,CONCATENATE("+",FIXED((H10/D10-1)*100,1),"%"),H10/D10<0.5,CONCATENATE("-de ",FIXED(D10/H10,1)," ori"),H10/D10<1,CONCATENATE(FIXED((H10/D10*100-100),1),"%"))} -> -0,8% | K10: =(H10-D10)/$D$68*100 -> -0.041882481
B11: Italia | C11: 73.279349 | D11: 89.416444 | E11: 82.394038 | F11: 98.894227 | G11: 74.896314 | H11: 91.68309 | I11: =H11/$H$68 -> 0.03924493 | J11: {=_xlfn.IFS(H11/D11>=2,CONCATENATE("+de ",FIXED(H11/D11,1)," ori"),H11/D11>=1,CONCATENATE("+",FIXED((H11/D11-1)*100,1),"%"),H11/D11<0.5,CONCATENATE("-de ",FIXED(D11/H11,1)," ori"),H11/D11<1,CONCATENATE(FIXED((H11/D11*100-100),1),"%"))} -> +2,5% | K11: =(H11-D11)/$D$68*100 -> 0.10836159
B12: Cehia | C12: 48.911109 | D12: 56.135669 | E12: 60.720358 | F12: 71.010274 | G12: 62.393375 | H12: 83.609567 | I12: =H12/$H$68 -> 0.03578906 | J12: {=_xlfn.IFS(H12/D12>=2,CONCATENATE("+de ",FIXED(H12/D12,1)," ori"),H12/D12>=1,CONCATENATE("+",FIXED((H12/D12-1)*100,1),"%"),H12/D12<0.5,CONCATENATE("-de ",FIXED(D12/H12,1)," ori"),H12/D12<1,CONCATENATE(FIXED((H12/D12*100-100),1),"%"))} -> +48,9% | K12: =(H12-D12)/$D$68*100 -> 1.3134453
B13: Olanda | C13: 61.821779 | D13: 55.355571 | E13: 50.11884 | F13: 68.686966 | G13: 49.288289 | H13: 51.065253 | I13: =H13/$H$68 -> 0.021858473 | J13: {=_xlfn.IFS(H13/D13>=2,CONCATENATE("+de ",FIXED(H13/D13,1)," ori"),H13/D13>=1,CONCATENATE("+",FIXED((H13/D13-1)*100,1),"%"),H13/D13<0.5,CONCATENATE("-de ",FIXED(D13/H13,1)," ori"),H13/D13<1,CONCATENATE(FIXED((H13/D13*100-100),1),"%"))} -> -7,8% | K13: =(H13-D13)/$D$68*100 -> -0.2051073
B14: Bulgaria | C14: 33.541516 | D14: 40.844562 | E14: 60.559944 | F14: 48.135098 | G14: 38.815954 | H14: 49.785364 | I14: =H14/$H$68 -> 0.021310616 | J14: {=_xlfn.IFS(H14/D14>=2,CONCATENATE("+de ",FIXED(H14/D14,1)," ori"),H14/D14>=1,CONCATENATE("+",FIXED((H14/D14-1)*100,1),"%"),H14/D14<0.5,CONCATENATE("-de ",FIXED(D14/H14,1)," ori"),H14/D14<1,CONCATENATE(FIXED((H14/D14*100-100),1),"%"))} -> +21,9% | K14: =(H14-D14)/$D$68*100 -> 0.42743312
B15: Ungaria | C15: 32.019197 | D15: 53.477933 | E15: 41.695531 | F15: 48.210889 | G15: 46.370875 | H15: 42.570241 | I15: =H15/$H$68 -> 0.018222184 | J15: {=_xlfn.IFS(H15/D15>=2,CONCATENATE("+de ",FIXED(H15/D15,1)," ori"),H15/D15>=1,CONCATENATE("+",FIXED((H15/D15-1)*100,1),"%"),H15/D15<0.5,CONCATENATE("-de ",FIXED(D15/H15,1)," ori"),H15/D15<1,CONCATENATE(FIXED((H15/D15*100-100),1),"%"))} -> -20,4% | K15: =(H15-D15)/$D$68*100 -> -0.52146426
B16: Franţa | C16: 46.756537 | D16: 38.135513 | E16: 45.915387 | F16: 44.592069 | G16: 36.040447 | H16: 32.002093 | I16: =H16/$H$68 -> 0.01369849 | J16: {=_xlfn.IFS(H16/D16>=2,CONCATENATE("+de ",FIXED(H16/D16,1)," ori"),H16/D16>=1,CONCATENATE("+",FIXED((H16/D16-1)*100,1),"%"),H16/D16<0.5,CONCATENATE("-de ",FIXED(D16/H16,1)," ori"),H16/D16<1,CONCATENATE(FIXED((H16/D16*100-100),1),"%"))} -> -16,1% | K16: =(H16-D16)/$D$68*100 -> -0.29322055
B17: Austria | C17: 99.553955 | D17: 38.4805 | E17: 38.87877 | F17: 73.949089 | G17: 76.906102 | H17: 30.411678 | I17: =H17/$H$68 -> 0.013017713 | J17: {=_xlfn.IFS(H17/D17>=2,CONCATENATE("+de ",FIXED(H17/D17,1)," ori"),H17/D17>=1,CONCATENATE("+",FIXED((H17/D17-1)*100,1),"%"),H17/D17<0.5,CONCATENATE("-de ",FIXED(D17/H17,1)," ori"),H17/D17<1,CONCATENATE(FIXED((H17/D17*100-100),1),"%"))} -> -21,0% | K17: =(H17-D17)/$D$68*100 -> -0.38574637
B18: Belgia | C18: 26.567717 | D18: 26.133662 | E18: 22.221321 | F18: 28.430573 | G18: 25.729423 | H18: 27.234892 | I18: =H18/$H$68 -> 0.011657891 | J18: {=_xlfn.IFS(H18/D18>=2,CONCATENATE("+de ",FIXED(H18/D18,1)," ori"),H18/D18>=1,CONCATENATE("+",FIXED((H18/D18-1)*100,1),"%"),H18/D18<0.5,CONCATENATE("-de ",FIXED(D18/H18,1)," ori"),H18/D18<1,CONCATENATE(FIXED((H18/D18*100-100),1),"%"))} -> +4,2% | K18: =(H18-D18)/$D$68*100 -> 0.052646515
... B68: Total | C68: 2214.1074 | D68: 2091.7429 | E68: 2178.7631 | F68: 2458.8385 | G68: 2187.7058 | H68: 2336.1767 | I68: =H68/$H$68 -> 1 | J68: {=_xlfn.IFS(H68/D68>=2,CONCATENATE("+de ",FIXED(H68/D68,1)," ori"),H68/D68>=1,CONCATENATE("+",FIXED((H68/D68-1)*100,1),"%"),H68/D68<0.5,CONCATENATE("-de ",FIXED(D68/H68,1)," ori"),H68/D68<1,CONCATENATE(FIXED((H68/D68*100-100),1),"%"))} -> +11,7% | K68: =(H68-D68)/$D$68*100 -> 11.68565
B69: * date revizuite
B70: ** gradul de influenţă la creşterea (+), scăderea (-) exportului de bunuri

Sheet c6
B2: Anexa 6. Exportul de bunuri pe principalele categorii de mărfuri, conform balanței de plăți, pentru anul 2025 - trimestrul II 2026
C4: 2025 | G4: 2026 | I4: Ponderea Tr. II 2026 | J4: Tr. II 2026 / Tr. II 2025 | K4: Gradul de influenţă** (p.p.)
C5: Tr. I* | D5: Tr. II* | E5: Tr. III* | F5: Tr. IV* | G5: Tr. I* | H5: Tr. II
C6: milioane EUR
B7: I. Animale vii şi produse ale regnului animal | C7: 8.9236402 | D7: 8.4759507 | E7: 7.199567 | F7: 11.033413 | G7: 9.3937266 | H7: 8.2169576 | I7: =H7/$H$26 -> 0.012151867 | J7: {=_xlfn.IFS(H7/D7>=2,CONCATENATE("+de ",FIXED(H7/D7,1)," ori"),H7/D7>=1,CONCATENATE("+",FIXED((H7/D7-1)*100,1),"%"),H7/D7<0.5,CONCATENATE("-de ",FIXED(D7/H7,1)," ori"),H7/D7<1,CONCATENATE(FIXED((H7/D7*100-100),1),"%"))} -> -3,1% | K7: =(H7-D7)/$D$26*100 -> -0.046265917
B8: II. Produse ale regnului vegetal | C8: 237.10273 | D8: 150.71487 | E8: 321.45469 | F8: 346.34016 | G8: 315.96474 | H8: 214.99627 | I8: =H8/$H$26 -> 0.31795297 | J8: {=_xlfn.IFS(H8/D8>=2,CONCATENATE("+de ",FIXED(H8/D8,1)," ori"),H8/D8>=1,CONCATENATE("+",FIXED((H8/D8-1)*100,1),"%"),H8/D8<0.5,CONCATENATE("-de ",FIXED(D8/H8,1)," ori"),H8/D8<1,CONCATENATE(FIXED((H8/D8*100-100),1),"%"))} -> +42,7% | K8: =(H8-D8)/$D$26*100 -> 11.48308
B9: III. Grăsimi şi uleiuri de origine animală sau vegetală, şi produse ale disocierii acestora | C9: 18.436947 | D9: 8.4740485 | E9: 24.590151 | F9: 61.594166 | G9: 20.837937 | H9: 32.452191 | I9: =H9/$H$26 -> 0.047992788 | J9: {=_xlfn.IFS(H9/D9>=2,CONCATENATE("+de ",FIXED(H9/D9,1)," ori"),H9/D9>=1,CONCATENATE("+",FIXED((H9/D9-1)*100,1),"%"),H9/D9<0.5,CONCATENATE("-de ",FIXED(D9/H9,1)," ori"),H9/D9<1,CONCATENATE(FIXED((H9/D9*100-100),1),"%"))} -> +de 3,8 ori | K9: =(H9-D9)/$D$26*100 -> 4.2834001
B10: IV. Produse ale industriei alimentare; băuturi, lichide alcoolice şi oţet; tutun şi înlocuitori de tutun prelucrat | C10: 99.799415 | D10: 92.412713 | E10: 95.618216 | F10: 126.46639 | G10: 97.78695 | H10: 95.820899 | I10: =H10/$H$26 -> 0.14170729 | J10: {=_xlfn.IFS(H10/D10>=2,CONCATENATE("+de ",FIXED(H10/D10,1)," ori"),H10/D10>=1,CONCATENATE("+",FIXED((H10/D10-1)*100,1),"%"),H10/D10<0.5,CONCATENATE("-de ",FIXED(D10/H10,1)," ori"),H10/D10<1,CONCATENATE(FIXED((H10/D10*100-100),1),"%"))} -> +3,7% | K10: =(H10-D10)/$D$26*100 -> 0.60883057
B11: V. Produse minerale | C11: 49.766386 | D11: 38.637022 | E11: 45.631164 | F11: 62.102371 | G11: 46.938231 | H11: 42.624095 | I11: =H11/$H$26 -> 0.06303578 | J11: {=_xlfn.IFS(H11/D11>=2,CONCATENATE("+de ",FIXED(H11/D11,1)," ori"),H11/D11>=1,CONCATENATE("+",FIXED((H11/D11-1)*100,1),"%"),H11/D11<0.5,CONCATENATE("-de ",FIXED(D11/H11,1)," ori"),H11/D11<1,CONCATENATE(FIXED((H11/D11*100-100),1),"%"))} -> +10,3% | K11: =(H11-D11)/$D$26*100 -> 0.71224162
B12: VI. Produse ale industriei chimice | C12: 17.665013 | D12: 18.439636 | E12: 25.852525 | F12: 21.661543 | G12: 19.841316 | H12: 21.527636 | I12: =H12/$H$26 -> 0.03183672 | J12: {=_xlfn.IFS(H12/D12>=2,CONCATENATE("+de ",FIXED(H12/D12,1)," ori"),H12/D12>=1,CONCATENATE("+",FIXED((H12/D12-1)*100,1),"%"),H12/D12<0.5,CONCATENATE("-de ",FIXED(D12/H12,1)," ori"),H12/D12<1,CONCATENATE(FIXED((H12/D12*100-100),1),"%"))} -> +16,7% | K12: =(H12-D12)/$D$26*100 -> 0.55163338
B13: VII. Materiale plastice, cauciuc şi articole din acestea | C13: 12.457634 | D13: 11.488465 | E13: 9.5590122 | F13: 10.86212 | G13: 9.3033248 | H13: 13.229044 | I13: =H13/$H$26 -> 0.019564125 | J13: {=_xlfn.IFS(H13/D13>=2,CONCATENATE("+de ",FIXED(H13/D13,1)," ori"),H13/D13>=1,CONCATENATE("+",FIXED((H13/D13-1)*100,1),"%"),H13/D13<0.5,CONCATENATE("-de ",FIXED(D13/H13,1)," ori"),H13/D13<1,CONCATENATE(FIXED((H13/D13*100-100),1),"%"))} -> +15,2% | K13: =(H13-D13)/$D$26*100 -> 0.31093309
B14: VIII. Piei brute, piei finite, piei cu blană şi produse din acestea | C14: 0.37536944 | D14: 0.49978425 | E14: 0.52335883 | F14: 0.66936426 | G14: 0.72540446 | H14: 0.8707674 | I14: =H14/$H$26 -> 0.0012877576 | J14: {=_xlfn.IFS(H14/D14>=2,CONCATENATE("+de ",FIXED(H14/D14,1)," ori"),H14/D14>=1,CONCATENATE("+",FIXED((H14/D14-1)*100,1),"%"),H14/D14<0.5,CONCATENATE("-de ",FIXED(D14/H14,1)," ori"),H14/D14<1,CONCATENATE(FIXED((H14/D14*100-100),1),"%"))} -> +74,2% | K14: =(H14-D14)/$D$26*100 -> 0.066271576
B15: IX. Lemn, cărbune de lemn şi articole din lemn | C15: 4.5457246 | D15: 5.0417564 | E15: 4.7286387 | F15: 4.3129926 | G15: 4.5166695 | H15: 5.8843403 | I15: =H15/$H$26 -> 0.0087022137 | J15: {=_xlfn.IFS(H15/D15>=2,CONCATENATE("+de ",FIXED(H15/D15,1)," ori"),H15/D15>=1,CONCATENATE("+",FIXED((H15/D15-1)*100,1),"%"),H15/D15<0.5,CONCATENATE("-de ",FIXED(D15/H15,1)," ori"),H15/D15<1,CONCATENATE(FIXED((H15/D15*100-100),1),"%"))} -> +16,7% | K15: =(H15-D15)/$D$26*100 -> 0.15051725
B16: X. Pastă din lemn sau din alte materiale fibroase celulozice | C16: 4.6953141 | D16: 5.9427819 | E16: 5.5337272 | F16: 5.4305069 | G16: 4.7493766 | H16: 4.9527264 | I16: =H16/$H$26 -> 0.0073244715 | J16: {=_xlfn.IFS(H16/D16>=2,CONCATENATE("+de ",FIXED(H16/D16,1)," ori"),H16/D16>=1,CONCATENATE("+",FIXED((H16/D16-1)*100,1),"%"),H16/D16<0.5,CONCATENATE("-de ",FIXED(D16/H16,1)," ori"),H16/D16<1,CONCATENATE(FIXED((H16/D16*100-100),1),"%"))} -> -16,7% | K16: =(H16-D16)/$D$26*100 -> -0.17686123
B17: XI. Materiale textile şi articole din aceste materiale | C17: 10.240909 | D17: 9.3914778 | E17: 8.6182567 | F17: 10.929224 | G17: 9.8347291 | H17: 10.553415 | I17: =H17/$H$26 -> 0.0156072 | J17: {=_xlfn.IFS(H17/D17>=2,CONCATENATE("+de ",FIXED(H17/D17,1)," ori"),H17/D17>=1,CONCATENATE("+",FIXED((H17/D17-1)*100,1),"%"),H17/D17<0.5,CONCATENATE("-de ",FIXED(D17/H17,1)," ori"),H17/D17<1,CONCATENATE(FIXED((H17/D17*100-100),1),"%"))} -> +12,4% | K17: =(H17-D17)/$D$26*100 -> 0.20756583
B18: XII. Încălţăminte, obiecte de acoperit capul, umbrele, bastoane, bice, părţi ale acestora; pene şi puf prelucrate şi articole din acestea; flori artificiale | C18: 1.1587157 | D18: 2.2937865 | E18: 3.1950308 | F18: 2.4177521 | G18: 2.8942612 | H18: 3.494031 | I18: =H18/$H$26 -> 0.005167241 | J18: {=_xlfn.IFS(H18/D18>=2,CONCATENATE("+de ",FIXED(H18/D18,1)," ori"),H18/D18>=1,CONCATENATE("+",FIXED((H18/D18-1)*100,1),"%"),H18/D18<0.5,CONCATENATE("-de ",FIXED(D18/H18,1)," ori"),H18/D18<1,CONCATENATE(FIXED((H18/D18*100-100),1),"%"))} -> +52,3% | K18: =(H18-D18)/$D$26*100 -> 0.21440892
... B26: Total | C26: 656.5979 | D26: 559.79226 | E26: 756.09632 | F26: 865.43771 | G26: 728.52982 | H26: 676.1889 | I26: =H26/$H$26 -> 1 | J26: {=_xlfn.IFS(H26/D26>=2,CONCATENATE("+de ",FIXED(H26/D26,1)," ori"),H26/D26>=1,CONCATENATE("+",FIXED((H26/D26-1)*100,1),"%"),H26/D26<0.5,CONCATENATE("-de ",FIXED(D26/H26,1)," ori"),H26/D26<1,CONCATENATE(FIXED((H26/D26*100-100),1),"%"))} -> +20,8% | K26: =(H26-D26)/$D$26*100 -> 20.792829
B27: * date revizuite
B28: ** gradul de influenţă la creşterea (+), scăderea (-) exportului de bunuri

Sheet c7
B2: Anexa 7. Importul de bunuri pe principalele categorii de mărfuri, conform balanței de plăți, pentru anul 2025 - trimestrul II 2026
C4: 2025 | G4: 2026 | I4: Ponderea Tr. II 2026 | J4: Tr. II 2026 / Tr. II 2025 | K4: Gradul de influenţă** (p.p.)
C5: Tr. I* | D5: Tr. II* | E5: Tr. III* | F5: Tr. IV* | G5: Tr. I* | H5: Tr. II
C6: milioane EUR
B7: I. Animale vii şi produse ale regnului animal | C7: 82.677301 | D7: 78.955792 | E7: 90.073668 | F7: 96.366022 | G7: 88.133598 | H7: 80.760017 | I7: =H7/$H$26 -> 0.034569311 | J7: {=_xlfn.IFS(H7/D7>=2,CONCATENATE("+de ",FIXED(H7/D7,1)," ori"),H7/D7>=1,CONCATENATE("+",FIXED((H7/D7-1)*100,1),"%"),H7/D7<0.5,CONCATENATE("-de ",FIXED(D7/H7,1)," ori"),H7/D7<1,CONCATENATE(FIXED((H7/D7*100-100),1),"%"))} -> +2,3% | K7: =(H7-D7)/$D$26*100 -> 0.08625464
B8: II. Produse ale regnului vegetal | C8: 147.56829 | D8: 98.722446 | E8: 66.020868 | F8: 99.262746 | G8: 144.28394 | H8: 133.1846 | I8: =H8/$H$26 -> 0.057009646 | J8: {=_xlfn.IFS(H8/D8>=2,CONCATENATE("+de ",FIXED(H8/D8,1)," ori"),H8/D8>=1,CONCATENATE("+",FIXED((H8/D8-1)*100,1),"%"),H8/D8<0.5,CONCATENATE("-de ",FIXED(D8/H8,1)," ori"),H8/D8<1,CONCATENATE(FIXED((H8/D8*100-100),1),"%"))} -> +34,9% | K8: =(H8-D8)/$D$26*100 -> 1.6475332
B9: III. Grăsimi şi uleiuri de origine animală sau vegetală, şi produse ale disocierii acestora | C9: 12.272979 | D9: 15.958337 | E9: 9.2906204 | F9: 12.095882 | G9: 11.100373 | H9: 11.30263 | I9: =H9/$H$26 -> 0.0048380887 | J9: {=_xlfn.IFS(H9/D9>=2,CONCATENATE("+de ",FIXED(H9/D9,1)," ori"),H9/D9>=1,CONCATENATE("+",FIXED((H9/D9-1)*100,1),"%"),H9/D9<0.5,CONCATENATE("-de ",FIXED(D9/H9,1)," ori"),H9/D9<1,CONCATENATE(FIXED((H9/D9*100-100),1),"%"))} -> -29,2% | K9: =(H9-D9)/$D$26*100 -> -0.22257547
B10: IV. Produse ale industriei alimentare; băuturi, lichide alcoolice şi oţet; tutun şi înlocuitori de tutun prelucrat | C10: 142.13371 | D10: 153.68372 | E10: 157.81616 | F10: 172.25151 | G10: 143.68884 | H10: 167.26988 | I10: =H10/$H$26 -> 0.071599844 | J10: {=_xlfn.IFS(H10/D10>=2,CONCATENATE("+de ",FIXED(H10/D10,1)," ori"),H10/D10>=1,CONCATENATE("+",FIXED((H10/D10-1)*100,1),"%"),H10/D10<0.5,CONCATENATE("-de ",FIXED(D10/H10,1)," ori"),H10/D10<1,CONCATENATE(FIXED((H10/D10*100-100),1),"%"))} -> +8,8% | K10: =(H10-D10)/$D$26*100 -> 0.64951409
B11: V. Produse minerale | C11: 494.62659 | D11: 340.07368 | E11: 389.35176 | F11: 501.97912 | G11: 484.97437 | H11: 460.61409 | I11: =H11/$H$26 -> 0.19716578 | J11: {=_xlfn.IFS(H11/D11>=2,CONCATENATE("+de ",FIXED(H11/D11,1)," ori"),H11/D11>=1,CONCATENATE("+",FIXED((H11/D11-1)*100,1),"%"),H11/D11<0.5,CONCATENATE("-de ",FIXED(D11/H11,1)," ori"),H11/D11<1,CONCATENATE(FIXED((H11/D11*100-100),1),"%"))} -> +35,4% | K11: =(H11-D11)/$D$26*100 -> 5.7626784
B12: VI. Produse ale industriei chimice | C12: 221.17766 | D12: 201.56907 | E12: 202.85887 | F12: 215.78044 | G12: 232.17755 | H12: 228.56387 | I12: =H12/$H$26 -> 0.097836723 | J12: {=_xlfn.IFS(H12/D12>=2,CONCATENATE("+de ",FIXED(H12/D12,1)," ori"),H12/D12>=1,CONCATENATE("+",FIXED((H12/D12-1)*100,1),"%"),H12/D12<0.5,CONCATENATE("-de ",FIXED(D12/H12,1)," ori"),H12/D12<1,CONCATENATE(FIXED((H12/D12*100-100),1),"%"))} -> +13,4% | K12: =(H12-D12)/$D$26*100 -> 1.2905409
B13: VII. Materiale plastice, cauciuc şi articole din acestea | C13: 89.840145 | D13: 103.87811 | E13: 112.30953 | F13: 98.075142 | G13: 85.047416 | H13: 111.60375 | I13: =H13/$H$26 -> 0.047771965 | J13: {=_xlfn.IFS(H13/D13>=2,CONCATENATE("+de ",FIXED(H13/D13,1)," ori"),H13/D13>=1,CONCATENATE("+",FIXED((H13/D13-1)*100,1),"%"),H13/D13<0.5,CONCATENATE("-de ",FIXED(D13/H13,1)," ori"),H13/D13<1,CONCATENATE(FIXED((H13/D13*100-100),1),"%"))} -> +7,4% | K13: =(H13-D13)/$D$26*100 -> 0.36933971
B14: VIII. Piei brute, piei finite, piei cu blană şi produse din acestea | C14: 7.8255463 | D14: 8.6441539 | E14: 9.2131999 | F14: 7.9406253 | G14: 7.9026609 | H14: 8.402015 | I14: =H14/$H$26 -> 0.003596481 | J14: {=_xlfn.IFS(H14/D14>=2,CONCATENATE("+de ",FIXED(H14/D14,1)," ori"),H14/D14>=1,CONCATENATE("+",FIXED((H14/D14-1)*100,1),"%"),H14/D14<0.5,CONCATENATE("-de ",FIXED(D14/H14,1)," ori"),H14/D14<1,CONCATENATE(FIXED((H14/D14*100-100),1),"%"))} -> -2,8% | K14: =(H14-D14)/$D$26*100 -> -0.01157594
B15: IX. Lemn, cărbune de lemn şi articole din lemn | C15: 33.811542 | D15: 39.002348 | E15: 47.255967 | F15: 40.577841 | G15: 32.514298 | H15: 44.187058 | I15: =H15/$H$26 -> 0.018914262 | J15: {=_xlfn.IFS(H15/D15>=2,CONCATENATE("+de ",FIXED(H15/D15,1)," ori"),H15/D15>=1,CONCATENATE("+",FIXED((H15/D15-1)*100,1),"%"),H15/D15<0.5,CONCATENATE("-de ",FIXED(D15/H15,1)," ori"),H15/D15<1,CONCATENATE(FIXED((H15/D15*100-100),1),"%"))} -> +13,3% | K15: =(H15-D15)/$D$26*100 -> 0.24786554
B16: X. Pastă din lemn sau din alte materiale fibroase celulozice | C16: 29.230989 | D16: 29.511975 | E16: 32.429853 | F16: 31.732261 | G16: 27.956429 | H16: 29.973862 | I16: =H16/$H$26 -> 0.012830306 | J16: {=_xlfn.IFS(H16/D16>=2,CONCATENATE("+de ",FIXED(H16/D16,1)," ori"),H16/D16>=1,CONCATENATE("+",FIXED((H16/D16-1)*100,1),"%"),H16/D16<0.5,CONCATENATE("-de ",FIXED(D16/H16,1)," ori"),H16/D16<1,CONCATENATE(FIXED((H16/D16*100-100),1),"%"))} -> +1,6% | K16: =(H16-D16)/$D$26*100 -> 0.022081438
B17: XI. Materiale textile şi articole din aceste materiale | C17: 74.382034 | D17: 72.335704 | E17: 84.032888 | F17: 76.493501 | G17: 71.53744 | H17: 74.110564 | I17: =H17/$H$26 -> 0.031723014 | J17: {=_xlfn.IFS(H17/D17>=2,CONCATENATE("+de ",FIXED(H17/D17,1)," ori"),H17/D17>=1,CONCATENATE("+",FIXED((H17/D17-1)*100,1),"%"),H17/D17<0.5,CONCATENATE("-de ",FIXED(D17/H17,1)," ori"),H17/D17<1,CONCATENATE(FIXED((H17/D17*100-100),1),"%"))} -> +2,5% | K17: =(H17-D17)/$D$26*100 -> 0.084850765
B18: XII. Încălţăminte, obiecte de acoperit capul, umbrele, bastoane, bice, părţi ale acestora; pene şi puf prelucrate şi articole din acestea; flori artificiale | C18: 17.025567 | D18: 14.857621 | E18: 17.210678 | F18: 15.11637 | G18: 14.125799 | H18: 13.225261 | I18: =H18/$H$26 -> 0.0056610705 | J18: {=_xlfn.IFS(H18/D18>=2,CONCATENATE("+de ",FIXED(H18/D18,1)," ori"),H18/D18>=1,CONCATENATE("+",FIXED((H18/D18-1)*100,1),"%"),H18/D18<0.5,CONCATENATE("-de ",FIXED(D18/H18,1)," ori"),H18/D18<1,CONCATENATE(FIXED((H18/D18*100-100),1),"%"))} -> -11,0% | K18: =(H18-D18)/$D$26*100 -> -0.078038263
... B26: Total | C26: 2214.1074 | D26: 2091.7429 | E26: 2178.7631 | F26: 2458.8385 | G26: 2187.7058 | H26: 2336.1767 | I26: =H26/$H$26 -> 1 | J26: {=_xlfn.IFS(H26/D26>=2,CONCATENATE("+de ",FIXED(H26/D26,1)," ori"),H26/D26>=1,CONCATENATE("+",FIXED((H26/D26-1)*100,1),"%"),H26/D26<0.5,CONCATENATE("-de ",FIXED(D26/H26,1)," ori"),H26/D26<1,CONCATENATE(FIXED((H26/D26*100-100),1),"%"))} -> +11,7% | K26: =(H26-D26)/$D$26*100 -> 11.68565
B27: *date revizuite
B28: ** gradul de influenţă la creşterea (+), scăderea (-) importului de bunuri

Sheet c8
B2: Anexa 8. Reexportul de bunuri, conform statisticii comerțului internațional cu bunuri (IMTS) fără bunurile pentru/după prelucrare, pe grupuri de ţări, pentru anul 2025 - trimestrul II 2026
C4: 2025 | G4: 2026 | I4: Ponderea Tr. II 2026 | J4: Tr. II 2026 / Tr. II 2025 | K4: Gradul de influenţă** (p.p.)
C5: Tr. I* | D5: Tr. II* | E5: Tr. III* | F5: Tr. IV* | G5: Tr. I* | H5: Tr. II
C6: milioane EUR
B7: Uniunea Europeană, dintre care: | C7: 31.545738 | D7: 36.788797 | E7: 36.184298 | F7: 33.49555 | G7: 29.503408 | H7: 33.843787 | I7: =H7/$H$43 -> 0.42704141 | J7: {=_xlfn.IFS(H7/D7>=2,CONCATENATE("+de ",FIXED(H7/D7,1)," ori"),H7/D7>=1,CONCATENATE("+",FIXED((H7/D7-1)*100,1),"%"),H7/D7<0.5,CONCATENATE("-de ",FIXED(D7/H7,1)," ori"),H7/D7<1,CONCATENATE(FIXED((H7/D7*100-100),1),"%"))} -> -8,0% | K7: =(H7-D7)/$D$43*100 -> -3.8099197
B8: România | C8: 11.894076 | D8: 12.131289 | E8: 12.468277 | F8: 12.93784 | G8: 10.738603 | H8: 12.007783 | I8: =H8/$H$43 -> 0.15151439 | J8: {=_xlfn.IFS(H8/D8>=2,CONCATENATE("+de ",FIXED(H8/D8,1)," ori"),H8/D8>=1,CONCATENATE("+",FIXED((H8/D8-1)*100,1),"%"),H8/D8<0.5,CONCATENATE("-de ",FIXED(D8/H8,1)," ori"),H8/D8<1,CONCATENATE(FIXED((H8/D8*100-100),1),"%"))} -> -1,0% | K8: =(H8-D8)/$D$43*100 -> -0.15977819
B9: Germania | C9: 4.6615753 | D9: 4.983145 | E9: 4.8227455 | F9: 5.1921847 | G9: 7.5199289 | H9: 7.3330523 | I9: =H9/$H$43 -> 0.092528564 | J9: {=_xlfn.IFS(H9/D9>=2,CONCATENATE("+de ",FIXED(H9/D9,1)," ori"),H9/D9>=1,CONCATENATE("+",FIXED((H9/D9-1)*100,1),"%"),H9/D9<0.5,CONCATENATE("-de ",FIXED(D9/H9,1)," ori"),H9/D9<1,CONCATENATE(FIXED((H9/D9*100-100),1),"%"))} -> +47,2% | K9: =(H9-D9)/$D$43*100 -> 3.0400441
B10: Bulgaria | C10: 0.58487946 | D10: 1.3882131 | E10: 2.3000439 | F10: 1.8013249 | G10: 0.73705509 | H10: 3.7056714 | I10: =H10/$H$43 -> 0.046758217 | J10: {=_xlfn.IFS(H10/D10>=2,CONCATENATE("+de ",FIXED(H10/D10,1)," ori"),H10/D10>=1,CONCATENATE("+",FIXED((H10/D10-1)*100,1),"%"),H10/D10<0.5,CONCATENATE("-de ",FIXED(D10/H10,1)," ori"),H10/D10<1,CONCATENATE(FIXED((H10/D10*100-100),1),"%"))} -> +de 2,7 ori | K10: =(H10-D10)/$D$43*100 -> 2.9980652
B11: Ungaria | C11: 1.7444178 | D11: 2.0367966 | E11: 2.3631251 | F11: 1.9624475 | G11: 2.0788089 | H11: 2.2478772 | I11: =H11/$H$43 -> 0.028363748 | J11: {=_xlfn.IFS(H11/D11>=2,CONCATENATE("+de ",FIXED(H11/D11,1)," ori"),H11/D11>=1,CONCATENATE("+",FIXED((H11/D11-1)*100,1),"%"),H11/D11<0.5,CONCATENATE("-de ",FIXED(D11/H11,1)," ori"),H11/D11<1,CONCATENATE(FIXED((H11/D11*100-100),1),"%"))} -> +10,4% | K11: =(H11-D11)/$D$43*100 -> 0.27307212
B12: Franța | C12: 0.64876717 | D12: 1.3623097 | E12: 0.9418103 | F12: 0.56347874 | G12: 2.272094 | H12: 2.2206553 | I12: =H12/$H$43 -> 0.028020261 | J12: {=_xlfn.IFS(H12/D12>=2,CONCATENATE("+de ",FIXED(H12/D12,1)," ori"),H12/D12>=1,CONCATENATE("+",FIXED((H12/D12-1)*100,1),"%"),H12/D12<0.5,CONCATENATE("-de ",FIXED(D12/H12,1)," ori"),H12/D12<1,CONCATENATE(FIXED((H12/D12*100-100),1),"%"))} -> +63,0% | K12: =(H12-D12)/$D$43*100 -> 1.1104303
